{"text_format":"1","workbook":"xlsx","n_sheets":6,"sheets":["INSTRUCTIVO DE USO","PPII_YNC","OBLIGACIONES APLICABLES","Asuntos radicación","Temp","Hoja2"],"not_rendered":{"charts":0,"images":2,"macros":1,"external_links":0,"defined_names":4,"comments":1,"pivot_tables":0},"unopened":[],"bounds":{"document_bytes":16777216,"sheet_cells":100000,"rows_first":2000,"rows_last":500,"rows_between":2000,"halvings":0,"cell_chars":16384,"cell_head_chars":4096},"cells_cut":0,"cells_raw":0,"read":"whole","date_system":"1900"}

{"sheet":"INSTRUCTIVO DE USO","index":0,"n_rows":11,"n_cols":3,"rows_kept":11,"cut":false,"hidden":false,"merged":[[10,0,10,12],[0,0,0,1],[0,2,0,12],[2,0,2,12],[4,0,5,12],[7,0,8,12]]}
[null,null,"INSTRUCTIVO DE USO DEL INSTRUMENTO DE OBLIGACIONES MÍNIMAS "]
[]
["1. INTRODUCCIÓN\n\nLas Obligaciones Mínimas son un instrumento interno de la Autoridad Nacional de Licencias Ambientales – ANLA formulado con el fin de unificar criterios por parte de los profesionales que realizan la evaluación y seguimiento de proyectos, obras o actividades sujetos al trámite de licenciamiento ambiental, mediante la estandarización de obligaciones mínimas asociadas al acto administrativo a través del cual se otorga o modifica la licencia ambiental, se actualizan los planes de manejo ambiental y se imponen medidas adicionales, de tal manera que se asegure que en cada tipo de proyecto se impongan las mismas obligaciones estandarizadas bajo requerimientos legales y directrices institucionales, así como con condiciones unificadas y claramente definidas de modo, tiempo y lugar.\n\nEs importante resaltar que, este instrumento al ser interno facilita la labor de esta autoridad en la imposición de obligaciones mínimas en los procesos de evaluación y seguimiento (este último en los casos estrictamente aplicables), y en la verificación del cumplimiento de las mismas en el seguimiento. Sin embargo, al ser puesto a disposición de los usuarios o solicitantes de licencias ambientales servirá como herramienta de planeación de los proyectos, obras o actividades sujetos a licenciamiento, de tal manera que previo a la radicación de los estudios ambientales frente a esta autoridad, las obligaciones puedan ser incorporadas por los usuarios en la formulación de los Planes de Manejo Ambiental - PMA\n\nPor lo anterior, a continuación se realizan algunas precisiones a los solicitantes de licencias ambientales cuando estos deseen consultar y hacer uso de este instrumento durante el proceso de formulación de sus PMA."]
[]
["2. DEFINICIONES\n\nCondición de lugar: (dónde) lugares o puntos en los que debe desarrollarse la actividad según experticia del evaluador o según protocolos, guías, normativa en general, etc.\nCondición de modo: (cómo) descripción de las características o circunstancias en las que se deben realizar las actividades autorizadas, según protocolos, guías, normativa en general y aspectos administrativos que se definan.\nCondición de tiempo: (cuándo) periodicidad para la ejecución de monitoreos, tiempos de realización de actividades, tiempos de presentación de la información, etc.\nObligaciones mínimas: Describen las condiciones mínimas de modo, tiempo y lugar a través de las cuales la Autoridad Ambiental, autoriza la ejecución de un proyecto, obra o actividad sujeto legalmente al trámite de Licenciamiento Ambiental, identificando los permisos, autorizaciones y/o concesiones cuando sea el caso, de conformidad con cada subsector (tipo de proyecto). En razón a lo anterior, se clasifican las obligaciones mínimas, de conformidad con las características de las condiciones reglamentadas, de la siguiente manera: obligaciones de uso, aprovechamiento y/o afectación de recursos naturales, obligaciones asociadas a componentes y actividades, obligaciones asociadas a planes, obligaciones socioeconómicas, obligaciones generales y requisitos del acto administrativo. \nObligaciones de uso, aprovechamiento y/o afectación de recursos naturales: están relacionadas con las autorizaciones y/o permisos otorgados para el uso, aprovechamiento y/o afectación de los recursos naturales, tales como: emisiones atmosféricas, ruido, aprovechamiento forestal, concesión aguas subterráneas, exploración de aguas subterráneas, concesión aguas superficiales, ocupación de cauce, vertimiento en agua superficial, vertimiento en suelo, entre otras.\nObligaciones asociadas a componentes y actividades: contiene obligaciones relacionadas con algunos componentes y actividades propias del proyecto, obra o actividad, tales como: adecuación / construcción de vías existentes de apoyo al proyecto, almacenamiento de materiales de construcción, almacenamiento de combustibles y productos químicos, compra de agua, recirculación de agua residual, entrega de aguas residuales para reúso, entrega de aguas residuales a terceros, materiales de construcción, gestión de residuos, zonas de disposición de material sobrante de excavaciones, entre otras.\nObligaciones asociadas a Planes: contiene obligaciones relacionadas con la ejecución y cumplimiento de algunos planes definidos en la licencia ambiental de un proyecto, tales como: plan de compensación del medio biótico, plan de gestión del riesgo, plan de desmantelamiento y abandono y plan de inversión de no menos del 1%.\nObligaciones socioeconómicas: contienen obligaciones relacionadas con temas, tales como: gestión social y valoración económica.\nObligaciones generales: agrupa diferentes aspectos relacionados con cumplimiento de parámetros normativos, presentación de Informes de Cumplimiento Ambiental – ICA, notificaciones de cambios menores, solicitudes de modificación de licencia ambiental y demás condiciones generales a ser tenidas en cuenta por parte del titular de la licencia. La inclusión por parte de los profesionales jurídicos de este tipo de obligaciones, deberá realizarse en todas las licencias ambientales, sin importar el tipo de proyecto. En caso de que el solicitante de la licencia ambiental haga uso de este instrumento durante el proceso de formulación de su PMA, no deberá tener en cuenta este tipo de obligaciones dada la naturaleza de las mismas.\nRequisitos del acto administrativo: corresponde a aquellas obligaciones de la ANLA frente a cada licencia ambiental. La inclusión por parte de los profesionales jurídicos de este tipo de obligaciones deberá realizarse en todas las licencias ambientales, sin importar el tipo de proyecto. No tienen relación alguna con las fases de desarrollo del proyecto y no son objeto de seguimiento. Algunas de las obligaciones, contienen textos en rojo que deberán ser diligenciados directamente en el acto administrativo por el profesional jurídico, como: nombre y NIT del titular del proyecto. En caso de que el solicitante de la licencia ambiental haga uso de este instrumento durante el proceso de formulación de su PMA, no deberá tenerl en cuenta este tipo de obligaciones dada la naturaleza de las mismas."]
[]
[]
["3. DESARROLLO\n\nEste instrumento representa una estandarización mínima a la luz de las necesidades de cada sector y tipos de proyectos, obras o actividades en todas las regiones, por lo cual, tanto los profesionales de la Autoridad como los usuarios o solicitantes de licencias ambientales, con fundamento en el conocimiento de las condiciones ambientales propias del área (hídricas, climáticas, geomorfológicas, de suelos, etc.) y de las actividades a desarrollar por parte del proyecto, deberán hacer uso de las obligaciones específicas a que haya lugar y en los casos estrictamente necesarios y técnicamente justificados se podrán adaptar aquellas obligaciones mínimas que así lo requieran. \n\nCada archivo contiene tres pestañas u hojas de cálculo. La primera pestaña, hace referencia al tipo de proyecto para el cual se estandarizaron obligaciones asociadas a permisos, autorizaciones y aspectos generales. Esta pestaña cuenta con un encabezado indicando el tipo de proyecto para el cual se estandarizaron obligaciones y con 3 secciones.\n\nLa SECCIÓN 1. PERMISOS, AUTORIZACIONES Y ASPECTOS GENERALES agrupa 5 subsecciones que son descritas a continuación:\n\nSubsección 1. ID (Columna A): corresponde a la numeración de las obligaciones, la cual se encuentra en orden consecutivo.\nSubsección 2. Temática (Columna B): corresponde a la temática abordada en cada uno de los grupos de obligaciones mínimas (obligaciones de uso, aprovechamiento y/o afectación de recursos naturales, obligaciones asociadas a componentes y actividades, obligaciones asociadas a planes, obligaciones socioeconómicas, obligaciones generales y requisitos del acto administrativo).\nSubsección 3. Aspecto a tratar (Columna C): comprende los elementos a los que hace referencia cada obligación, p.e: monitoreo y seguimiento a la calidad del cuerpo de agua donde se realiza la ocupación de cauce, manejo de zonas de disposición de material sobrante de excavación, reporte de actividades de aprovechamiento forestal de arboles aislados, etc.\nSubsección 4. Aspecto a tratar (Columna D): permite seleccionar la aplicabilidad ( √ ) o no ( X ) de una obligación mediante un doble clic en la celda, según el contexto del proyecto que se esté evaluando, es decir, si se le otorga un determinado permiso, se le autoriza alguna obra o actividad o le aplica de acuerdo con los permisos y actividades desarrolladas por le proyecto.\nSubsección 5. Obligación (Columna E): conjunto de obligaciones mínimas establecidas para cada temática y aspecto a tratar.\n\nPor otra parte, la SECCIÓN 2. FASES DEL PROYECTO PARA EL CUMPLIMIENTO Y SEGUIMIENTO A OBLIGACIONES indica la fase en la cual deberán ejecutarse las acciones asociadas a una determinada obligación para el cumplimiento por parte del titular de la licencia y el seguimiento por parte de la Autoridad: 1) Fase de pre construcción, 2) Fase de construcción, 3) Fase de perforación, completamiento, fracturamiento hidráulico, dimensionamiento del yacimiento, 4) Fase de evaluación y 5) Fase de desmantelamiento, abandono y restauración. \n\nFinalmente, la SECCIÓN 3. TEMPORALIDAD establece si la obligación debe ser de cumplimiento permanente o temporal por parte de los titulares de las licencias.\n\nUna vez se revisen todas las obligaciones mínimas y se indique si aplican o no, los usuarios de este instrumento deberán dirigirse a la segunda pestaña denominada OBLIGACIONES APLICABLES para generar el listado final de obligaciones mínimas que pueden establecerse a cada proyecto. Para generar este listado, se deberá dar clic en el botón de “Actualizar Anexo”.\n\nLa aplicabilidad de las obligaciones en las diferentes fases del proyecto, así como su temporalidad deberá asociarse al final de cada obligación en el respectivo documento (Concepto Técnico y acto administratico para el caso de la Autoridad o PMA para el caso de los usuarios o solicitantes de licencias ambientales).\n\nLa tercera pestaña denominada Asuntos radicación es de uso exclusivo de la Autoridad, dado que es donde se encuentran los asuntos de radicación relacionados con la Obligación General \"Estrategia de recepción de información de los resultados de los monitoreos del uso y aprovechamiento de los recursos naturales\", tabla que se debe copiar y pegar en la mencionada obligación."]
[]
[]
["4. ANEXOS\n\nEl instrumento cuenta con formatos y plantillas asociados a algunas obligaciones mínimas que son de uso transversal a cualquier proyecto, los cuales son:\n\n1. Formatos de hoja de vida de pozo de observación y hoja de vida de pozo de captación: Estos formatos deben ser diligenciados por parte del usuario y ser allegados en los respectivos Informes de Cumplimiento Ambiental – ICA. El diligenciamiento de dichos formatos responde a algunas obligaciones asociadas a los permisos de vertimiento en suelo, exploración de aguas subterráneas y concesión de aguas subterráneas.\n2. Plantillas de avisos informativos: Estas plantillas están asociadas al permiso de concesión de aguas superficiales y subterráneas y permiso de vertimientos a cuerpos de agua superficial y en suelos, los cuales deben ser diligenciados e instalados por parte del usuario en el lugar donde se haya autorizado la realización de dichos permisos.\n3. Plantilla de seguimiento a la gestión de residuos peligrosos y Plantilla de seguimiento a la gestión de residuos no peligrosos: En esta plantilla se consolidará la información asociada a la generación y gestión (tratamiento, aprovechamiento y/o disposición final) de residuos peligros y no peligrosos realizada por parte del generador o de terceros autorizados, la cual deberá ser allegada en los respectivos Informes de Cumplimiento Ambiental – ICA.\n\nDichos anexos, se encuentran disponibles en la página web de la ANLA."]

{"sheet":"PPII_YNC","index":1,"n_rows":206,"n_cols":11,"rows_kept":206,"cut":false,"hidden":false,"merged":[[6,1,7,1],[5,0,5,4],[6,3,7,3],[6,4,7,4],[0,0,4,1],[6,0,7,0],[0,6,1,6],[2,6,3,6],[5,5,5,9],[6,5,6,7],[6,8,7,8],[6,9,7,9],[0,7,1,10],[2,7,3,10],[4,7,4,10],[0,2,4,5],[6,2,7,2],[6,10,7,10]]}
[null,null,"OBLIGACIONES MÍNIMAS PARA PROYECTOS PILOTO DE INVESTIGACIÓN INTEGRAL - PPII SOBRE YACIMIENTOS NO CONVENCIONALES - YNC DE HIDROCARBUROS CON LA UTILIZACIÓN DE LA TÉCNICA DE FRACTURAMIENTO HIDRÁULICO MULTIETAPA CON PERFORACIÓN HORIZONTAL - FH-PH",null,null,null,"Fecha:","2022-08-10"]
[]
[null,null,null,null,null,null,"Versión:",2]
[]
[null,null,null,null,null,null,"Código:","EL-FO-41"]
["SECCIÓN 1. PERMISOS, AUTORIZACIONES Y ASPECTOS GENERALES",null,null,null,null,"SECCIÓN 2. FASE DEL PROYECTO PARA EL CUMPLIMIENTO Y SEGUIMIENTO A OBLIGACIONES",null,null,null,null,"SECCIÓN 3. TEMPORALIDAD"]
["ID","Temática","Aspecto a tratar","Aplica (SI / NO)","Obligación","Etapa concomitante",null,null,"Etapa de evaluación","Desmantelamiento, abandono y restauración","Temporal  / \nPermanente"]
[null,null,null,null,null,"Pre-construcción","Construcción","Perforación, completamiento, fracturamiento hidráulico, dimensionamiento del yacimiento"]
[1,"AIRE","Mediciones de las emisiones atmosféricas\n\nNota: La frecuencia de medición de las emisiones podrá ser diferenciada de acuerdo al tipo de contaminante y combustible, para lo cual se podrá ajustar el literal a) de la presente obligación.\n\nNota: Imponer la obligación en las fases que corresponden teniendo en cuenta las fuentes de emisión sujetas a medición.",null,"Realizar monitoreo de las emisiones atmosféricas generadas en las fuentes puntuales del proyecto de conformidad con lo establecido en el Protocolo  de Control y Vigilancia de la Contaminación Atmosférica Generada por Fuentes Fijas (adoptado por la Resolución 760 de 2010 del MAVDT, ajustado por la Resolución 2153 de 2010, Resolución 591 de 2012, Resolución 1632 de 2012 y Resolución 1807 de 2012, o la norma que la modifique o sustituya), dando cumplimiento a las siguientes condiciones:\n\na) Para determinar la frecuencia de los monitoreos de emisiones atmosféricas asociadas a fuentes puntuales, realizar un monitoreo al inicio de la operación y dar cumplimiento a lo establecido en el numeral 3.2 y en la tabla No. 9 del Protocolo para el Control y Vigilancia de la Contaminación Atmosférica Generada por Fuentes Fijas. Presentar los resultados del monitoreo inicial, las frecuencias establecidas con su respectiva justificación (determinación de las UCA) y el cumplimiento de altura mínima de descarga de las fuentes autorizadas según el Protocolo en el primer Informe de Cumplimiento Ambiental - ICA. \nb) Medir en cada monitoreo de acuerdo con la actividad industrial realizada, los contaminantes establecidos en la Tabla 2 del Protocolo  de Control y Vigilancia de la Contaminación Atmosférica Generada por Fuentes Fijas, de acuerdo con las actividades desarrolladas por el proyecto en cada una de sus etapas.\nc) Las fuentes de emisión contarán con un sistema de extracción localizada, chimenea, plataforma y puertos de muestreo que permitan realizar la medición directa y demostrar el cumplimiento normativo. La plataforma, diámetro y localización de los puertos de muestreo, se construirán de acuerdo a los métodos y procedimientos adoptados en el Protocolo para el Control y Vigilancia de la Contaminación Atmosférica generada por fuentes fijas última versión.\nd) Entregar en los respectivos Informes de Cumplimiento Ambiental - ICA el informe de los resultados y análisis de las mediciones de emisiones (asociadas a fuentes fijas puntuales), cumpliendo con lo establecido en el numeral 2.2 del Protocolo en mención y empleando los formatos establecidos en el Anexo 2, 3 y 4 del mismo. En dicho informe se compararán las mediciones con los estándares establecidos en la Resolución 909 de 2008, o aquellas que la modifiquen o sustituyan, para los contaminantes de la Tabla 2 según el Protocolo. De sobrepasar los límites de emisión para cada contaminante, el titular de la licencia presentará, las medidas de manejo pertinentes, necesarias para garantizar el cumplimiento de los estándares, las cuales serán informadas en los Informes de Cumplimiento Ambiental - ICA.","N/A","N/A","Aplica","N/A","N/A","Permanente"]
[2,"AIRE","Mantenimiento preventivo y correctivo de los sistemas de control de las fuentes de emisión.",null,"Realizar el mantenimiento preventivo y correctivo de los sistemas de control de las fuentes de emisión, de conformidad con lo establecido en el  Protocolo  para el Control y Vigilancia de la Contaminación Atmosférica Generada por Fuentes Fijas (adoptado por la Resolución 760 de 2010 del MAVDT, ajustado por la Resolución 2153 de 2010, Resolución 591 de 2012, Resolución 1632 de 2012 y Resolución 1807 de 2012, o la norma que la modifique o sustituya) y presentar en los Informes de Cumplimiento Ambiental - ICA las evidencias de su implementación, así como la ficha técnica del fabricante, y la eficiencia de control relacionando el respectivo equipo contaminante.","N/A","N/A","Aplica","N/A","N/A","Permanente"]
[3,"AIRE","Actualización del inventario de emisiones.",null,"Actualizar el inventario de emisiones atmosféricas generadas por el proyecto como mínimo una vez al año o cada vez que se presenten cambios en los procesos y/o actividades que generan emisiones (por ejemplo, introducción de nuevas fuentes), teniendo en cuenta lo siguiente:\n\na) Para las fuentes fijas puntuales que cuenten con las condiciones técnicas de medición, realizar la estimación de emisiones a partir de medición directa, dando cumplimiento a los criterios establecidos en el Protocolo para el Control y Vigilancia de la Contaminación Atmosférica Generada por Fuentes Fijas (adoptado por la Resolución 760 de 2010 del MAVDT, ajustado por la Resolución 2153 de 2010, Resolución 591 de 2012, Resolución 1632 de 2012 y Resolución 1807 de 2012, o la norma que la modifique o sustituya).\nb) Para fuentes fijas puntuales a las que no les aplique la medición directa por aspectos técnicos o de seguridad, y fuentes dispersas de área, aplicar métodos alternativos como factores de emisión y balance de masas, teniendo en cuenta las metodologías para el uso de factores de emisión desarrolladas por entidades oficiales, centros de investigación o academia (AP-42 Agencia de Protección Ambiental de los Estados Unidos US-EPA, National Pollutant Inventory - NPI, entre otras), las cuales están referenciadas en la Guía para la Elaboración de Inventarios de Emisiones Atmosféricas del MADS.\nc) Para fuentes móviles se podrán utilizar modelos de emisión de fuentes móviles (ej. IVE, MOBILE, MOVES y/o COPERT) combinados con variables locales (distancias viajadas por la flota, velocidades, etc.), o factores de emisión usados internacionalmente (EPA y Unión Europea). El aforo vehicular a realizar tiene como propósito la identificación de las fuentes móviles que transitan por las vías del proyecto o que se encuentran en el área de influencia. El levantamiento de información de la flota vehicular como mínimo deber ser de (ocho (8) horas / veinticuatro (24) horas continuas por día, en día hábil y festivo. Seleccionar de acuerdo con los horarios de construcción y operación aplicable al POA). Se deberá realizar la identificación y características del punto de aforo y la clasificación de los vehículos por peso y tipo de combustible. Se deberá presentar un informe con los resultados del inventario de fuentes y emisiones, y se deberá anexar las memorias de cálculos con la estimación de emisiones de los contaminantes considerados, los cálculos y suposiciones realizados.\nd) Presentar el inventario con y sin las eficiencias de las medidas de control en el cálculo de las emisiones. Para cada contaminante se deberá justificar las eficiencias de control con las respectivas evidencias documentales.\ne) Reportar la actualización en los respectivos Informes de Cumplimiento Ambiental - ICA, el cual contendrá como mínimo: Metodología empleada; Información georreferenciada de las fuentes; Tipo de fuente; Tipo combustible empleado; Consumo de combustible por cada fuente (nominal en base horaria y total acumulado anual); Tiempos de operación (horas/año); Sistemas de control de emisiones (discriminando sistema y tipo de contaminante); Porcentaje de eficiencia de los sistemas; Emisiones desagregadas  por actividad; Para fuentes fijas puntuales se requieren los datos de altura y diámetro de las chimeneas;  Identificar y presentar un análisis de las fuentes de emisiones atmosféricas del proyecto que se asocian con los contaminantes monitoreados a nivel de inmisión, especialmente para los contaminantes no criterio que puedan emitirse en las etapas de su desarrollo, con base información cuantitativa y cualitativa generada para el componente atmosférico, y otros medios y componentes; y fuentes de información utilizada.\nf) Anexar los archivos del inventario de fuentes diferenciando claramente la metodología y los cálculos (formatos accesibles .xls no protegidos), de las fuentes de contaminantes criterio y/o tóxicos (fijas puntuales y dispersas o difusas) con las consideraciones sobre la estimación.","N/A","Aplica","Aplica","N/A","N/A","Permanente"]
[4,"AIRE","Tanques de almacenamiento",null,"Para cada tanque de almacenamiento estacionario con emisiones COV igual o superiores a cinco (5) toneladas por año mantener los siguientes registros, los cuales deberán ser presentados en los respectivos Informes de Cumplimiento Ambiental - ICA:\n\na) Producción mensual de condensado o de crudo almacenado en el tanque.\nb) La fecha, hora y duración de cualquier periodo en donde el equipo de control de emisiones no esté en operación.\nc) La estimación de emisiones de COV, con los cálculos de eficiencia de remoción o reducción de contaminantes, de acuerdo a las condiciones establecidas para la presentación de la actualización del inventario de emisiones. Se resalta que el sistema de control debe lograr al menos el 90% de reducción de las emisiones de COV, de acuerdo con los términos de referencia para los PPII.","N/A","N/A","Aplica","N/A","N/A","Permanente"]
[5,"AIRE","Manejo de teas",null,"Para las teas, dar cumplimiento a las siguientes condiciones:\n\na) Presentar los soportes del cumplimiento de la Resolución 40066 del 11 de febrero de 2022 del Ministerio de Minas y Energía en relación con venteo y quema de gas en teas.\nb) Presentar en los respectivos Informes de Cumplimiento Ambiental - ICA la copia de la totalidad de autorizaciones otorgadas por la ANH para la quema del gas generado a través de los sistemas de alivio instalados en campo, donde se indique la vigencia y las condiciones de calidad y cantidad concedidas.\nc) Presentar en los Informes de Cumplimiento Ambiental - ICA por cada periodo reportado, el registro histórico y análisis comparativo correspondiente al volumen de gas enviado a las teas para su eliminación, bajo las condiciones y vigencias autorizadas, así como los registros de eficiencia de combustión con la cuantificación y caracterización de combustible quemado, para garantizar el 98% de combustión según los términos de referencia de los PPII. \nd) Presentar las acciones ejecutadas en torno al control de emisiones, temperatura y radiación lumínica en los respectivos Informes de Cumplimiento Ambiental - ICA. \ne) En caso de recibir quejas por parte de la comunidad, realizar monitoreos de radiación térmica y lumínica sobre receptores sensibles que puedan ser afectados por el uso de las teas. Presentar en los Informes de Cumplimiento Ambiental - ICA el análisis de los resultados, así como la indicación y justificación de los estándares o normas técnicas de referencia seleccionadas para los monitoreos.","N/A","N/A","Aplica","N/A","N/A","Permanente"]
[6,"AIRE","Modelar la dispersión de contaminantes atmosféricos.\n\nNota: En caso de evidenciar la necesidad de modelar otro contaminante de interés, inlcuirlo en el literal b).",null,"Modelar la dispersión de contaminantes atmosféricos, al menos una vez al año o cada vez que se presenten cambios en los procesos y/o actividades que generan emisiones (por ejemplo, introducción de nuevas fuentes), en tanto el Ministerio de Ambiente y Desarrollo Sostenible adopte el Protocolo de Modelización de Contaminantes Atmosféricos, se deberán realizar bajo las siguientes condiciones:\n\na) Emplear un sistema de modelación actualizado avalado por la EPA que represente adecuadamente las condiciones de dispersión en el área de influencia del proyecto.\nb) Considerar las configuraciones recomendadas por el ente desarrollador para el sistema de modelación utilizado. \nc) Modelar como mínimo PM10, PM2,5 (relacionar demás contaminantes de interés según las fuentes de emisión del proyecto), de acuerdo con el Protocolo para el Monitoreo y Seguimiento de la Calidad del Aire del MAVDT del 2010 (adoptado por la Resolución 650 de 2010, y ajustado por la Resolución 2154 de 2010), Resolución 2254 del 2017 del MADS o aquella que la modifique o sustituya, y los parámetros establecidos en los términos de referencia de los PPII, teniendo en cuenta normativa internacional.\nd) Identificar los receptores de interés, usos del suelo, topografía, ventana de modelación y resolución de malla a emplear en la modelación.\ne) Efectuar un análisis de la información meteorológica obtenida de estaciones automáticas del IDEAM. Cuando esto no sea posible, la modelación se apoyará en información meteorológica obtenida de otras estaciones automáticas (anexando la justificación técnica de la escogencia de estaciones diferentes a las del IDEAM) o en su defecto a partir de información resultante de modelos meteorológicos de pronóstico para el año calendario inmediatamente anterior al estudio. Para las variables aplicables, tener en cuenta lo determinado en la guía de la EPA \"Meteorological Monitoring Guidance for Regulatory Modeling Applications - EPA 454/R 99 005\".\nf) Presentar los resultados de los escenarios a modelar (sin sistemas de control y con sistemas de control) para el año inmediatamente anterior a la presentación del Informe de Cumplimiento Ambiental - ICA.\ng) Presentar el informe de la modelación de la dispersión de contaminantes atmosféricos en los respectivos Informes de Cumplimiento Ambiental - ICA como mínimo con la siguiente información:\ni) Diagrama de flujo de los procesos que generan emisiones atmosféricas. \nii) Descripción del modelo empleado incluyendo los resultados de las concentraciones obtenidas para los receptores sensibles y gráficas de isopletas georreferenciadas, donde se muestre la ubicación de las fuentes de emisión y de los receptores.\niii) Datos de entrada de la modelación: descripción y ubicación de la región de impacto, identificación y ubicación georreferenciado de las fuentes de emisión y de los posibles receptores, archivo geográfico con la topografía de la región y tipo de uso del suelo, información y análisis de la meteorología  (archivos nativos p. ej .SAM, .UA, .PFL, .SFC y accesibles .csv, xls, .txt no protegidos) y de la calidad del aire en la región (en caso de no existir dicha información, utilizar la información de calidad de aire más reciente), análisis sobre potenciales receptores, contaminantes emitidos y descripción del método de cuantificación de las emisiones, que permitan la reproducción total del modelo. \niv) Reporte de los criterios, características del modelo, alcances y tamaño de mallas empleados para la modelación. Anexar los archivos de entrada y salida de los procesadores y pre procesadores empleados en la modelación, en los formatos originales de entrada y salida del modelo (archivos nativos p. ej. .ADI, .SOU, .ROU, .ADO, y accesibles .csv, xls, .txt no protegidos), de forma que se permita la reproducción total del modelo.\nv) Técnicas de validación de la modelación y la concentración de fondo tenidas en cuenta, así como de los resultados obtenidos. \nvi) Análisis, conclusiones y anexos.","N/A","Aplica","Aplica","N/A","N/A","Permanente"]
[7,"AIRE","Monitoreos de calidad del aire\n\nNota 1: La frecuencia del monitoreo se evaluará dentro del programa de monitoreo propuesto por el usuario en el EIA, lo cual se deberá ajustar de acuerdo con los criterios de evaluación, en caso de ser necesario.",null,"Realizar monitoreos de calidad del aire con los criterios establecidos para un Sistema  Especial de Vigilancia de Calidad del Aire - SEVCA según el Protocolo para el Monitoreo y Seguimiento de la Calidad del Aire del MAVDT del 2010 (adoptado por la Resolución 650 de 2010, y ajustado por la Resolución 2154 de 2010, o la norma que la modifique o sustituya), y entregar los respectivos soportes en los Informes de Cumplimiento Ambiental - ICA, teniendo en cuenta lo siguiente: \n\na) Documento donde se argumente la selección de la localización de las estaciones que conformen el SEVCA del PPII, teniendo en cuenta los criterios establecidos en el Protocolo para el Monitoreo y Seguimiento de la Calidad del Aire del MAVDT (2010). Esta obligación se presentará en el primer Informe de Cumplimiento Ambiental - ICA.\nb) Información meteorológica: debe hacer referencia al año calendario inmediatamente anterior al estudio, la cual debe ser previamente validada de acuerdo a los estándares establecidos por la EPA, de igual forma se deberá entregar la información meteorológica de la campaña de monitoreo (Quality Assurance Handbook for Air Pollution Measurement Systems Volumen IV: Meteorological Measurement Versión 2.0 EPA-454/B-08-002). Anexar los archivos georreferenciados de acuerdo con el modelo de almacenamiento geográfico establecido en la Resolución 2182 de 2016 del MADS, o la que la modifique o sustituya, y/o el modelo de almacenamiento geográfico complementario PPII - YNC publicado en el micrositio de esta autoridad destinado para los Proyectos Piloto de Investigación Integral de Yacimientos no Convencionales. \nd) Reportes de laboratorio (que incluya datos diarios u horarios dependiendo de la tecnología de la estación de monitoreo - manual o automática).\ne) Comparación de las mediciones con los niveles máximos permisibles establecidos en la Resolución 2254 de 2017 del MADS, o aquella que la modifique o sustituya, y con la línea base presentada en el EIA para los contaminantes evaluados. Los contaminantes a registrar serán los establecidos en la Resolución  2254 de 2017 del MADS, o aquella que la modifique o sustituya, aplicables según la actividad industrial desarrollada y las fuentes de emisión identificadas, así como los contaminantes incluidos en los términos de referencia para los PPII. De no existir niveles máximos permisibles establecidos en la normatividad nacional, el titular de la licencia podrá usar referentes internacionales debidamente avalados y soportados. \nf) Los contaminantes monitoreados y analizados in situ, se reportarán a esta autoridad con una frecuencia diaria (datos horarios y diarios integrados en función de su correspondiente método de medición y tiempos de exposición) a través del correo electrónico centromonitoreo@anla.gov.co. \ng) El registro consolidado de los monitoreos conforme con el modelo de almacenamiento geográfico establecido en la Resolución 2182 de 2016 del MADS, o la que la modifique o sustituya, y/o el modelo de almacenamiento geográfico complementario PPII - YNC publicado en el micrositio de esta autoridad destinado para los Proyectos Piloto de Investigación Integral de Yacimientos no Convencionales.\nh) Informe de las acciones implementadas para garantizar el cumplimiento de los estándares en caso de sobrepasar los límites de inmisión para cada contaminante.\nj) Informe que incluya como mínimo los contenidos establecidos en el Protocolo para el Monitoreo y Seguimiento de la Calidad del Aire del MAVDT (2010) - Manual de operación, según el sistema de vigilancia de calidad del aire aplicable.","N/A","Aplica","Aplica","Aplica","N/A","Permanente"]
[8,"AIRE","Reporte al Subsistema de Información sobre Calidad de Aire - SISAIRE\n\nNota: Aplica para proyectos, obras y actividades que requieran realizar monitoreos permanentes de calidad del aire",null,"De acuerdo con lo establecido en la Resolución 2254 del 2017 del MADS, para Sistemas de Vigilancia de la Calidad del Aire - SVCA que realicen monitoreos con una periodicidad permanente (continua en el tiempo durante la vida útil del proyecto) reportar al Subsistema de Información sobre Calidad de Aire - SISAIRE los datos validados resultantes de las mediciones de calidad de aire y variables meteorológicas. Tener en cuenta lo establecido en la Resolución 651 del 29 de marzo 2010 o aquella que la modifique o sustituya y presentar las evidencias del cargue a dicho sistema.","N/A","N/A","Aplica","N/A","N/A","Permanente"]
[9,"CAMBIO CLIMÁTICO","Cuantificación de gases de efecto invernadero - GEI y acciones de mitigación",null,"Presentar en el primer Informe de Cumplimiento Ambiental – ICA de la fase constructiva del proyecto el plan integral de gestión de Cambio Climático del proyecto, en concordancia con las líneas estratégicas definidas por el Plan Integral de Gestión del Cambio Climático del sector Minas y Energía, adoptado mediante Resolución 40807 de 2018, actualizada por la Resolución 40350 del 29 de octubre de 2021, o las normas que las modifiquen o sustituyan, contemplando como mínimo:\n\na) La cuantificación del alcance directo e indirecto (indirecto opcional) de las emisiones de gases efecto invernadero - GEI, como: dióxido de carbono (CO2), óxido nitroso (N2O), metano (CH4), hidrofluorocarbonos (HFC), perfluorocarbonos (PFC), Trifluoruro de nitrógeno (NF6) y Hexafluoruro de Azufre (SF6) en toneladas de CO2eq, de acuerdo con la Norma Técnica Colombiana NTC-ISO 14064-1: 2020 o aquella que la modifique o sustituya. Para el caso del metano (CH4) realizar monitoreo para las emisiones directas; para el caso de los demás gases se podrá realizar estimación a partir de factores de emisión, balances de masa, medición directa de ser posible, u otros. En caso de que por la naturaleza del proyecto no se requiera de la estimación de alguno(s) de los gases, justificar técnicamente. Presentar los resultados en hoja de cálculo (excel editable), junto con su  respectivo análisis, la cual deberá contemplar como minimo: puntos de emisión ID, alcance, tipo de fuente generadora GEI, nombre fuente de emisión GEI, caracteristicas de la fuente de GEI, categoria IPCC equivalente, Nombre de la sustancia, método de determinación de la emisión, emision (carga emitida) determinada (kg/año), potencial de calentamiento global, emisión (tonelada de CO2e/año), tipo de verificación GEI. Realizar la actualización de la cuantificación de emisiones de GEI (de manera semestral / al finalizar la vida util del proyecto -si el proyecto tiene una duración inferior a 2 años-. Seleccionar la periodicidad de acuerdo con la duración del proyecto) y presentarla a través de los respectivos Informes de Cumplimiento Ambiental – ICA.\nb) Relación de acciones de mitigación y estimado de reducción de GEI en hoja de cálculo editable, contemplando como minimo: Nombre de la medida, objetivo, descripción de la medida y acciones a seguir, potencial de mitigación de la medida (toneladas de CO2 eq), indicador propuesto, fecha de inicio y fin de implementación y avance de implementación (%), entre otras. Adicionalmente, presentar (de manera semestral / al finalizar la vida util del proyecto -si el proyecto tiene una duración inferior a 2 años-. Seleccionar la periodicidad de acuerdo con la duración del proyecto) a través de los correspondientes Informes de Cumplimiento Ambiental - ICA el reporte del avance de las acciones en la hoja de cálculo editable y los soportes que evidencien el cumplimiento de las mismas por cada periodo.","N/A","Aplica","Aplica","Aplica","Aplica","Permanente"]
[10,"OLORES OFENSIVOS","Medición de olores ofensivos",null,"Realizar las mediciones de las  sustancias o mezcla de sustancias generadoras de olores ofensivos en las actividades del PPII identificadas en el EIA, de acuerdo con lo siguiente:\n\na) Las mediciones se realizarán de acuerdo con lo establecido en la Resolución 1541 de 2013, modificada por la Resolución 0672 de 2014 del Ministerio de Ambiente y Desarrollo Sostenible, o aquella que la modifique o sustituya, y dando cumplimiento con lo establecido en la Resolución 2087 de 2014 “Por la cual se adopta el Protocolo para el Monitoreo, Control y Vigilancia de Olores Ofensivos” y en la Tabla 10 de los Términos de Referencia para PPII. \nb) Los contaminantes monitoreados y analizados in situ, se reportarán a esta autoridad con una frecuencia diaria (datos horarios y diarios integrados en función de su correspondiente método de medición y tiempos de exposición) a través del correo electrónico centromonitoreo@anla.gov.co.\nc) El registro consolidado de los monitoreos se entregará conforme con el modelo de almacenamiento geográfico establecido en la Resolución 2182 de 2016 del MADS, o la que la modifique o sustituya, y/o el modelo de almacenamiento geográfico complementario PPII - YNC publicado en el micrositio de esta autoridad destinado para los Proyectos Piloto de Investigación Integral de Yacimientos no Convencionales.\nd) Presentar el análisis de los resultados y comparación con los niveles máximos permisibles establecidos en la Resolución 1541 de 2013 en los respectivos Informes de Cumplimiento Ambiental - ICA, así como los certificados de acreditación de los laboratorios, formatos de campo, cadenas de custodia, soportes de calibración y verificación de equipos y reportes de laboratorio. ","N/A","N/A","Aplica","N/A","N/A","Permanente"]
[11,"OLORES OFENSIVOS","Modelar la dispersión de olores ofensivos",null,"Modelar la dispersión de contaminantes atmosféricos (olores ofensivos), cada vez que se presenten cambios en los procesos y/o actividades que generan emisiones (por ejemplo, introducción de nuevas fuentes) o se generen quejas por olores ofensivos bajo las siguientes condiciones:\n\na) Empleando un modelo avalado por la EPA que satisfaga las necesidades específicas del proyecto.\nb) Modelando como mínimo H2S, TRS, NH3 y demás contaminantes de interés según las fuentes de emisión del proyecto, así como mezclas de sustancias generadoras de olores ofensivos (ante reincidencia de quejas) según el Protocolo para el Monitoreo, Control y Vigilancia de olores Ofensivos del MADS (adoptado por la Resolución 2087 de 2014), Resolución 1541 del 2013 del MADS o aquella que la modifique o sustituya, y los parámetros establecidos en los términos de referencia de los PPII, teniendo en cuenta normativa internacional.\nc) Identificando los receptores de interés, usos del suelo y topografía a incluir en la modelación.\nd) Efectuando un análisis de la información meteorológica obtenida de estaciones automáticas del IDEAM. Cuando esto no sea posible, la modelación se apoyará en información meteorológica obtenida de otras estaciones automáticas (anexando la justificación técnica de la escogencia de estaciones diferentes a las del IDEAM) o en su defecto a partir de información resultante de modelos meteorológicos de pronóstico para el año calendario inmediatamente anterior al estudio. Dicho análisis será presentado en los respectivos Informes de Cumplimiento Ambiental - ICA.\ne) Presentando los escenarios a modelar (sin sistemas de control y con sistemas de control) para el año inmediatamente anterior a la presentación del Informes de Cumplimiento Ambiental - ICA en los respectivos ICA.","N/A","N/A","Aplica","N/A","N/A","Permanente"]
[12,"RUIDO","Monitoreos de ruido ambiental\n\nNota: La decisión de realizar monitoreo 1 h / jornada / día o 24 h / joranda / día dependerá del carácter continuo o intermitente de la zona a caracterizar. Incluir el periodo de monitoreo en la nota roja del literal b). ",null,"Realizar los monitoreos de ruido ambiental y entregar los respectivos soportes en los Informes de Cumplimiento Ambiental - ICA, teniendo en cuenta lo siguiente:\n\na) Los monitoreos de ruido deben cumplir con los parámetros y procedimientos establecidos en la Resolución 0627 de 2006 del MAVDT y el estándar internacional ISO 1996 incluyendo el análisis de bajas frecuencias, o aquellas que la modifiquen o sustituyan.\nb) Durante las etapas de construcción, operación y desmantelamiento, realizar monitoreos de ruido ambiental durante dos (2) días a la semana, garantizando que uno de estos días sea dominical, durante (relacionar la duranción del monitoreo de acuerdo con la nota 1). La periodicidad del monitoreo será semestral para la fase constructiva y de desmantelamiento y abandono y anual para la fase operativa. Los puntos de monitoreo deben tener una adecuada micro localización evitando obstáculos entre la fuente y el punto de muestreo. La ubicación de los equipos debe permitir en lo posible una relación señal ruido que permita la identificación de la fuente objeto de estudio sobre el ruido ambiente. \nc) Los puntos de monitoreo deberán coincidir con los puntos monitoreados en la línea base presentada en el EIA, y en caso de que se presenten nuevos potenciales receptores de interés, considerar puntos adicionales de monitoreo, los cuales se localizarán estratégicamente respecto a la ubicación de estos receptores.\nd) El registro consolidado de los monitoreos se entregará conforme con el modelo de almacenamiento geográfico establecido en la Resolución 2182 de 2016 del MADS, o la que la modifique o sustituya.\ne) Los niveles de presión sonora de cada uno de los puntos de monitoreo, deben ser presentados con el nivel total y discriminados en bandas de tercios de octava para cada hora de medición.\nf) Los monitoreos deben caracterizar los periodos de operación más representativos dentro de cada periodo de reporte, en este sentido se debe considerar la medición de manera simultánea en todos los puntos a fin de tener una trazabilidad en el tiempo y espacio de cada escenario evaluado. Se deberá contar tantos equipos como puntos de muestreo para realizar las mediciones simultáneas y continuas durante todo el desarrollo del monitoreo.\ng) Los monitoreos de ruido deben aportar las correcciones de ruido asociadas al tipo de fuente, así como incertidumbre de medida de acuerdo con lo estipulado en la Resolución 0627 del MADS e ISO 1996 a fin de estimar los efectos que puedan generarse por la operación de la fuente objeto de estudio para todas y cada una de las etapas del proyecto.\nh) Presentar en los respectivos Informes de Cumplimiento Ambiental - ICA los informes de los monitoreos de ruido, incluyendo la información requerida en el Artículo 21 de la Resolución 0627 de 2006. Incluir en el informe la comparación de las mediciones con los estándares máximos permisibles establecidos en la Resolución 0627 de 2006 (o la que la modifique o sustituya), con la línea base presentada en el instrumento de manejo y control ambiental para ruido ambiental y con las mediciones de emisión de ruido para cada hora monitoreada.\ni) Georreferenciar en mapas temáticos los puntos de monitoreo sobre la información de uso actual de suelo y de los instrumentos de ordenamiento territorial del área de influencia con la respectiva justificación de la selección de los sectores de ruido establecidos en la Resolución 627 de 2006, cada que se actualicen los instrumentos de ordenamiento territorial y/o se incluyan nuevos puntos de monitoreo. Presentar esta información en los respectivos Informes de Cumplimiento Ambiental - ICA.\nj) Actualizar el inventario de potenciales receptores de interés (asentamientos poblacionales, viviendas, infraestructura social y ecosistemas estratégicos) del proyecto y presentarlo cuando se presenten cambios.\n","N/A","Aplica","Aplica","N/A","Aplica","Permanente"]
[13,"RUIDO","Monitoreos de emisión de ruido",null,"Realizar los monitoreos de emisión de ruido y entregar los respectivos soportes en los Informes de Cumplimiento Ambiental - ICA, teniendo en cuenta lo siguiente:\n\na) Seleccionar puntos en los límites industriales de la operación donde se identifique la mayor emisión de ruido para realizar los monitoreos de emisión.\nb) Cumplir con los parámetros y procedimientos establecidos en la Resolución 0627 de 2006 del MAVDT o aquellas que la modifiquen o sustituyan, para lo cual deberá contemplarse monitoreos con las fuentes prendidas (y apagadas de ser posible).\nc) Realizar los monitoreos de emisión de ruido dentro de la campaña de monitoreo de ruido ambiental, en los periodos de operación más representativos en tiempo y lugar de la actividad, al menos durante 1 día.\nd) El registro consolidado de los monitoreos se entregará conforme con el modelo de almacenamiento geográfico establecido en la Resolución 2182 de 2016 del MADS, o la que la modifique o sustituya.\ne) Georreferenciar en mapas temáticos los puntos de monitoreo sobre la información de uso actual de suelo y de los instrumentos de ordenamiento territorial del área de influencia con la respectiva justificación de la selección de los sectores de ruido establecidos en el Artículo 9 y su parágrafo primero de la Resolución 627 de 2006, cada que se actualicen los instrumentos de ordenamiento territorial y/o se incluyan nuevos puntos de monitoreo. Presentar esta información en los respectivos Informes de Cumplimiento Ambiental - ICA.\nf) Presentar en los respectivos Informes de Cumplimiento Ambiental - ICA los informes de los monitoreos de ruido, incluyendo la información requerida en el Artículo 21 de la Resolución 0627 de 2006. Incluir en el informe la comparación de las mediciones con los estándares máximos permisibles establecidos en la Resolución 0627 de 2006 (o la que la modifique o sustituya) y con los monitoreos de ruido ambiental.","N/A","Aplica","Aplica","N/A","Aplica","Permanente"]
[14,"RUIDO","Inventarios de fuentes de ruido",null,"Realizar los inventarios de fuentes de ruido al menos una vez al año o cada vez que se presenten cambios en el inventario de fuentes generadoras de ruido y/o de potenciales receptores de interés a los inicialmente identificados, dando cumplimiento a las siguientes condiciones y presentar los respectivos soportes en los Informes de Cumplimiento Ambiental - ICA:\n\na) Realizar un inventario de fuentes de emisión de ruido en el área del proyecto de tipo puntual, lineal o de área identificando ubicación, trazados internos, horas de operación por periodo de acuerdo con los horarios estipulados en el Artículo 2 de la resolución 627 de 2006 del MADS.\nb) Para las fuentes a las cuales no se les realice mediciones de caracterización de potencia bajo estándares internacionales, se debe aportar las respectivas fichas técnicas de todas y cada una de las fuentes identificadas, con i) la capacidad, ii) potencia, iii) dimensiones, iv) niveles de emisión de ruido a distancias conocidas, especificando la ponderación (p. ej. dB(A) o dB(Z)), v) potencia acústica de las fuentes preferiblemente con una resolución de 1/3 de octava. De no contar con dicha información, obtener información de fuentes secundarias, tales como base de datos, con el origen de la información, los niveles Lw y los valores que componen el espectro en frecuencia en 1/1 octava o 1/3 de octava; de ser posible y durante la etapa operativa se debe caracterizar dicho parámetro a la luz de un estándar internacional que permita la adecuada caracterización y evaluación de la emisión de la fuente.\nc) Para fuentes de tráfico, inventariar los tipos de vías previamente identificadas en el área de influencia y caracterizar el tráfico vehicular asociado, teniendo en cuenta las dinámicas o variaciones temporales del volumen del tráfico con una resolución de (ocho (8) horas / veinticuatro (24) horas continuas por día, en día hábil y festivo. Seleccionar de acuerdo con los horarios de construcción y operación aplicable al POA) incluyendo los periodos de mayor y menor flujo y clasificación del parque automotor que transite por las vías por peso, velocidad de diseño de las vías identificadas, identificación y características del punto de aforo (como mínimo ancho de calzada, número de carriles, pendiente), tipo de rodadura (pavimentada o destapada) u otras variables solicitadas por el método de modelación empleado.\nd) Georreferenciar el inventario de fuentes, vías y receptores y proyectarlo en mapas temáticos. De igual manera, adjuntar la información espacial asociada a estos en los anexos de los diferentes documentos o memorias técnicas. Así mismo, se deben presentar los archivos georreferenciados de acuerdo con\nel modelo de almacenamiento geográfico establecido en la Resolución 2182 de 2016 del MADS, y/o la que las modifiquen o sustituyan.\ne) Incorporar los inventarios de ruido en los análisis de los monitoreos de ruido y los modelos de niveles de presión sonora.","N/A","Aplica","Aplica","N/A","Aplica","Permanente"]
[15,"RUIDO","Modelación de ruido",null,"\nRealizar la modelación de ruido al menos una vez al año o cada vez que se presenten cambios en el inventario de fuentes generadoras de ruido y/o de potenciales receptores de interés a los inicialmente identificados, y presentar en los respectivos Informes de Cumplimiento Ambiental - ICA:\n\na) Cartografía detallada de la zona, que incluya: curvas de nivel y modelo digital de elevación de terreno que contengan las fuentes de interés y que abarquen hasta los receptores; la resolución debe ser representativa del terreno a una escala detallada en fuentes y receptores tomando como referencia lo establecido en la ISO9613 y la ISO17534, así mismo, presentar la distribución en plano (layout) del área que permita la identificación cartográfica de las fuentes o áreas de operación.\nb) Método de cálculo implementado según el modelo.\nc) Meteorología y condiciones de propagación del ruido (temperatura, velocidad, dirección del viento y presión atmosférica).\nd) Cálculo del niveles de ruido sobre los receptores previamente identificados en la caracterización y aporte de la fuente sobre el ruido ambiente en el dominio de simulación del proyecto.\ne) Los escenarios a simular deben considerar periodo diurno y nocturno. Detallar las suposiciones, alcances y limitaciones consideradas en la modelación.\nf) Análisis de resultados que permitan identificar los aportes sobre los receptores, tomando como referencia los estándares máximos permisibles establecidos en la Resolución 0627 de 2006, o aquella que la modifique o sustituya.\ng) Adjuntar los datos de entrada y salida del modelo, memorias de cálculo y demás soportes de la modelación como archivos nativos, shape file, DWG.\nh) En caso de existir una afectación sobre los receptores previamente identificados, proponer medidas o sistemas de control adecuadas según el caso y viabilidad de estas de acuerdo con la operación, y presentar: cálculos y descripción del procedimiento de obtención del sistema de control empleado, representación en mapas de ruido y sistemas de control propuesto, así como un monitoreo que evidencie la efectividad de la barrera tomando como referencia estándares internacionales.","N/A","Aplica","Aplica","N/A","Aplica","Permanente"]
[16,"RUIDO","Medidas de control y mitigación para los niveles de ruido",null,"Implementar las medidas de control y mitigación de ruido, y presentar en los Informes de Cumplimiento Ambiental - ICA los soportes que evidencien el cumplimiento de lo siguiente:\n\na) Los niveles de emisión de ruido deben compararse con los límites establecidos en la Resolución 0627 de 2006, o la que la modifique o sustituya, para aquellas fuentes de emisiones sonoras representativas, teniendo en cuenta para ello la trascendencia al uso de suelo de mayor restricción, asegurando que las medidas planteadas y adoptadas sean técnicamente viables. La Sociedad deberá demostrar que las emisiones sonoras no generan aportes adicionales sobre los niveles de ruido ambiental caracterizados en la línea base, en los receptores sensibles como viviendas y puntos de interés faunístico implementando, en caso necesario, medidas de control adecuadas.\nb) Describir las medidas asociadas a los sistemas de control implementadas sobre las fuentes de emisión de ruido relacionando su tipología (p. eje. pantalla, silenciador, encapsulamiento entre otros) y eficiencia asociada, dicha información debe estar acompañada y soportada por medio de documento técnico.\nc) Relacionar las prácticas encaminadas a la diminución de ruido desde y hacia el entorno identificando la fuente y el proceso empleado.","N/A","Aplica","Aplica","N/A","Aplica","Permanente"]
[17,"EXPLORACIÓN DE AGUAS SUBTERRÁNEAS","Prueba de bombeo\n\nNota: Prestar especial atención al literal c) para definir si este permiso requiere necesariamente de la construcción de un pozo de observación/piezómetro o puede emplear pozos aledaños existentes. En ese caso, ajustar el literal c).",null,"Finalizada la perforación del pozo de exploración realizar una prueba de bombeo, la cual cumplirá con las siguientes condiciones:\n\na) Se debe determinar la curva de tendencia natural del nivel freático o piezométrico de unidad geológica acuífera a caracterizar, midiendo los niveles mínimos una semana antes del inicio de las pruebas.\na) Duración mínima de bombeo entre 36 a 72 horas cuando no se alcance un régimen estacionario en las primeras 24 a 36 horas y la etapa de recuperación que alcance un 95 a 100% del abatimiento producido.\nb) Realizarse escalonada o a caudal constante, registrando niveles durante el bombeo y la recuperación.\nc) Para la caracterización hidráulica de los acuíferos incluir pozos de observación/piezómetros que capten de los mismos niveles acuíferos del pozo exploratorio. Para ello, construir al menos un pozo para ese fin o emplear pozos aledaños existentes de los que se conozca el diseño y que estén dentro del radio de influencia del cono de abatimiento previsto para el pozo exploratorio. \nd) Medir los niveles estáticos y dinámicos tanto en el pozo bombeado como en el(los) pozo(s) de observación/piezómetro(s), utilizando instrumentación que permita obtener datos continuos de nivel durante la prueba.\ne) La frecuencia de medición de niveles (abatimiento y recuperación) en el pozo de captación y pozo(s) de observación/piezómetro(s), debe garantizar alrededor de 10 observaciones por ciclo logarítmico del tiempo para elaborar la curva de abatimiento versus tiempo.\nf) Asegurar que el agua producto de la(s) prueba(s) de bombeo, se disponga en el suelo o en una fuente de agua superficial una vez terminada la prueba, garantizando las medidas adecuadas para su disposición, sin impactar el sistema receptor. Por ningún motivo, se podrá dar un uso diferente a esta agua.","N/A","Aplica","Aplica","N/A","N/A","Temporal"]
[18,"EXPLORACIÓN DE AGUAS SUBTERRÁNEAS","Caracterización fisicoquímica y microbiológica del agua subterránea",null,"Realizar la caracterización fisicoquímica y microbiológica del agua subterránea, cumpliendo con las siguientes condiciones:\n\na) Medir las siguientes características físicas de el(los) pozo(s) de observación/piezómetro(s): profundidad, nivel topográfico y nivel piezométrico donde se toma la muestra.\nb) Medir como mínimo los siguientes parámetros fisicoquímicos y microbiológicos: pH, temperatura, potencial rédox, color, turbiedad, alcalinidad, dureza, conductividad eléctrica, oxígeno disuelto, sólidos disueltos totales, metales (arsénico, bario, cadmio, zinc, cobre, cromo, hierro, mercurio, níquel, plomo y selenio), aniones y cationes (Na+, K+, Mg++, Ca++, Fe total, SO4=, Cl-, NO3-, CO3=, HCO3-), coliformes totales y fecales, E. Coli y TPH. Presentar al término del permiso de exploración de aguas subterráneas, los reportes de laboratorio, las cadenas de custodia y el análisis de resultados de conformidad con el uso para el cual se vaya a destinar el recurso hídrico.\nc) Calcular y presentar el valor del error analítico de las muestras en los Informes de Cumplimiento Ambiental – ICA. El error analítico de aceptación de las muestras será de ±15%. A su vez, deberá emplear relaciones interparamétricas justificando la validez de la muestra.\nd) Almacenar la información obtenida de los monitoreos, de acuerdo con el modelo de almacenamiento geográfico establecido en la Resolución 2182 de 2016 del MADS, o la que la modifique o sustituya, y/o el modelo de almacenamiento geográfico complementario PPII - YNC publicado en el micrositio de esta autoridad destinado para los Proyectos Piloto de Investigación Integral de Yacimientos no Convencionales. \ne) Realizar los monitoreos a través de laboratorios acreditados por el IDEAM, tanto para la toma de la muestra, como para el análisis de los parámetros monitoreados, y presentar los certificados al término del permiso de exploración de aguas subterráneas. Dichos laboratorios, deberán contar con las técnicas de medición que cuenten con los límites de detección de los diferentes parámetros que permitan verificar el cumplimiento normativo de los mismos.","Aplica","Aplica","Aplica","N/A","N/A","Temporal"]
[19,"EXPLORACIÓN DE AGUAS SUBTERRÁNEAS","Informe final de exploración\n\nNota: Ver formato de hoja de vida de pozo de captación y de pozo de observación/piezómetro en el anexo correspondiente",null,"Presentar el informe final de exploración de agua subterránea en un plazo de sesenta (60) días hábiles a la finalización de la construcción del pozo de exploración de aguas subterráneas, de acuerdo con el artículo 2.2.3.2.16.10 del Decreto 1076 de 2015, o la norma que lo modifique o sustituya, el cual incluirá adicional a lo exigido en dicho numeral: \n\na) Registro eléctrico (resistividad, Gamma Ray y Potencial Espontáneo). \nb) Diseño definitivo del(los) pozo(s): nivel topográfico, diámetro, materiales, longitud y ubicación de filtros y sellos hidráulicos.\nc) Informe de ejecución y resultados de las pruebas de bombeo, incluyendo: nivel estático, dinámico y caudal de la prueba, cálculo de abatimiento y cono de abatimiento, formatos de campo que den soporte a la información presentada, descripción de los pozos de observación empleados en la prueba de bombeo y memoria de cálculo de los parámetros hidráulicos, que incluya: análisis diagnóstico de la prueba, ecuación del pozo, transmisividad, coeficiente de almacenamiento, conductividad hidráulica, capacidad específica, espesor, porosidad, caudal recomendado de explotación y rendimiento del pozo.\nd) Análisis hidrogeoquímico empleando métodos gráficos adecuados (Piper, Stiff, u otro), relaciones inter paramétricas y correlación de la química del agua con el conocimiento geológico, geoquímico e hidrogeológico.\ne) \"Formato de Hoja de Vida de Pozo de Captación - Aguas Subterráneas\" actualizado.\nf) \"Formato de Hoja de Vida de Pozo de Observación/Piezómetro - Aguas Subterráneas\" actualizado.","N/A","Aplica","Aplica","N/A","N/A","Temporal"]
[20,"CONCESIÓN AGUAS SUBTERRÁNEAS","Registro de caudal captado",null,"Instalar la instrumentación necesaria para medición, registro minuto a minuto y transmisión en tiempo real a esta Autoridad del caudal captado bajo las siguientes condiciones: \n\na) La elección del medidor, calibración, instalación y mantenimiento de los equipos de medición debe cumplir con lo dispuesto en la Norma Técnica Colombiana NTC-ISO 4064 o aquella que la modifique o sustituya.\nb) El registro consolidado se entregará conforme el modelo de almacenamiento geográfico establecido en la Resolución 2182 del 2016 del MADS, o aquella norma que la modifique o sustituya, y/o el modelo de almacenamiento geográfico complementario para los PPII - YNC publicado en el micrositio de esta autoridad destinado para los Proyectos Piloto de Investigación Integral de Yacimientos no Convencionales. \nc) Adicionalmente, entregar en los Informes de Cumplimiento Ambiental - ICA los certificados de calibración vigente según la periodicidad que establezca el fabricante del equipo.","N/A","Aplica","Aplica","N/A","Aplica","Permanente"]
[21,"CONCESIÓN AGUAS SUBTERRÁNEAS","Registro de niveles y parámetros in situ",null,"Instalar la instrumentación necesaria para medición, registro minuto a minuto y transmisión en tiempo real a esta Autoridad los niveles y parámetros in situ (pH, temperatura, oxigeno disuelto y conductividad eléctrica), y adicionalmente presentar en los ICA lo siguiente:\n\na) Graficar los datos obtenidos manteniendo la información en una hoja de cálculo de manera acumulada y presentar su interpretación. Para el caso de los registros de niveles considerar la corrección barométrica.\nb) Hoja de vida del equipo y certificados vigentes de calibración según la periodicidad que establezca el fabricante del equipo. En caso de que no se cuente con terceros que realicen la calibración de equipos en el país, se deberá presentar el soporte de horas de uso. ","N/A","Aplica","Aplica","N/A","Aplica","Permanente"]
[22,"CONCESIÓN AGUAS SUBTERRÁNEAS","Presentación de los formatos de hoja de vida de pozo de captación y de pozo de observación/piezómetro. \n\nNota: Ver formato de hoja de vida de pozo de captación y de pozo de observación/piezómetro en el anexo correspondiente",null,"Presentar en los respectivos Informes de Cumplimiento Ambiental - ICA el \"Formato de Hoja de Vida de Pozo de Captación - Aguas Subterráneas\" actualizado y el \"Formato de Hoja de Vida de Pozo de Observación/Piezómetro - Aguas Subterráneas\" actualizado.","N/A","Aplica","Aplica","N/A","Aplica","Permanente"]
[23,"CONCESIÓN AGUAS SUBTERRÁNEAS","Aviso informativo en los sitios de captación autorizados",null,"Instalar un aviso informativo de fácil visibilidad en el sitio de captación autorizado, incluyendo la información de la licencia ambiental respecto a la concesión de aguas subterráneas: número, fecha de la resolución que otorga la concesión de aguas, nombre del titular de la licencia, información de contacto, coordenadas del punto de captación, el caudal autorizado de captación y el sitio web de la empresa donde la comunidad puede consultar los resultados de los monitoreos.","N/A","Aplica","Aplica","N/A","Aplica","Temporal"]
[24,"CONCESIÓN AGUAS SUBTERRÁNEAS","Clausura de pozos de captación y pozos de observación/piezómetros",null,"Cuando finalice la captación de agua subterránea, clausurar los pozos de observación y de captación de acuerdo a los lineamientos establecidos en la NTC 5539:2007 y/o conforme a las actualizaciones que se hagan de esta. Presentar informe respectivo y reporte de esta novedad en el \"Formato de Hoja de Vida de Pozo de Captación - Aguas Subterráneas\" y en el \"Formato de Hoja de Vida de Pozo de Observación/Piezómetro - Aguas Subterráneas\", si aplica.","N/A","N/A","N/A","N/A","Aplica","Temporal"]
[25,"CONCESIÓN AGUAS SUBTERRÁNEAS","Programa de Uso Eficiente y Ahorro  de Agua - PUEAA",null,"Presentar en los Informes de Cumplimiento Ambiental - ICA, según el  periodo reportado, los soportes que evidencien el cumplimiento de las metas e indicadores establecidas en el Programa de Uso Eficiente y Ahorro de Agua - PUEAA.","N/A","Aplica","Aplica","N/A","Aplica","Permanente"]
[26,"AGUAS SUBTERRÁNEAS","Monitoreos fisicoquímicos y microbiológicos en la red de monitoreo de agua subterránea\n\nNota: Los aspectos de frecuencia y parámetros a monitorear se evaluarán dentro del programa de monitoreo propuesto por el usuario en el EIA, lo cual se deberá ajustar de acuerdo con los criterios de evaluación, en caso de ser necesario. Asegurar que durante todo el ciclo de fracturamiento hidráulico se realicen monitoreos con mayor frecuencia, teniendo en cuenta la duración y número de etapas de fracturamiento.",null,"Realizar monitoreos fisicoquímicos y microbiológicos en la red de monitoreo de agua subterránea, y entregar la siguiente información en  los Informes de Cumplimiento Ambiental - ICA:\n\na) Cálculo del valor del error analítico de las muestras. El error analítico de aceptación de las muestras será de ±15%. A su vez, deberá emplear relaciones interparamétricas justificando la validez de la muestra.\nb) Reportes de laboratorio, que incluyan la descripción metodológica de la toma de muestras y preservación, y las cadenas de custodia.\nc) Análisis e interpretación de los resultados, evaluando el comportamiento de cada variable a través del tiempo y comparándolo con los parámetros medidos en la línea base presentada en el EIA.\nd) Análisis hidrogeoquímico empleando métodos gráficos adecuados (Piper, Stiff, u otro), relaciones inter paramétricas y correlación de la química del agua con el conocimiento geológico, geoquímico, hidrogeológico y su evolución temporal, identificando un posible cambio de fase hidrogeoquímica respecto a la identificada en la línea base. \ne) Análisis correlacionando la información fisicoquímica y microbiológica de las aguas superficiales y subterráneas.\nf) Almacenar la información obtenida de los monitoreos, de acuerdo con el modelo de almacenamiento geográfico establecido en la Resolución 2182 de 2016 del MADS, o la que la modifique o sustituya, y/o el modelo de almacenamiento geográfico complementario PPII - YNC publicado en el micrositio de esta autoridad destinado para los Proyectos Piloto de Investigación Integral de Yacimientos no Convencionales. \ng) Realizar los monitoreos a través de laboratorios acreditados por el IDEAM, tanto para la toma de la muestra, como para el análisis de los parámetros monitoreados y presentar los respectivos soportes. Dichos laboratorios, deberán contar con las técnicas de medición que cuenten con los límites de detección de los diferentes parámetros que permitan verificar el cumplimiento normativo de los mismos. En caso de que no existan laboratorios nacionales acreditados para el análisis de algún(os) parámetro(s), los laboratorios acreditados por el IDEAM podrán enviar la muestra a un laboratorio internacional acreditado en su país de origen o por un estándar internacional, mientras se surte el proceso de acreditación en los laboratorios nacionales.\nh) Incluir el(los) pozo(s) de concesión de agua subterránea y/o el(los) pozo(s) de observación/piezómetro en la red de monitoreo.","N/A","Aplica","Aplica","Aplica","Aplica","Permanente"]
[27,"AGUAS SUBTERRÁNEAS","Mediciones de nivel piezométrico y parámetros insitu en la red de monitoreo de agua subterránea",null,"Instalar la instrumentación necesaria para medición, registro minuto a minuto y transmisión en tiempo real a esta Autoridad los niveles y parámetros in situ (pH, oxigeno disuelto, temperatura y conductividad eléctrica) en la red de monitoreo de agua subterránea, y adicionalmente presentar en los respectivos Informes de Cumplimiento Ambiental - ICA.                                                                                                                                                                                                                                                                                                                                                                         \n\na) Base de datos con la información solicitada de manera acumulada con la extensión que arroja el equipo. Graficar los datos obtenidos y presentar la interpretación de dicha información. Para el caso de los registros de niveles considerar la corrección barométrica.\nb) Hoja de vida del equipo y certificados vigentes de calibración según la periodicidad que establezca el fabricante del equipo. En caso de que no se cuente con terceros que realicen la calibración de equipos en el país, se deberá presentar el soporte de horas de uso. ","N/A","N/A","Aplica","Aplica","N/A","Permanente"]
[28,"CONCESIÓN AGUAS SUPERFICIALES","Registro de caudal captado",null,"Instalar la instrumentación necesaria para medición, registro minuto a minuto y transmisión en tiempo real a esta Autoridad del caudal captado bajo las siguientes condiciones: \n\na) La elección del medidor, calibración, instalación y mantenimiento de los equipos de medición debe cumplir con lo dispuesto en la Norma Técnica Colombiana NTC-ISO 4064 o aquella que la modifique o sustituya.\nb) El registro consolidado se entregará en los respectivos Informes de Cumplimiento Ambiental - ICA de acuerdo con el modelo de almacenamiento geográfico establecido en la Resolución 2182 del 2016 del MADS, o aquella norma que la modifique o sustituya, y/o el modelo de almacenamiento geográfico complementario para los PPII - YNC publicado en el micrositio de esta autoridad destinado para los Proyectos Piloto de Investigación Integral de Yacimientos no Convencionales. \nc) Adicionalmente, entregar en los Informes de Cumplimiento Ambiental - ICA los certificados de calibración vigente según la periodicidad que establezca el fabricante del equipo.","N/A","Aplica","Aplica","N/A","Aplica","Permanente"]
[29,"CONCESIÓN AGUAS SUPERFICIALES","Mediciones de nivel y caudal del cuerpo de agua donde se realiza la captación",null,"Realizar mediciones de nivel y caudal del cuerpo de agua donde se realiza la captación, dando cumplimiento a las siguientes condiciones:\n\na) Localizar una sección transversal estable en un punto inmediatamente aguas arriba del sitio de la captación, teniendo en cuenta que no haya aportes o extracciones significativas de caudal (naturales o antrópicas), siguiendo los lineamientos establecidos por el Protocolo para el Monitoreo y Seguimiento del Agua (IDEAM, 2007), o aquel que lo modifique o sustituya, para la medición de nivel y caudal e instalar allí la instrumentación automática necesaria para medición horaria y transmisión en tiempo real a esta Autoridad de los niveles y caudales.\nb) Realizar la calibración de la curva nivel-caudal de la sección transversal del cuerpo de agua, siguiendo lo establecido en el Protocolo en mención, para las épocas de máximas precipitaciones, mínimas y de transición, de acuerdo con la variación hidrológica del EIA con el cual se otorga la licencia ambiental. De la misma manera, realizar una vez al año el levantamiento topobatimétrico de la sección transversal donde se calibró la curva nivel-caudal, y en caso de que identifique un cambio significativo en la geometría de la sección transversal presentada históricamente, proyectar los ajustes necesarios de la curva. Presentar los respectivos soportes de la calibración en los Informes de Cumplimiento Ambiental - ICA.\nc) Presentar en los Informes de Cumplimiento Ambiental - ICA el análisis de la información acumulada y su comparación con los caudales obtenidos en la línea base (caudales medios, mínimos, máximos mensuales multianuales y caudales ambientales).","N/A","Aplica","Aplica","N/A","Aplica","Permanente"]
[30,"CONCESIÓN AGUAS SUPERFICIALES","Monitoreos de calidad del recurso hídrico\n\nNota: La frecuencia mínima del monitoreo será mensual, sin embargo, esta se evaluará de acuerdo con las condiciones particulares de cada sitio y considerando el programa de monitoreo propuesto por el usuario en el EIA, lo cual se deberá ajustar según los criterios de evaluación, en caso de ser necesario.",null,"Realizar monitoreos de calidad del recurso hídrico, siguiendo los lineamientos establecidos en la Guía para el Monitoreo de Vertimientos, Aguas Superficiales y Subterráneas del 2002 del IDEAM o cualquiera que lo modifique o sustituya, cumpliendo con las siguientes condiciones:\n\na) Tomar una muestra integrada en la sección transversal establecida de acuerdo con los lineamientos de la Guía en mención.\nb) Realizar los monitoreos aguas abajo del punto de captación, teniendo en cuenta que no haya aportes o extracciones significativas de caudal (naturales o antrópicas) entre los puntos de medición y el punto de captación.\nc) Georreferenciar el punto de captación y los puntos donde se realiza el monitoreo, y almacenar la información obtenida de los monitoreos, de acuerdo con el modelo de almacenamiento geográfico establecido en la Resolución 2182 de 2016 del MADS, o la que la modifique o sustituya, y/o el modelo de almacenamiento geográfico complementario PPII - YNC publicado en el micrositio de esta autoridad destinado para los Proyectos Piloto de Investigación Integral de Yacimientos no Convencionales. \nd) Registrar en cada monitoreo como mínimo los parámetros establecidos en la Tabla 13 (incluyendo bromuros y salinidad) de los términos de referencia de PPII. \ne) Presentar en los Informes de Cumplimiento Ambiental - ICA, los reportes de laboratorio, las cadenas de custodia y el análisis multitemporal de los resultados que refleje la tendencia de la calidad del medio afectado por la concesión y su comparación con la línea base presentada en el EIA. En caso de no cumplir con algún parámetro monitoreado, el titular de la presente licencia ambiental, realizará el análisis y propondrá las medidas a que haya lugar para dar cumplimiento.\nf) Registrar el estado del tiempo (nubosidad, temperatura del aire, velocidad del viento, humedad relativa, temperatura del punto de rocío) durante el monitoreo.\ng)  Realizar los monitoreos a través de laboratorios acreditados por el IDEAM, tanto para la toma de la muestra, como para el análisis de los parámetros monitoreados, y presentar los certificados en los Informes de Cumplimiento Ambiental - ICA. Dichos laboratorios, deberán contar con las técnicas de medición que cuenten con los límites de detección de los diferentes parámetros que permitan verificar el cumplimiento normativo de los mismos.","N/A","Aplica","Aplica","N/A","Aplica","Permanente"]
[31,"CONCESIÓN AGUAS SUPERFICIALES","Suspensión de actividades de captación",null,"Suspender las actividades de captación cuando el caudal aguas arriba del punto de captación sea igual o inferior al caudal ambiental (cuando el caudal ambiental del cuerpo de agua donde se realiza la captación no se encuentre reglamentado por la autoridad regional, deberá tenerse en cuenta el calculado por el proyecto en el EIA), e informar a la autoridad ambiental competente y a la ANLA, dentro de las 24 h posteriores a la situación por los medios legalmente establecidos, sobre la suspensión de actividades. Para ello, el titular de la licencia ambiental, implementará un sistema que permita validar el nivel del caudal previo a la actividad de captación. Así mismo, informar a la autoridad ambiental competente y a la ANLA dentro de las 24 horas posteriores a la reactivación de la captación.","N/A","Aplica","Aplica","N/A","Aplica","Permanente"]
[32,"CONCESIÓN AGUAS SUPERFICIALES","Aviso informativo en el lugar de acceso a los sitios de captación autorizados",null,"Instalar un aviso informativo de fácil visibilidad en el lugar de acceso a los sitios de captación autorizados, el cual incluya la información de la licencia ambiental respecto a  la concesión de aguas: número y fecha de la resolución que otorga la concesión, titular de la licencia, información de contacto, nombre de la fuente hídrica, coordenadas del punto de captación autorizada en la resolución, el caudal autorizado de captación, horario de captación (cuando se capte por carrotanque), caudal ambiental de la fuente y el sitio web de la empresa donde la comunidad puede consultar los resultados de los monitoreos.","N/A","Aplica","Aplica","N/A","Aplica","Temporal"]
[33,"CONCESIÓN AGUAS SUPERFICIALES","Captación del recurso mediante motobomba adosada a carrotanque",null,"Para la captación del recurso mediante motobomba adosada a carrotanque, tener en cuenta:\n\na) Ubicar los carrotanques empleados para realizar las captaciones fuera de la ronda de protección del cuerpo a captar.\nb) Las zonas donde se parqueen los vehículos deberán garantizar la estabilidad de los taludes de las márgenes del cuerpo de agua de donde se realice la captación. \nc) El sitio donde se parqueen los vehículos garantizarán condiciones de impermeabilización y sistema de control de fluidos ante eventuales fugas y derrames de los vehículos.\nd) El vehículo deberá contar con un sistema de micromedición para controlar el caudal captado.\ne) Las motobombas y vehículos transportadores del agua deberán contar con los mantenimientos preventivos. Presentar en los Informes de Cumplimiento Ambiental - ICA los respectivos soportes. \nf) Diligenciar las planillas en campo, que incluyan: placa de vehículo, fecha, hora de inicio y final de la captación y lectura inicial y final del sistema de medición de caudal. Presentar las planillas en los Informes de Cumplimiento Ambiental - ICA.","N/A","Aplica","Aplica","N/A","Aplica","Permanente"]
[34,"CONCESIÓN AGUAS SUPERFICIALES","Captación del recurso mediante equipo de bombeo fijo",null,"Para captación del recurso mediante equipo de bombeo fijo, tener en cuenta:\n\na) Ubicar el equipo de bombeo fijo sobre una base impermeabilizada fuera de la ronda de protección del cuerpo a captar y/o zonificación de manejo, la cual debe contar con techo, cerramiento, equipos para atender posibles conatos de incendios, kits para atender derrames de combustible, canales perimetrales que descolen en un tanque de almacenamiento para su posterior retiro, tratamiento y disposición final como residuo peligroso.\nb) El equipo de bombeo, deberá contar con un sistema de micromedición para controlar el caudal captado. \nc) Las motobombas deberán contar con los mantenimientos preventivos. Presentar en los Informes de Cumplimiento Ambiental - ICA los respectivos soportes. ","N/A","Aplica","Aplica","N/A","Aplica","Permanente"]
[35,"CONCESIÓN AGUAS SUPERFICIALES","Programa de Uso Eficiente y Ahorro de Agua - PUEAA",null,"Presentar en los Informes de Cumplimiento Ambiental - ICA, según el  periodo reportado, los soportes que evidencien el cumplimiento de las metas e indicadores establecidas en el Programa de Uso Eficiente y Ahorro de Agua - PUEAA.","N/A","Aplica","Aplica","N/A","Aplica","Permanente"]
[36,"AGUAS SUPERFICIALES","Monitoreos de calidad de los cuerpos de agua superficiales del área de influencia del proyecto\n\nNota 1: Los aspectos de frecuencia (la cual debe ser como mínimo mensual) y parámetros a monitorear, se evaluarán de acuerdo con las condiciones particulares de cada sitio y considerando el programa de monitoreo propuesto por el usuario en el EIA, lo cual se deberá ajustar según los criterios de evaluación, en caso de ser necesario. Asegurar que durante todo el ciclo de fracturamiento hidráulico se realicen monitoreos con mayor frecuencia, teniendo en cuenta la duración y número de etapas de fracturamiento.\nNota 2: Si en el marco de la evaluación, se considera conveniente adicionar más parámetros a los establecidos en el Tabla 7 de los TdR, se podrán adicionar en el literal b) de la presente obligación.\nNota 3: Tener en cuenta que los puntos de monitoreo de uso y aprovechamiento del recurso deben estar articulados con la red de monitoreo del recurso hídrico en el área del influencia del PPII.",null,"Realizar monitoreos fisicoquímicos, bacteriológicos e hidrobiológicos a las fuentes de agua superficial presentes en el área de influencia del proyecto susceptibles de ser intervenidos e impactados, mediante la toma de muestras integradas en la sección transversal siguiendo los lineamientos establecidos en la Guía para el Monitoreo de Vertimientos, Aguas Superficiales y Subterráneas del 2002 del IDEAM, o cualquiera que la modifique o sustituya, dando cumplimiento a las siguientes condiciones:\n\na) Realizar los monitoreo en los mismos puntos donde se caracterizó la línea base en el Estudio de Impacto Ambiental.\nb) Registrar en cada monitoreo como mínimo los parámetros establecidos en la Tabla 7. Relación de los parámetros fisicoquímicos a monitorear para caracterizar los cuerpos de agua superficiales del área de influencia del proyecto de los términos de referencia para los PPII. \nc) Presentar en los Informes de Cumplimiento Ambiental - ICA, los reportes de laboratorio, las cadenas de custodia y el análisis de la tendencia de la calidad del medio afectado, comparándola con la línea base presentada en el EIA.\nd) Georreferenciar el punto donde se realizan los monitoreos, y almacenar la información obtenida de los mismos, de acuerdo con el modelo de almacenamiento geográfico establecido en la Resolución 2182 de 2016 del MADS, o la que la modifique o sustituya, y/o el modelo de almacenamiento geográfico complementario PPII - YNC publicado en el micrositio de esta autoridad destinado para los Proyectos Piloto de Investigación Integral de Yacimientos no Convencionales. \ne) Realizar los monitoreos a través de laboratorios acreditados por el IDEAM, tanto para la toma de la muestra, como para el análisis de los parámetros monitoreados, y presentar los certificados en los Informes de Cumplimiento Ambiental - ICA. Dichos laboratorios, deberán contar con las técnicas de medición que cuenten con los límites de detección de los diferentes parámetros que permitan verificar el cumplimiento normativo de los mismos.","N/A","Aplica","Aplica","Aplica","Aplica","Permanente"]
[37,"AGUAS SUPERFICIALES","Mediciones de nivel y caudal en los cuerpos de agua superficiales del área de influencia del proyecto",null,"Realizar mediciones de nivel y caudal de las fuentes de agua superficial presentes en el área de influencia del proyecto susceptibles de ser intervenidos e impactados (concesiones, vertimientos, ocupaciones y otros puntos que deban ser considerados por su importancia), dando cumplimiento a las siguientes condiciones:\n\na) Localizar una sección transversal estable siguiendo los lineamientos establecidos por el Protocolo para el Monitoreo y Seguimiento del Agua (IDEAM, 2007), o aquel que lo modifique o sustituya, para la medición de nivel y caudal e instalar allí la instrumentación automática necesaria para medición horaria y transmisión en tiempo real a esta Autoridad de los niveles y caudales.\nb) Realizar las mediciones en un punto representativo donde se puedan apreciar los posible cambios asociados al proyecto, teniendo en cuenta que no haya aportes o extracciones significativas de caudal (naturales o antrópicas).\nc) Realizar la calibración de la curva nivel-caudal de la sección transversal del cuerpo de agua, siguiendo lo establecido en el Protocolo en mención, para las épocas de máximas precipitaciones, mínimas y de transición, de acuerdo con la variación hidrológica del EIA con el cual se otorga la licencia ambiental. De la misma manera, realizar una vez al año el levantamiento topobatimétrico de la sección transversal donde se calibró la curva nivel-caudal, y en caso de que identifique un cambio significativo en la geometría de la sección transversal presentada históricamente, proyectar los ajustes necesarios de la curva. Presentar los respectivos soportes en los Informes de Cumplimiento Ambiental - ICA.\nd) Presentar en los Informes de Cumplimiento Ambiental - ICA el análisis de la información acumulada y su comparación con los caudales obtenidos en la línea base (caudales medios, mínimos, máximos mensuales multianuales y caudales ambientales).","N/A","Aplica","Aplica","Aplica","Aplica","Permanente"]
[38,"OCUPACIÓN DE CAUCE","Protección de las áreas intervenidas",null,"Garantizar la protección de las áreas intervenidas para la ocupación, dando cumplimiento a lo siguiente:\n\na) Realizar las obras geotécnicas necesarias para la estabilización de taludes y reconformación morfológica de las márgenes de los cauces, sin afectar el caudal y la dinámica natural de las corrientes de agua.\nb) Hacer seguimiento detallado durante todo el proceso constructivo de las obras autorizadas, de las obras de protección geotécnica y del estado de las márgenes del cauce. Presentar en cada Informe de Cumplimiento Ambiental - ICA según el periodo reportado, las actividades realizadas, evidenciando su cumplimiento a través de un registro fotográfico que incluya las condiciones iniciales del mismo.\nc) Realizar labores de revegetalización de las áreas intervenidas con especies nativas de la región.\nd) El permiso no incluye intervenciones en los cuerpos de agua diferentes a las autorizadas.","N/A","Aplica","N/A","N/A","N/A","Permanente"]
[39,"OCUPACIÓN DE CAUCE","Monitoreos de calidad del cuerpo de agua donde se realiza la ocupación de cauce.",null,"Realizar monitoreos de calidad de (el o los) cuerpo(s) de agua donde se realiza la ocupación de cauce, siguiendo los lineamientos establecidos en la Guía para el Monitoreo de Vertimientos, Aguas Superficiales y Subterráneas del 2002 del IDEAM,  o aquella que la modifique o sustituya, y bajo las siguientes condiciones: \n\na) Realizar un monitoreo de la calidad del agua en el transcurso de la semana previa a la iniciación de las obras asociadas a la ocupación.\nb) Realizar un monitoreo de calidad de agua mensual cuando las obras de ocupación de cauce tengan una duración igual o mayor a un mes y un monitoreo de calidad de agua cuando las obras de ocupación de cauce tengan una duración menor a un mes.\nc) Realizar un monitoreo de la calidad del agua en el transcurso de la semana siguiente a la finalización de las obras asociadas a la ocupación.\nd) Para cada monitoreo de calidad del agua tomar una muestra integrada en la sección transversal, registrando en cada uno de ellos los siguientes parámetros: pH, temperatura, color real, turbidez, conductividad eléctrica, grasas y aceites, DBO5, DQO, sólidos suspendidos totales, sólidos sedimentables, sólidos disueltos totales, sólidos totales y TPH, de acuerdo con la Tabla 13 de los términos de referencia de PPII. \ne) Presentar en los Informes de Cumplimiento Ambiental - ICA, los reportes de laboratorio, las cadenas de custodia y análisis global de los resultados y de la tendencia de la calidad del medio afectado por las ocupaciones, comparándola con la línea base presentada en el EIA.\nf) Realizar los monitoreos de calidad del agua y las mediciones de caudal en dos puntos: uno aguas arriba y el otro aguas abajo del sitio de ocupación, teniendo en cuenta que no haya aportes o extracciones significativas de caudal (naturales o antrópicas) entre el punto de medición y el punto de la ocupación.\ng) Georreferenciar los puntos donde se realiza el monitoreo y almacenar la información obtenida de los monitoreos, de acuerdo con el modelo de almacenamiento geográfico establecido en la Resolución 2182 de 2016 del MADS, o la que la modifique o sustituya, y/o el modelo de almacenamiento geográfico complementario PPII - YNC publicado en el micrositio de esta autoridad destinado para los Proyectos Piloto de Investigación Integral de Yacimientos no Convencionales. \nh) Realizar los monitoreos a través de laboratorios acreditados por el IDEAM, tanto para la toma de la muestra, como para el análisis de los parámetros monitoreados, y presentar los certificados en los Informes de Cumplimiento Ambiental - ICA. Dichos laboratorios, deberán contar con las técnicas de medición que cuenten con los límites de detección de los diferentes parámetros que permitan verificar el cumplimiento normativo de los mismos.\ni) Registrar el estado del tiempo (nubosidad, temperatura del aire, velocidad del viento, humedad relativa, temperatura del punto de rocío) durante cada monitoreo de calidad del agua.\nj) En los casos en que el caudal asociado a la ocupación de cauce no sea suficiente para la toma y análisis de las muestras, justificar técnicamente y presentar evidencia fotográfica en los Informes de Cumplimiento Ambiental - ICA.","N/A","Aplica","N/A","N/A","N/A","Permanente"]
[40,"OCUPACIÓN DE CAUCE","Informe del análisis histórico de la dinámica fluvial de las corrientes asociadas a la ocupación",null,"Presentar en los Informes de Cumplimiento Ambiental - ICA:\n\na) Un informe actualizado del análisis histórico de la dinámica fluvial de las corrientes asociadas a la ocupación finalizada la obra, y cada año durante la ejecución del proyecto (a partir de fotografías aéreas, sensores remotos u otra información secundaria de diferentes épocas), en caso en que la información secundaria no permita evidenciar la obra y las corrientes asociadas, se deberá emplear información primaria, que permita verificar los cambios respecto a la línea base en la morfología de las orillas del cuerpo de agua objeto de la ocupación. En caso de que se evidencien cambios, el titular de la licencia ambiental formulará y ejecutará las correspondientes medidas para el mejoramiento y/o sustitución de la obra de ocupación de cauce. \nb) Un reporte del estado las obras asociadas a la ocupación de cauce (márgenes, taludes, revegetalización, entre otros) y de las actividades ejecutadas que garanticen el normal flujo del agua a través de la obra de ocupación, con su respectivo registro fotográfico.","N/A","Aplica","Aplica","N/A","Aplica","Permanente"]
[41,"OCUPACIÓN DE CAUCE","Monitoreos de calidad de agua cuando haya intervención de la obra durante la fase de operación",null,"Realizar monitoreos de calidad del cuerpo de agua donde se realiza la ocupación de cauce, si durante la fase de operación se realiza intervención que implique complementos constructivos a las obras asociadas a la ocupación, teniendo en cuenta las mismas condiciones establecidas para dichos monitoreos durante su fase constructiva. Presentar los soportes en los respectivos Informes de Cumplimiento Ambiental - ICA, según el periodo reportado.","N/A","N/A","Aplica","N/A","N/A","Temporal"]
[42,"VERTIMIENTO EN AGUA SUPERFICIAL DE ARD y ARnD","Suspensión de actividades de vertimiento\n\nNota: Para ARnD se exceptúan las aguas de producción y el fluido de retorno de acuerdo con el parágrafo 2 del artículo 11 de la Resolución 631 del 2015.",null,"Suspender las actividades de vertimiento cuando se presenten las situaciones de las que trata el artículo 2.2.3.3.4.15 del Decreto 1076 de 2015, o la norma que lo modifique o sustituya, e informar a la autoridad ambiental regional y a la ANLA, dentro de las 24 h posteriores a la situación y por los medios legalmente establecidos, sobre la suspensión de actividades y/o la puesta en marcha del Plan de Gestión del Riesgo para el Manejo de Vertimientos cuando:\n\na) La reparación y reinicio de los sistemas de tratamiento requieran más de tres (3) horas diarias.\nb) El caudal medido sobre la fuente receptora aguas arriba del punto de vertimiento sea igual o inferior al caudal ambiental (cuando el caudal ambiental del cuerpo de agua donde se realiza la captación no se encuentre reglamentado por la autoridad regional, deberá tenerse en cuenta el calculado por el proyecto en el EIA). Para ello, el titular de la licencia ambiental, implementará un sistema que permita validar el nivel del caudal previo a la actividad del vertimiento. \n\nAsí mismo, informar a la autoridad ambiental competente y a la ANLA dentro de las 24 horas posteriores a la reactivación del vertimiento.","N/A","Aplica","Aplica","N/A","Aplica","Permanente"]
[43,"VERTIMIENTO EN AGUA SUPERFICIAL DE ARD y ARnD","Monitoreos de calidad del recurso hídrico en el cuerpo de agua donde se realiza el vertimiento\n\nNota 1: Para ARnD se exceptúan las aguas de producción y el fluido de retorno de acuerdo con el parágrafo 2 del artículo 11 de la Resolución 631 del 2015.\n\nNota 2: La frecuencia mínima del monitoreo será mensual, sin embargo, esta se evaluará de acuerdo con las condiciones particulares de cada sitio y considerando el programa de monitoreo propuesto por el usuario en el EIA, lo cual se deberá ajustar según los criterios de evaluación, en caso de ser necesario.",null,"Realizar monitoreos de calidad del recurso hídrico en el cuerpo de agua donde se realiza el vertimiento, mediante la toma de muestras integradas en la sección transversal siguiendo los lineamientos establecidos en la Guía para el Monitoreo de Vertimientos, Aguas Superficiales y Subterráneas del 2002 del IDEAM, o cualquiera que la modifique o sustituya, dando cumplimiento a las siguientes condiciones:\n\na) Realizar las mediciones de caudal aguas arriba y aguas abajo del vertimiento de manera simultánea a la toma de muestras, teniendo en cuenta que no haya aportes o extracciones significativas de caudal (naturales o antrópicas) entre los puntos de medición y el punto de vertimiento. Presentar la base de datos en los respectivos Informes de Cumplimiento Ambiental - ICA.\nb) Realizar el monitoreo aguas arriba y aguas abajo siguiendo la masa de agua: 1) Aguas arriba del punto de vertimiento y 2) Aguas abajo del vertimiento, en un punto situado después de la distancia de mezcla completa estimada desde el sitio de la descarga. Estos puntos deberán coincidir con los definidos en el Estudio de Impacto Ambiental.\nc) Registrar en cada monitoreo los parámetros físico químicos establecidos en la Resolución 631 de 2015 o aquella que la modifique o sustituya. De igual manera, se deben contemplar los parámetros establecidos en los Planes de Ordenamiento y Manejo de Cuencas Hidrográficas - POMCAs y en los Planes de Ordenamiento del Recurso Hídrico - PORH. \nd) Monitorear las siguientes comunidades hidrobiológicas: perifiton, bentos y fauna íctica para cuerpos lóticos, y adicionalmente plancton y macrófitas para cuerpos lénticos. \ne) Registrar el estado del tiempo (nubosidad, temperatura del aire, velocidad del viento, humedad relativa, temperatura del punto de rocío) durante el monitoreo.\nf) Presentar en los Informes de Cumplimiento Ambiental - ICA, los reportes de laboratorio, las cadenas de custodia y el análisis de la tendencia de la calidad del medio afectado por el vertimiento, comparándola con la línea base presentada en el EIA.\ng) Georreferenciar el punto donde se realiza el vertimiento y los puntos donde se realiza el monitoreo, y almacenar la información obtenida de los monitoreos, de acuerdo con el modelo de almacenamiento geográfico establecido en la Resolución 2182 de 2016 del MADS, o la que la modifique o sustituya, y/o el modelo de almacenamiento geográfico complementario PPII - YNC publicado en el micrositio de esta autoridad destinado para los Proyectos Piloto de Investigación Integral de Yacimientos no Convencionales. \nh) Realizar los monitoreos a través de laboratorios acreditados por el IDEAM, tanto para la toma de la muestra, como para el análisis de los parámetros monitoreados, y presentar los certificados en los Informes de Cumplimiento Ambiental - ICA. Dichos laboratorios, deberán contar con las técnicas de medición que cuenten con los límites de detección de los diferentes parámetros que permitan verificar el cumplimiento normativo de los mismos.\ni) Cuando entre el punto de monitoreo y el punto de vertimiento se presenten aportes o extracciones, estas se monitorearán y cuantificarán (calidad y cantidad). Presentar los respectivos soportes en los Informes de Cumplimiento Ambiental - ICA. ","N/A","Aplica","Aplica","N/A","Aplica","Permanente"]
[44,"VERTIMIENTO EN AGUA SUPERFICIAL DE ARD y ARnD","Monitoreo de sedimentos\n\nNota 1: Para ARnD se exceptúan las aguas de producción y el fluido de retorno de acuerdo con el parágrafo 2 del artículo 11 de la Resolución 631 del 2015.\n\nNota 2: La frecuencia mínima del monitoreo será mensual, sin embargo, esta se evaluará de acuerdo con las condiciones particulares de cada sitio y considerando el programa de monitoreo propuesto por el usuario en el EIA, lo cual se deberá ajustar según los criterios de evaluación, en caso de ser necesario.",null,"Realizar monitoreos del sedimento de fondo en el cuerpo de agua donde se realiza el vertimiento. Dichos monitoreos deberán cumplir con las siguientes condiciones:\n\na) Cada monitoreo de sedimento debe realizarse en los mismos puntos donde se realizan los monitoreos de calidad del recurso hídrico y de manera simultánea.\nb) Realizar caracterización física y química del sedimento de fondo evaluando los parámetros establecidos en Guía Nacional de Modelación del Recurso Hídrico para Aguas Superficiales Continentales, adoptada por la Resolución 959 de 2018 del Ministerio de Ambiente y Desarrollo Sostenible, o aquella que la modifique o sustituya, y aquellos adicionales asociados a la actividad del PPII. En caso de que por la naturaleza del proyecto, requiera de la exclusión de algún(nos) parámetros(s), se deberá justificar mediante balances de materia o de masa y/o con la realización de la respectiva caracterización que demuestre que estos no se encuentran presentes en sus aguas residuales. Dentro de la justificación, puede hacer uso de la información de las hojas técnicas de las materias primas e insumos empleados en el proceso. \nc) Presentar en los Informes de Cumplimiento Ambiental - ICA, los reportes de laboratorio, las cadenas de custodia y el análisis de la tendencia de la calidad del medio afectado por el vertimiento, comparándola con la línea base presentada en el EIA y con los estándares establecidos en el Protocolo Louisiana 29B.\nd) Realizar los monitoreos a través de laboratorios acreditados por el IDEAM, tanto para la toma de la muestra, como para el análisis de los parámetros monitoreados, y presentar los certificados en los Informes de Cumplimiento Ambiental - ICA. Dichos laboratorios, deberán contar con las técnicas de medición que cuenten con los límites de detección de los diferentes parámetros que permitan verificar el cumplimiento normativo de los mismos.","N/A","Aplica","Aplica","N/A","Aplica","Permanente"]
[45,"VERTIMIENTO EN AGUA SUPERFICIAL DE ARD y ARnD","Monitoreo del vertimiento\n\nNota 1: Para ARnD se exceptúan las aguas de producción y el fluido de retorno de acuerdo con el parágrafo 2 del artículo 11 de la Resolución 631 del 2015.\n\nNota 2: La frecuencia mínima del monitoreo será mensual, sin embargo, esta se evaluará de acuerdo con las condiciones particulares de cada sitio y considerando el programa de monitoreo propuesto por el usuario en el EIA, lo cual se deberá ajustar según los criterios de evaluación, en caso de ser necesario.",null,"Realizar monitoreos de las aguas residuales domésticas y no domésticas a la entrada y salida del sistema de tratamiento, mediante un muestreo compuesto de 24 horas (o durante el tiempo en que se realice el vertimiento) con mediciones horarias, siguiendo lo establecido en la Guía para el Monitoreo de Vertimientos, Aguas Superficiales y Subterráneas del 2002 del IDEAM, o cualquiera que la modifique o sustituya, dando cumplimiento a las siguientes condiciones:\n\na) La fecha de realización del monitoreo del vertimiento debe coincidir con la fecha de realización del monitoreo de calidad del cuerpo receptor.\nb) Registrar en cada monitoreo del vertimiento los parámetros establecidos en la Resolución 631 de 2015 o aquella que la modifique o sustituya. \nc) Presentar en los Informes de Cumplimiento Ambiental - ICA, los reportes de laboratorio, las cadenas de custodia y el análisis de los resultados de los monitoreos, que incluya las correlaciones entre variaciones de proceso y variaciones en las mediciones, así como la comparación de los resultados con los límites establecidos en la normativa mencionada.\nd) Realizar los monitoreos a través de laboratorios acreditados por el IDEAM, tanto para la toma de la muestra, como para el análisis de los parámetros monitoreados, y presentar los certificados en los Informes de Cumplimiento Ambiental - ICA. Dichos laboratorios, deberán contar con las técnicas de medición que cuenten con los límites de detección de los diferentes parámetros que permitan verificar el cumplimiento normativo de los mismos.\ne) Presentar la información del vertimiento en los respectivos Informes de Cumplimiento Ambiental - ICA de acuerdo con el modelo de almacenamiento geográfico establecido en la Resolución 2182 del 2016 del MADS, o aquella norma que la modifique o sustituya, y/o el modelo de almacenamiento geográfico complementario para los PPII - YNC publicado en el micrositio de esta autoridad destinado para los Proyectos Piloto de Investigación Integral de Yacimientos no Convencionales.","N/A","Aplica","Aplica","N/A","Aplica","Permanente"]
[46,"VERTIMIENTO EN AGUA SUPERFICIAL DE ARD y ARnD","Validación del modelo de calidad de agua\n\nNota: Para ARnD se exceptúan las aguas de producción y el fluido de retorno de acuerdo con el parágrafo 2 del artículo 11 de la Resolución 631 del 2015.",null,"Validar una vez al año y presentar en los respectivos Informes de Cumplimiento Ambiental - ICA el modelo de calidad del agua para los cuerpos de agua donde se autoriza el vertimiento, siguiendo lo establecido en la Guía Nacional de Modelación del Recurso Hídrico para Aguas Superficiales Continentales, adoptada por la Resolución 959 de 2018 del Ministerio de Ambiente y Desarrollo Sostenible, o aquella que la modifique o sustituya, dando cumplimiento a las siguientes condiciones:\n\na) Registrar en cada monitoreo los parámetros físicos, químicos, microbiológicos e hidrobiológicos establecidos en la Guía Nacional de Modelación del Recurso Hídrico para Aguas Superficiales Continentales. En caso de que por la naturaleza del proyecto, requiera de la exclusión de algún(nos) parámetros(s), justificar mediante balances de materia o de masa y/o con la realización de la respectiva caracterización que demuestre que estos no se encuentran presentes en sus aguas residuales. Dentro de la justificación, puede hacer uso de la información de las hojas técnicas de las materias primas e insumos empleados en el proceso. \nb) Presentar en los Informes de Cumplimiento Ambiental - ICA, los reportes de laboratorio, las cadenas de custodia y el análisis de la tendencia de la calidad del medio afectado por el vertimiento, comparándola con la línea base presentada en el EIA.\nc) La fecha de realización de los monitoreos insumo para la actualización del modelo, debe coincidir con la fecha de realización de los monitoreos de calidad del cuerpo receptor y serán complemento de los parámetros monitoreados en el cuerpo de agua receptor.\nd) Realizar el monitoreo aguas arriba y aguas abajo siguiendo la masa de agua: 1) Aguas arriba del punto de vertimiento y 2) Aguas abajo del vertimiento, en un punto situado después de la distancia de mezcla completa estimada desde el sitio de la descarga. Los puntos deberán coincidir con los definidos en el Estudio de Impacto Ambiental.","N/A","Aplica","Aplica","N/A","Aplica","Permanente"]
[47,"VERTIMIENTO EN AGUA SUPERFICIAL DE ARD y ARnD","Mantenimiento preventivo o correctivo del sistema de tratamiento de aguas residuales\n\nNota: Para ARnD se exceptúan las aguas de producción y el fluido de retorno de acuerdo con el parágrafo 2 del artículo 11 de la Resolución 631 del 2015.",null,"Presentar en los Informes de Cumplimiento Ambiental - ICA, los soportes que evidencien las actividades de mantenimiento preventivo o correctivo efectuadas al sistema de tratamiento de aguas residuales (minuta u hoja de vida del sistema de tratamiento e informes de disposición de lodos producto del mantenimiento), en cumplimiento del artículo 2.2.3.3.4.16 del Decreto 1076 de 2015, o la norma que lo modifique o sustituya.","N/A","Aplica","Aplica","N/A","Aplica","Permanente"]
[48,"VERTIMIENTO EN AGUA SUPERFICIAL DE ARD y ARnD","Aviso informativo en el lugar del vertimiento\n\nNota: Para ARnD se exceptúan las aguas de producción y el fluido de retorno de acuerdo con el parágrafo 2 del artículo 11 de la Resolución 631 del 2015.",null,"Instalar un aviso informativo de fácil visibilidad en el lugar del vertimiento autorizado, el cual incluya la información de la licencia ambiental respecto al permiso de vertimiento: número y fecha de la resolución que autoriza el permiso de vertimiento, titular de la licencia, información de contacto, nombre de la fuente hídrica, coordenadas del punto de vertimiento autorizado en la resolución,  caudal del vertimiento autorizado (l/s), caudal ambiental de la fuente y el sitio web de la empresa donde la comunidad puede consultar los resultados de los monitoreos.","N/A","Aplica","Aplica","N/A","Aplica","Temporal"]
[49,"VERTIMIENTO EN \nSUELO DE ARD y ARnD","Instalación red piezométrica para monitoreo.\n \nNota 1: Para ARnD se exceptúan las aguas de producción y el fluido de retorno de acuerdo con el parágrafo 3 del artículo 2.2.3.3.4.9 del Decreto 50 del 2018. \n\nNota 2:  El diseño de la red deberá evaluarse de acuerdo con lo propuesto en el EIA por parte del usuario. En caso de que no se presente el diseño de la red, se deberá imponer la presente obligación. ",null,"Realizar la instalación de la red para monitoreo de aguas subterráneas en la zona de riego/aspersión autorizada antes de la puesta en marcha del sistema de vertimiento en suelos, dando cumplimiento a lo siguiente: \n \na) Contemplar un número representativo de piezómetros para lo cual presentará la justificación técnica del número de piezómetros a implementar en el primer Informe de Cumplimiento Ambiental de la fase de construcción. \nb) Localizarse aguas arriba y aguas abajo del área de vertimiento de acuerdo a la dirección del flujo local de las aguas subterráneas.  \nc)Georreferenciar los pozos de observación/piezómetros de acuerdo con el modelo de almacenamiento geográfico establecido en la Resolución 2182 de 2016 del MADS, o la que la modifique o sustituya, y/o el modelo de almacenamiento geográfico complementario PPII - YNC publicado en el micrositio de esta autoridad destinado para los Proyectos Piloto de Investigación Integral de Yacimientos no Convencionales. \nd) Los pozos de observación/piezómetros se deberán nivelar topográficamente. \ne) Los pozos deberán  contar con un mecanismo de protección que impida el ingreso de sustancias en su interior.","N/A","Aplica","Aplica","N/A","Aplica","Temporal"]
[50,"VERTIMIENTO EN \nSUELO DE ARD y ARnD","Clausura de pozos de observación/piezómetros\n\nNota 1: Para ARnD se exceptúan las aguas de producción y el fluido de retorno de acuerdo con el parágrafo 3 del artículo 2.2.3.3.4.9 del Decreto 50 del 2018. \n\nNota 2: Ver formato de hoja de vida de pozo de observación/piezómetro en el anexo correspondiente",null,"Clausurar los pozos de observación/piezómetros, de acuerdo con los lineamientos establecidos en la NTC 5539:2007 -sección 4.10- y/o conforme a las actualizaciones que se hagan de esta una vez se finalicen los vertimientos en suelos y se compruebe de manera previa mediante un monitoreo de calidad de aguas subterráneas con base en la caracterización en la línea base, que no existen impactos residuales por la ejecución del vertimiento. Presentar los soportes que evidencien la no afectación al recurso agua, el informe de las actividades de clausura y el reporte de esta novedad en el \"Formato de Hoja de Vida de Pozo de Observación/Piezómetro - Aguas Subterráneas\" en los respectivos Informes de Cumplimiento Ambiental - ICA.","N/A","N/A","N/A","N/A","Aplica","Temporal"]
[51,"VERTIMIENTO EN \nSUELO DE ARD y ARnD","Monitoreos de suelo receptor para vertimiento de ARnD\n\nNota 1: Para ARnD se exceptúan las aguas de producción y el fluido de retorno de acuerdo con el parágrafo 3 del artículo 2.2.3.3.4.9 del Decreto 50 del 2018.\n\nNota 2: La frecuencia de monitoreo se evaluará dentro del programa de monitoreo propuesto por el usuario en el EIA, lo cual se deberá ajustar de acuerdo con los criterios de evaluación, en caso de ser necesario. ",null,"Para aguas residuales no domésticas  - ARnD tratadas, realizar monitoreos fisicoquímicos y biológicos del suelo receptor, dando cumplimiento a las siguientes condiciones:\n\na) Realizar la toma de muestras puntuales y análisis de parámetros fisicoquímicos y biológicos establecidos en el artículo 2.2.3.3.4.9 del Decreto 1076 de 2015, o aquel que lo modifique o sustituya, en cada área de disposición. \nb) Realizar la toma de muestras con base en los criterios definidos en los TdR de PPII. \nc) Realizar los monitoreos a través de laboratorios acreditados por el IDEAM, tanto para la toma de la muestra, como para el análisis de los parámetros monitoreados. En caso de que no existan laboratorios nacionales acreditados para el análisis de algún(os) parámetro(s), los laboratorios acreditados por el IDEAM podrán enviar la muestra a un laboratorio internacional acreditado en su país de origen o por un estándar internacional, mientras se surte el proceso de acreditación en los laboratorios nacionales. Presentar dichos soportes en los Informes de Cumplimiento Ambiental - ICA.\nd) Presentar en los Informes de Cumplimiento Ambiental - ICA, los reportes de laboratorio, las cadenas de custodia y el análisis de resultados de monitoreos en una base temporal para cada variable, empleando gráficas de tendencia de concentración versus tiempo (actualizar las gráficas con la información recolectada en cada muestreo); el análisis estará orientado a medir el cambio en las propiedades iniciales del suelo (línea base) por efectos del vertimiento en cada sitio de muestra analizada.\ne) Presentar la información consolidada de los monitoreos en los respectivos Informes de Cumplimiento Ambiental - ICA de acuerdo con el modelo de almacenamiento geográfico establecido en la Resolución 2182 del 2016 del MADS, o aquella norma que la modifique o sustituya, y/o el modelo de almacenamiento geográfico complementario para los PPII - YNC publicado en el micrositio de esta autoridad destinado para los Proyectos Piloto de Investigación Integral de Yacimientos no Convencionales.","N/A","Aplica","Aplica","N/A","Aplica","Permanente"]
[52,"VERTIMIENTO EN \nSUELO DE ARD y ARnD","Monitoreos de suelo receptor para vertimiento de ARD\n\nNota: La frecuencia de monitoreo se evaluará dentro del programa de monitoreo propuesto por el usuario en el EIA, lo cual se deberá ajustar de acuerdo con los criterios de evaluación, en caso de ser necesario. ",null,"Para aguas residuales domésticas - ARD tratadas, realizar monitoreos fisicoquímicos y biológicos del suelo receptor, dando cumplimiento a las siguientes condiciones:\n\na) Realizar la toma de muestras puntuales y análisis de parámetros: textura (porcentaje de arena, limo y arcilla), densidad real, densidad aparente, materia orgánica, pH, cloruros, conductividad eléctrica, capacidad de intercambio catiónico, grasas y aceites, bario, cadmio, mercurio, bacterias totales y HTP, en cada área de disposición. \nb) Realizar la toma de muestras con base en los criterios definidos en los TdR de PPII. \nc) Realizar los monitoreos a través de laboratorios acreditados por el IDEAM, tanto para la toma de la muestra, como para el análisis de los parámetros monitoreados. En caso de que no existan laboratorios nacionales acreditados para el análisis de algún(os) parámetro(s), los laboratorios acreditados por el IDEAM podrán enviar la muestra a un laboratorio internacional acreditado en su país de origen o por un estándar internacional, mientras se surte el proceso de acreditación en los laboratorios nacionales. Presentar dichos soportes en los Informes de Cumplimiento Ambiental - ICA.\nd) Presentar en los Informes de Cumplimiento Ambiental - ICA, los reportes de laboratorio, las cadenas de custodia y el análisis de resultados de monitoreos en una base temporal para cada variable, empleando gráficas de tendencia de concentración versus tiempo (actualizar las gráficas con la información recolectada en cada muestreo); el análisis estará orientado a medir el cambio en las propiedades iniciales del suelo (línea base) por efectos del vertimiento en cada sitio de muestra analizada, así como con los límites genéricos basados en riesgos (LGBR) de la EPA (https://www.epa.gov/risk/regional-screening-levels-rsls-generic-tables,  Niveles de Detección Regional (RSLs) - Niveles de Detección (TR = 1E-06 THQ = 1.0) - Tabla resumen - Suelo Industrial).\ne) Presentar la información consolidada de los monitoreos en los respectivos Informes de Cumplimiento Ambiental - ICA de acuerdo con el modelo de almacenamiento geográfico establecido en la Resolución 2182 del 2016 del MADS, o aquella norma que la modifique o sustituya, y/o el modelo de almacenamiento geográfico complementario para los PPII - YNC publicado en el micrositio de esta autoridad destinado para los Proyectos Piloto de Investigación Integral de Yacimientos no Convencionales.","N/A","Aplica","Aplica","N/A","Aplica","Permanente"]
[53,"VERTIMIENTO EN \nSUELO DE ARD y ARnD","Monitoreos de aguas subterráneas para vertimiento ARnD\n\nNota 1: Para ARnD se exceptúan las aguas de producción y el fluido de retorno de acuerdo con el parágrafo 3 del artículo 2.2.3.3.4.9 del Decreto 50 del 2018. \n\nNota 2: La frecuencia de monitoreo se evaluará dentro del programa de monitoreo propuesto por el usuario en el EIA, lo cual se deberá ajustar de acuerdo con los criterios de evaluación, en caso de ser necesario.",null,"Para aguas residuales no domésticas - ARnD tratadas, realizar monitoreos fisicoquímicos y microbiológicos de las aguas subterráneas en cada uno de los pozos de observación/piezómetros instalados, dando cumplimento a las siguientes condiciones: \n \na) Realizar la toma de muestras puntuales y análisis de parámetros fisicoquímicos y biológicos establecidos en el artículo 2.2.3.3.4.9 del Decreto 1076 de 2015, o aquel que lo modifique o sustituya, y complementarlo con los parámetros adicionales incluidos en la Tabla 8 de los TdR de PPII. \nb) Calcular y presentar el valor del error analítico de las muestras en los Informes de Cumplimiento Ambiental – ICA. El error analítico de aceptación de las muestras será de ±15%. A su vez, deberá emplear relaciones interparamétricas justificando la validez de la muestra. \nc) Realizar la toma de muestras siguiendo la Guía para el Monitoreo de Vertimientos, Aguas Superficiales y Subterráneas del 2002 del IDEAM o aquella que lo modifique o sustituya. \nd) Realizar los monitoreos a través de laboratorios acreditados por el IDEAM, tanto para la toma de la muestra, como para el análisis de los parámetros monitoreados. Presentar los certificados en los Informes de Cumplimiento Ambiental - ICA. \ne) Llevar un registro del nivel freático de cada pozo de observación/piezómetro de la red instalada, con el fin de analizar la variación del nivel freático del área de vertimiento, teniendo en cuenta el caudal vertido y el régimen de precipitación. Presentar los soportes en los Informes de Cumplimiento Ambiental – ICA. \nf) Presentar en los Informes de Cumplimiento Ambiental - ICA, los reportes de laboratorio, las cadenas de custodia y el análisis de resultados de monitoreos en una base temporal para cada variable, empleando gráficas de tendencia de concentración versus tiempo (actualizar las gráficas con la información recolectada en cada muestreo).  \ng) Presentar la información consolidada de los monitoreos en los respectivos Informes de Cumplimiento Ambiental - ICA de acuerdo con el modelo de almacenamiento geográfico establecido en la Resolución 2182 del 2016 del MADS, o aquella norma que la modifique o sustituya, y/o el modelo de almacenamiento geográfico complementario para los PPII - YNC publicado en el micrositio de esta autoridad destinado para los Proyectos Piloto de Investigación Integral de Yacimientos no Convencionales.","N/A","Aplica","Aplica","N/A","Aplica","Permanente"]
[54,"VERTIMIENTO EN \nSUELO DE ARD y ARnD","Monitoreos de aguas subterráneas para vertimiento ARD\n\nNota: La frecuencia de monitoreo se evaluará dentro del programa de monitoreo propuesto por el usuario en el EIA, lo cual se deberá ajustar de acuerdo con los criterios de evaluación, en caso de ser necesario.",null,"Para aguas residuales domésticas - ARD tratadas, realizar monitoreos fisicoquímicos y microbiológicos de las aguas subterráneas en cada uno de los pozos de observación/piezómetros instalados, dando cumplimento a las siguientes condiciones: \n \na) Realizar la toma de muestras puntuales y análisis de parámetros fisicoquímicos y biológicos establecidos en el artículo 2.2.3.3.4.9 del Decreto 1076 de 2015, o aquel que lo modifique o sustituya.  \nb) Calcular y presentar el valor del error analítico de las muestras en los Informes de Cumplimiento Ambiental – ICA. El error analítico de aceptación de las muestras será de ±15%. A su vez, deberá emplear relaciones interparamétricas justificando la validez de la muestra. \nc) Realizar la toma de muestras siguiendo la Guía para el Monitoreo de Vertimientos, Aguas Superficiales y Subterráneas del 2002 del IDEAM o aquella que lo modifique o sustituya. \nd) Realizar los monitoreos a través de laboratorios acreditados por el IDEAM, tanto para la toma de la muestra, como para el análisis de los parámetros monitoreados. Presentar los certificados en los Informes de Cumplimiento Ambiental - ICA. \ne) Llevar un registro del nivel freático de cada pozo de observación/piezómetro de la red instalada, con el fin de analizar la variación del nivel freático del área de vertimiento, teniendo en cuenta el caudal vertido y el régimen de precipitación. Presentar los soportes en los Informes de Cumplimiento Ambiental – ICA. \nf) Presentar en los Informes de Cumplimiento Ambiental - ICA, los reportes de laboratorio, las cadenas de custodia y el análisis de resultados de monitoreos en una base temporal para cada variable, empleando gráficas de tendencia de concentración versus tiempo (actualizar las gráficas con la información recolectada en cada muestreo). \ng) Presentar la información consolidada de los monitoreos en los respectivos Informes de Cumplimiento Ambiental - ICA de acuerdo con el modelo de almacenamiento geográfico establecido en la Resolución 2182 del 2016 del MADS, o aquella norma que la modifique o sustituya, y/o el modelo de almacenamiento geográfico complementario para los PPII - YNC publicado en el micrositio de esta autoridad destinado para los Proyectos Piloto de Investigación Integral de Yacimientos no Convencionales.","N/A","Aplica","Aplica","N/A","Aplica","Permanente"]
[55,"VERTIMIENTO EN \nSUELO DE ARD y ARnD","Monitoreo del vertimiento de ARnD\n\nNota 1: Para ARnD se exceptúan las aguas de producción y el fluido de retorno de acuerdo con el parágrafo 3 del artículo 2.2.3.3.4.9 del Decreto 50 del 2018. \n\nNota 2: La frecuencia de monitoreo y parámetros se evaluarán dentro del programa de monitoreo propuesto por el usuario en el EIA, lo cual se deberá ajustar de acuerdo con los criterios de evaluación, en caso de ser necesario. ",null,"Realizar monitoreos de las aguas residuales no domésticas - ARnD a la entrada y salida del sistema de tratamiento, mediante un muestreo compuesto de 24 horas (o durante el tiempo en que se realice el vertimiento) con mediciones horarias, dando cumplimiento a las siguientes condiciones:\n\na) Realizar el monitoreo del vertimiento de conformidad con lo establecido en la Guía para el Monitoreo de Vertimientos, Aguas Superficiales y Subterráneas del 2002 del IDEAM, o cualquiera que la modifique o sustituya.\nb) Realizar los monitoreos a través de laboratorios acreditados por el IDEAM, tanto para la toma de la muestra, como para el análisis de los parámetros monitoreados, y presentar los certificados en los Informes de Cumplimiento Ambiental - ICA.\nc) Presentar la información del vertimiento en los respectivos Informes de Cumplimiento Ambiental - ICA de acuerdo con el modelo de almacenamiento geográfico establecido en la Resolución 2182 del 2016 del MADS, o aquella norma que la modifique o sustituya, y/o el modelo de almacenamiento geográfico complementario para los PPII - YNC publicado en el micrositio de esta autoridad destinado para los Proyectos Piloto de Investigación Integral de Yacimientos no Convencionales.","N/A","Aplica","Aplica","N/A","Aplica","Permanente"]
[56,"VERTIMIENTO EN \nSUELO DE ARD y ARnD","Monitoreo del vertimiento de ARD\n\nNota 1: La frecuencia de monitoreo y parámetros se evaluarán dentro del programa de monitoreo propuesto por el usuario en el EIA, lo cual se deberá ajustar de acuerdo con los criterios de evaluación, en caso de ser necesario.",null,"Realizar monitoreos de las aguas residuales domésticas - ARD a la entrada y salida del sistema de tratamiento, mediante un muestreo compuesto de 24 horas (o durante el tiempo en que se realice el vertimiento) con mediciones horarias, dando cumplimiento a las siguientes condiciones:\n\na) Realizar el monitoreo del vertimiento de conformidad con lo establecido en la Guía para el Monitoreo de Vertimientos, Aguas Superficiales y Subterráneas del 2002 del IDEAM, o cualquiera que la modifique o sustituya.\nb) Realizar la toma de muestras puntuales y análisis de parámetros establecidos en la Resolución 699 del 06 de julio de 2021, o aquel que lo modifique, derogue o sustituya, en cada área de disposición. \nc) Presentar la información del vertimiento en los respectivos Informes de Cumplimiento Ambiental - ICA de acuerdo con el modelo de almacenamiento geográfico establecido en la Resolución 2182 del 2016 del MADS, o aquella norma que la modifique o sustituya, y/o el modelo de almacenamiento geográfico complementario para los PPII - YNC publicado en el micrositio de esta autoridad destinado para los Proyectos Piloto de Investigación Integral de Yacimientos no Convencionales.","N/A","Aplica","Aplica","N/A","N/A","Permanente"]
[57,"VERTIMIENTO EN \nSUELO DE ARnD","Actualización de modelo de flujo y transporte de solutos en el suelo\n\nNota 1: Para ARnD se exceptúan las aguas de producción y el fluido de retorno de acuerdo con el parágrafo 3 del artículo 2.2.3.3.4.9 del Decreto 50 del 2018. \n\nNota 2: La frecuencia de la entrega de la actualización del modelo podrá ajustarse en caso de que el titular de la licencia proponga una frecuencia menor en su PMA. ",null,"Actualizar y validar semestralmente el modelo numérico del flujo y transporte de solutos en el suelo para aguas residuales no domésticas del que trata el artículo 2.2.3.3.4.9 del Decreto 1076 de 2015, o la norma que lo modifique o sustituya, y presentar los respectivos soportes en los respectivos Informes de Cumplimiento Ambiental - ICA. ","N/A","Aplica","Aplica","N/A","Aplica","Permanente"]
[58,"VERTIMIENTO EN \nSUELO DE ARD y ARnD","Hoja de vida piezómetros\n\nNota 1: Para ARnD se exceptúan las aguas de producción y el fluido de retorno de acuerdo con el parágrafo 3 del artículo 2.2.3.3.4.9 del Decreto 50 del 2018. \n\nNota 2: Ver formato de hoja de vida de pozo de observación en el anexo correspondiente",null,"Mantener actualizado el \"Formato de Hoja de Vida de Pozo de Observación/Piezómetro - Aguas Subterráneas\" de cada pozo instalado, los cuales se presentarán en los respectivos Informes de Cumplimiento Ambiental - ICA.","N/A","Aplica","Aplica","N/A","Aplica","Permanente"]
[59,"VERTIMIENTO EN \nSUELO DE ARD y ARnD","Suspensión de actividades de vertimiento\n\nNota: Para ARnD se exceptúan las aguas de producción y el fluido de retorno de acuerdo con el parágrafo 3 del artículo 2.2.3.3.4.9 del Decreto 50 del 2018. ",null,"No desarrollar las actividades de vertimiento cuando se presenten las situaciones de las que trata el artículo 2.2.3.3.4.15 del Decreto 1076 de 2015, o la norma que lo modifique o sustituya, e informar a la autoridad ambiental regional y a la ANLA, dentro de las 24 h posteriores a la situación y por los medios legalmente establecidos, sobre la suspensión de actividades y/o la puesta en marcha del Plan de Gestión del Riesgo para el Manejo de Vertimientos, cuando la reparación y reinicio de los sistemas de tratamiento requieran más de tres (3) horas diarias.","N/A","Aplica","Aplica","N/A","Aplica","Permanente"]
[60,"VERTIMIENTO EN \nSUELO DE ARD y ARnD","Mantenimiento preventivo o correctivo del sistema de tratamiento de aguas residuales\n\nNota: Para ARnD se exceptúan las aguas de producción y el fluido de retorno de acuerdo con el parágrafo 3 del artículo 2.2.3.3.4.9 del Decreto 50 del 2018. ",null,"Presentar en los Informes de Cumplimiento Ambiental - ICA, los soportes que evidencien las actividades de mantenimiento preventivo o correctivo efectuadas al sistema de tratamiento de aguas residuales (minuta u hoja de vida del sistema de tratamiento e informes de disposición de lodos producto del mantenimiento), en cumplimiento del artículo 2.2.3.3.4.16 del Decreto 1076 de 2015, o la norma que lo modifique o sustituya.","N/A","Aplica","Aplica","N/A","Aplica","Permanente"]
[61,"VERTIMIENTO EN \nSUELO DE ARD y ARnD","Aviso informativo en el lugar del vertimiento\n\nNota: Para ARnD se exceptúan las aguas de producción y el fluido de retorno de acuerdo con el parágrafo 3 del artículo 2.2.3.3.4.9 del Decreto 50 del 2018. ",null,"Instalar un aviso informativo de fácil visibilidad en el lugar del vertimiento autorizado, el cual incluya la información de la licencia ambiental respecto al permiso de vertimiento: número y fecha de la resolución que otorga el permiso de vertimiento, titular de la licencia, información de contacto, coordenadas del punto de vertimiento autorizado en la resolución y  caudal del vertimiento autorizado (l/s) y el sitio web de la empresa donde la comunidad puede consultar los resultados de los monitoreos.","N/A","Aplica","Aplica","N/A","Aplica","Temporal"]
[62,"SUELO","Monitoreos del recurso suelo\n\nNota 1: La frecuencia del monitoreo se evaluará dentro del programa de monitoreo propuesto por el usuario en el EIA, lo cual se deberá ajustar de acuerdo con los criterios de evaluación, en caso de ser necesario.\n\nNota 2: Evaluar la representatividad de los puntos próximos a la plataforma, en caso de ser necesario ajustar los puntos de monitoreo.",null,"Realizar monitoreo de los siguientes parámetros: textura (porcentaje de arena, limo y arcilla), densidad real, densidad aparente, materia orgánica, pH, cloruros, conductividad eléctrica, capacidad de intercambio catiónico, grasas y aceites, bario, cadmio, mercurio, bacterias totales, y HTP, en el recurso suelo en puntos próximos a la plataforma. La técnica de determinación con la cual se analicen los parámetros deberá realizarse con base en la técnica utilizada para el levantamiento de línea base. Presentar la información de los monitoreos en el recurso suelo conforme el modelo de almacenamiento geográfico establecido en la Resolución 2182 del 2016 del MADS, o aquella norma que la modifique o sustituya, y/o el modelo de almacenamiento geográfico complementario para los PPII - YNC publicado en el micrositio de esta autoridad destinado para los Proyectos Piloto de Investigación Integral de Yacimientos no Convencionales. Adicionalmente presentar en los Informes de Cumplimiento Ambiental - ICA los reportes de laboratorio, el análisis de resultados y la comparación con los datos de línea base y con los límites genéricos basados en riesgos (LGBR) de la EPA (https://www.epa.gov/risk/regional-screening-levels-rsls-generic-tables).","N/A","N/A","Aplica","Aplica","N/A","Permanente"]
[63,"VIGILANCIA RADIOLÓGICA","Caracterización de materiales radiactivos de origen natural\n\nNota 1: La frecuencia del monitoreo se evaluará dentro del programa de monitoreo propuesto por el usuario en el EIA, lo cual se deberá ajustar de acuerdo con los criterios de evaluación, en caso de ser necesario.\n\nNota 2: En etapa de evaluación (Etapa según el Decreto 328 del 2020) se continuará caracterizando los NORM y la frecuencia se determinará con base en los resultados obtenidos al finalizar la etapa concomitante.",null,"Realizar el seguimiento de las fuentes naturales de radiación ionizante bajo las siguientes condiciones:\n\na) El seguimiento de los radioisótopos debe realizarse en los mismos puntos y áreas en donde se determinó la línea base (fondo natural) en los componentes (aire, suelo, agua superficial y agua subterránea) y en donde habrá presencia de los fluidos de retorno o agua de producción (áreas de pozo, almacenamiento, tratamiento o disposición) o almacenamiento de tubería de perforación, así como otros elementos que puedan contener materiales radiactivos de origen natural.\nb) Caracterizar los elementos radiactivos establecidos en la Tabla 11 de los Términos de Referencia de PPII por componente de acuerdo con los \"Lineamientos técnicos para el procedimiento de muestreo y análisis de laboratorio de materiales radiactivos de origen natural en los PPII\" del SGC. En todos los puntos y áreas caracterizadas en literal a) de la presente obligación, se debe determinar y reportar el nivel de radiación (tasa de dosis) expresada en µSv/h.\nc) En todos los puntos y áreas caracterizadas en literal a) de la presente obligación, se debe calcular y reportar el nivel de radiación resultante expresada en µSv/h (Tasa de dosis actual – Tasa de Fondo Natural), comparando los resultados con los Criterios de vigilancia radiológica del Ministerio de Minas y Energía.\nd) Posterior al fracturamiento del primer pozo se debe reportar diariamente a través de correo electrónico centromonitoreo@anla.gov.co los niveles de radiación (tasa de dosis) expresada en µSv/h determinados bajo el programa de vigilancia radiológica.\ne) Presentar los resultados de la caracterización conforme al modelo de almacenamiento geográfico complementario PPII - YNC publicado en el micrositio de esta autoridad destinado para los Proyectos Piloto de Investigación Integral de Yacimientos no Convencionales. Adicionalmente, presentar en los Informes de Cumplimiento Ambiental - ICA el análisis de los resultados y su comparación con las concentraciones caracterizadas en la línea base para cada componente por pozo fracturado.\nf) Realizar los monitoreos a través de laboratorios acreditados por el IDEAM, tanto para la toma de la muestra, como para el análisis de los parámetros monitoreados. En caso de que no existan laboratorios nacionales acreditados para el análisis de algún(os) parámetro(s), los laboratorios acreditados por el IDEAM podrán enviar la muestra a un laboratorio internacional acreditado en su país de origen o por un estándar internacional, mientras se surte el proceso de acreditación en los laboratorios nacionales. Presentar dichos soportes en los Informes de Cumplimiento Ambiental - ICA.\ng) Reportar las acciones en torno al manejo y control de la radiactividad desde las fuentes contaminantes hacia los potenciales receptores a través de los medios de exposición.\n\nParágrafo: Las acciones de manejo y control relacionadas con la excedencia de los límites que establezca el Ministerio de Minas y Energía sobre los componentes, están sujetos a los criterios establecidos en el documento \"Criterios de vigilancia radiológica durante el desarrollo de los Proyectos Piloto de Investigación Integral, PPII, en Yacimientos no Convencionales de Hidrocarburos a través de la técnica de Fracturamiento Hidráulico Multietapa con Perforación Horizontal\" del Grupo de Energías no Convencionales y Asuntos Nucleares (GENCAN) de dicho Ministerio. ","N/A","N/A","Aplica","Aplica","N/A","Permanente"]
[64,"ISÓTOPOS","Monitoreos isotópicos\n\nNota: La frecuencia de monitoreo se evaluará dentro del programa de monitoreo propuesto por el usuario en el EIA, lo cual se deberá ajustar de acuerdo con los criterios de evaluación, en caso de ser necesario.\n",null,"Realizar el monitoreo y seguimiento isotópico bajo las siguientes condiciones:\n\t\na) Monitorear los isótopos 2H, 18O, 3H y/o CFC´s de manera mensual en el agua meteórica, superficial y subterránea. Para el agua subterránea monitorear todos los niveles acuíferos hasta la base hidrogeológica regional. En caso de que la base hidrogeológica regional no haya sido definida por parte del ente competente, se deberá realizar monitoreo hasta 100 m por debajo de los niveles acuíferos productivos.  \nb) Los isótopos 13C y 14C deben monitorearse previo al fracturamiento y finalizada la etapa concomitante en todos los niveles acuíferos hasta la formación objeto de fracturamiento.\nc) Para el fluido de fracturamiento muestrear los isótopos 2H y 18O previo a cada etapa de fracturamiento. Nota: En etapa de evaluación no aplica el muestreo de isótopos en el fluido de fracturamiento.\nd) Para cada etapa de fracturamiento para el fluido de retorno monitorear los isótopos 2H y 18O. Nota: En etapa de evaluación no aplica este monitoreo de isótopos.\ne) Para el agua de producción monitorear mensualmente los isótopos 2H y 18O.\nf) La información de los monitoreos isotópicos de todos los componentes deberá emplearse para actualizar el modelo hidrogeológico conceptual.\ng) Presentar un análisis comparativo e interpretación de la composición isotópica en la matriz hidrogeológica, así como del fluido de fracturamiento y de las aguas de producción y fluidos de retorno, a su vez para el análisis de los resultados de los isotopos estables se debe hacer una relación con la precipitación analizando los efectos latitudinales, continentales, estacionales y de intensidad. Como parte de la interpretación de los resultados isotópicos, se deberán construir curvas de 2H y O18 vs altura y realizar una interpretación conjunta de datos fisicoquímicos e isotópicos. La anterior información deberá ser presentada en los respectivos Informes de Cumplimiento Ambiental – ICA.\nh) Realizar los monitoreos a través de laboratorios acreditados por el IDEAM, tanto para la toma de la muestra, como para el análisis de los parámetros monitoreados. En caso de que no existan laboratorios nacionales acreditados para el análisis de algún(os) parámetro(s), los laboratorios acreditados por el IDEAM podrán enviar la muestra a un laboratorio internacional acreditado en su país de origen o por un estándar internacional, mientras se surte el proceso de acreditación en los laboratorios nacionales. Presentar dichos soportes en los Informes de Cumplimiento Ambiental - ICA.\ni) Almacenar la información obtenida de los monitoreos, de acuerdo con el modelo de almacenamiento geográfico establecido en la Resolución 2182 de 2016 del MADS, o la que la modifique o sustituya, y/o el modelo de almacenamiento geográfico complementario PPII - YNC publicado en el micrositio de esta autoridad destinado para los Proyectos Piloto de Investigación Integral de Yacimientos no Convencionales. ","N/A","Aplica","Aplica","Aplica","N/A","Permanente"]
[65,"APROVECHAMIENTO FORESTAL","Reporte de actividades de aprovechamiento forestal en ICA\n\nNota: En el marco del artículo 2.2.1.1.10.4.3 del Decreto 1076 del 2015, la autoridad ambiental otorga o niega el aprovechamiento forestal de productos maderables y el manejo sostenible de la flora silvestre y de los productos forestales no maderables.",null,"Reportar en los informes de cumplimiento ambiental - ICA - el inventario forestal e informe detallado del aprovechamiento forestal adelantado durante el periodo a ser reportado. Presentar la información documental conforme a los lineamientos establecidos en el Manual de Seguimiento Ambiental de Proyectos y bajo el modelo de almacenamiento geográfico adoptado en la Resolución 2182 del 23 de diciembre de 2016, o aquella que la modifique o sustituya. Detallar en cada informe volúmenes totales y comerciales de aprovechamiento forestal efectivamente removidos por tipo de obra y tipo de cobertura, volúmenes acumulados (Cuando el aprovechamiento forestal se reporta en varios ICA´s), individuos arbóreos aprovechados (nombre común, nombre científico y familia de la especie) con la respectiva ubicación en coordenadas planas con datum y origen, y el área de aprovechamiento (municipio, vereda, predio y polígono de aprovechamiento).","N/A","Aplica","N/A","N/A","N/A","Temporal"]
[66,"APROVECHAMIENTO FORESTAL","Reporte de actividades de aprovechamiento forestal de arboles aislados.",null,"Cuando se requiera de la remoción de árboles aislados en un volumen igual o menor a veinte metros cúbicos (20 m³) de conformidad con el articulo 2.2.1.1.9.6. del Decreto 1076 de 2015, o la norma que lo modifique o sustituya, el titular de la licencia reportará las actividades adelantadas en el respectivo informe de cumplimiento ambiental y no podrá superar el volumen mencionado durante el desarrollo de todas las actividades contempladas en el proyecto.","N/A","Aplica","Aplica","N/A","N/A","Temporal"]
[67,"APROVECHAMIENTO FORESTAL","Manejo de residuos del aprovechamiento forestal",null,"Disponer los residuos vegetales resultantes de las actividades de aprovechamiento forestal (hojas, ramas, raíces) de tal forma que no se intervenga en la dinámica natural de ecosistemas estratégicos o drenajes naturales, dando cumplimiento a lo establecido en las medidas del Plan de Manejo Ambiental y documentando su implementación y georreferenciación en los Informes de Cumplimiento Ambiental - ICA respectivos.","N/A","Aplica","N/A","N/A","N/A","Temporal"]
[68,"APROVECHAMIENTO FORESTAL","Se prohíbe la realización de quemas",null,"No realizar quemas a cielo abierto de los productos, subproductos y/o residuos vegetales resultantes del aprovechamiento forestal.","N/A","Aplica","N/A","N/A","N/A","Permanente"]
[69,"APROVECHAMIENTO FORESTAL","Manejo de especies endémicas o en alguna categoría de amenaza.",null,"Dar cumplimiento a lo establecido en las medidas de manejo aprobadas en el presente acto administrativo, tendientes a garantizar la protección y conservación, mediante las alternativas existentes para tal fin, de las especies endémicas o en alguna categoría de amenaza de acuerdo con la lista roja de la UICN, los libros rojos de los institutos de investigación Humboldt y SINCHI, la Resolución 1912 del 15 de septiembre de 2017 o aquellas que la modifiquen o sustituyan, o que se encuentren en algún apéndice del CITES (Convenio sobre el comercio internacional de especies amenazadas). Documentar y presentar su implementación en los informes de cumplimiento ambiental - ICA-, incluyendo la respectiva georreferenciación y registro fotográfico.","Aplica","Aplica","Aplica","N/A","N/A","Permanente"]
[70,"APROVECHAMIENTO FORESTAL","Manejo de los productos obtenidos del aprovechamiento forestal ",null,"Los productos obtenidos del aprovechamiento forestal no podrán ser comercializados y solo podrán ser utilizados en las actividades propias del proyecto y/o entregarse a titulo de donación, determinando de manera prevalente como titular al propietario del predio o a las comunidades, organizaciones sociales y/o autoridades territoriales del área de influencia. El destino de los productos (uso y/o donación) estará soportado mediante actas de donación o reportes de su uso en actividades del proyecto, según corresponda adjuntando registro fotográfico, los cuales serán incluidos  en los informes de cumplimiento ambiental - ICA- respectivos.","N/A","Aplica","N/A","N/A","N/A","Temporal"]
[71,"RECOLECCIÓN DE ESPECÍMENES DE ESPECIES SILVESTRES DE LA BIODIVERSIDAD","Reporte de actividades de recolección de especímenes",null,"Presentar en el respectivo informe de cumplimiento ambiental - ICA - las actividades realizadas de recolección, incluyendo la relación del material recolectado, removido o extraído temporal o definitivamente del medio silvestre y la metodología implementada. Presentar la información documental conforme a los lineamientos establecidos en el Manual de Seguimiento Ambiental de Proyectos y de acuerdo con el modelo de almacenamiento geográfico establecido en la Resolución 2182 de 2016 del MADS, o la que la modifique o sustituya, y/o el modelo de almacenamiento geográfico complementario para los PPII - YNC publicado en el micrositio de esta autoridad destinado para los Proyectos Piloto de Investigación Integral de Yacimientos no Convencionales. ","Aplica","Aplica","Aplica","N/A","Aplica","Permanente"]
[72,"BIODIVERSIDAD","Monitoreos  a ecosistemas y biodiversidad\n\nNota: Tener en cuenta otros grupos de fauna de importancia de acuerdo con la naturaleza del proyecto, e incorporarlos dentro del literal a) y hacer las respectivas asociaciones en torno a los monitoreos con los demás componentes.",null,"Monitorear los mismos niveles de organización (poblaciones, comunidades y ecosistemas) y grupos taxonómicos reportados en línea base, bajo las siguientes condiciones:\n\na) Los monitoreos deben realizarse desde la fase de construcción y/o adecuación de los pozos para los PPII de YNC bajo la misma escala espacial y temporal de los realizados en otros componentes (muestreo acústico, anfibios y entomofauna con monitoreos de ruido, comunidades hidrobiológicas y microorganismos con monitoreos de aguas superficiales, macroinvertebrados con sedimentos, microorganismos con monitoreos del recurso suelo) hasta como mínimo, haya finalizado la etapa de evaluación referida en el Decreto 328 del 2020.\nb) Los monitoreos deben hacerse en el área de influencia del medio biótico y en las zonas de referencia seleccionadas, las cuales deben contar con condiciones semejantes en cuanto a sus características socio-ecosistémicas.\nc) Presentar la información de los monitoreos de acuerdo con el modelo de almacenamiento geográfico establecido en la Resolución 2182 de 2016 del MADS, o la que la modifique o sustituya, y/o el modelo de almacenamiento geográfico complementario para los PPII - YNC publicado en el micrositio de esta autoridad destinado para los Proyectos Piloto de Investigación Integral de Yacimientos no Convencionales. \nd) Presentar los resultados de los monitoreos y análisis de la información obtenida relacionándola con las actividades desarrolladas por el proyecto en los respectivos Informes de Cumplimiento Ambiental - ICA.","N/A","Aplica","Aplica","Aplica","N/A","Permanente"]
[73,"FAUNA","Estudio ecológico de sitios de reubicación y ahuyentamiento",null,"Presentar un estudio ecológico de los sitios de reubicación y ahuyentamiento de fauna, en el primer Informe de Cumplimiento Ambiental - ICA de la fase constructiva para que sea objeto de análisis y aprobación, el cual incluya:\n\ni) Oferta de hábitat.\nii) Tipo de cobertura vegetal.\niii) Rutas de fuga, corredores biológicos, área y accesibilidad.\niv) Análisis de la capacidad de carga de los ecosistemas que recibirán las especies de fauna. Se podrán emplear especies focales a partir de los impactos generados por el proyecto. \nv) Plan de seguimiento y monitoreo que incluya acciones e indicadores que permitan corroborar la efectividad y pertinencia a nivel de individuos reubicados, poblaciones y hábitat.\nvi) Dichas áreas deberán encontrarse dentro del área de influencia del proyecto, en caso de que no sea posible, justificar las razones de la selección en sitios fuera de la misma.","N/A","Aplica","N/A","N/A","N/A","Temporal"]
[74,"FAUNA","Ahuyentamiento, rescate y/o reubicación de fauna silvestre",null,"Realizar actividades de ahuyentamiento, rescate y/o reubicación de los diferentes individuos de especies de fauna silvestre presentes en áreas intervenidas por el proyecto. Documentar la localización de los sitios de reubicación de fauna y actividades ejecutadas en cada Informe de Cumplimiento Ambiental - ICA, haciendo uso del modelo de almacenamiento geográfico establecido en la Resolución 2182 de 2016 del MADS, o aquella norma que la modifique o sustituya,  ","N/A","Aplica","Aplica","Aplica","Aplica","Permanente"]
[75,"FAUNA","Seguimiento a la fauna en áreas de compensación\n\nNota: Imponer en caso de que el proyecto cuente con plan de compensación, que no haya incluido dentro del mismo el seguimiento a los grupos de fauna presentes en el área a compensar y que tengan correlación con las acciones de compensación.",null,"Realizar seguimiento a los grupos de fauna, con la periodicidad aprobada por esta Autoridad para el seguimiento y monitoreo descrito en el plan de compensación del medio biótico, en áreas en donde se adelanten actividades aprobadas en dicho plan, en cuanto a la composición, abundancia y estructura de los diferentes grupos taxonómicos, a partir de la implementación de metodologías y variables presentadas en el Estudio de Impacto Ambiental, considerando como mínimo las siguientes condiciones:\n\na) Establecer una red de monitoreo para los diferentes grupos taxonómicos referenciados en el EIA.\nb) Realizar análisis multitemporales y espaciales.\nc) Identificar posibles corredores de movilidad.\nd) Identificar posibles conflictos con las comunidades aledañas.\ne) Evaluar la pertinencia de complementar y/o modificar las medidas de manejo establecidas.\n\nReportar los resultados en los respectivos Informes de Cumplimiento Ambiental - ICA.","N/A","Aplica","Aplica","Aplica","Aplica","Permanente"]
[76,"FAUNA","Caracterización de fauna\n\nNota: Imponer en caso de que el impacto en la fauna silvestre sea significativo y el profesional evaluador considere su aplicabilidad de acuerdo con impactos adicionales relacionados con la conectividad,  fragmentación de hábitat, entre otros. ",null,"Realizar seguimiento a los grupos de fauna del área de influencia del proyecto, con una frecuencia (definir la frecuencia de acuerdo con el criterio de los evaluadores para el proyecto), respecto a composición, abundancia y estructura de los diferentes grupos taxonómicos, a partir de las metodologías y variables presentadas en el Estudio de Impacto Ambiental EIA, considerando como mínimo las siguientes condiciones:\n\na) Establecer una red de monitoreo para los diferentes grupos taxonómicos referenciados en el EIA.\nb) Realizar análisis multitemporales y espaciales.\nc) Identificar posibles corredores de movilidad.\nd) Identificar posibles conflictos con las comunidades aledañas.\ne) Evaluar la pertinencia de complementar y/o modificar las medidas de manejo establecidas.\n\nReportar los resultados en los respectivos Informes de Cumplimiento Ambiental - ICA.","N/A","N/A","Aplica","N/A","N/A","Permanente"]
[77,"FAUNA","\nPresentación de sistema de pasos de fauna\n\nNota: Aplica para proyectos que requieran la construcción o adecuación de vías para su ejecución",null,"Incorporar en el Plan de Manejo Ambiental un sistema de pasos de fauna como una de las medidas de mitigación a los impactos de atropellamiento, mortalidad de fauna y efecto barrera para la dispersión, o su equivalente de acuerdo con el ejercicio de jerarquización de impactos ambientales. El sistema de pasos de fauna deberá ser objeto de diseño, construcción y mantenimiento con base en los análisis de conectividad funcional, las obras de drenaje adaptadas a la movilidad de las especies, estructuras disuasivas y de encauzamiento, y la cobertura vegetal existente asociada o por restaurar, y demás criterios contemplados en los lineamientos de Infraestructura Verde Vial para Colombia (MADS, FCDS & WWF, 2020), el documento \"Atropellamiento de fauna silvestre en Colombia. Guía para entender y diagnosticar este impacto\" (Jaramillo-Fayad et al. 2021) y otras fuentes que sirvan de orientación para el diseño de este tipo de estructuras. Dicha información, deberá ser presentada en el primer Informe de Cumplimiento Ambiental - ICA de la fase constructiva.\n\nParágrafo: Para las vías existentes que se encuentren dentro del área de influencia del proyecto y que vayan a ser empleadas por el proyecto, se deberá tener en cuenta para el diseño del sistema de pasos de fauna un análisis de puntos calientes - hotspot, para determinar la susceptibilidad frente a los impacto de atropellamiento, mortalidad de fauna y efecto barrera para la dispersión, o su equivalente de acuerdo con el ejercicio de jerarquización de impactos ambientales.","N/A","Aplica","N/A","N/A","N/A","Temporal"]
[78,"FAUNA","Seguimiento a pasos de fauna\n\nNota 1: Aplica para proyectos que requieran la construcción o adecuación de vías para su ejecución.\n\nNota 2: La frecuencia del seguimiento al sistema de pasos de fauna se evaluará con base en el diseño del sistema de pasos de fauna presentado en el primer ICA de la fase constructiva. ",null,"Realizar un seguimiento sistemático, estandarizado, representativo y adaptativo al cumplimiento y efectividad del sistema de pasos de fauna como medida de mitigación frente a los impactos de atropellamiento, mortalidad de fauna y efecto barrera para la dispersión, o su equivalente de acuerdo con el ejercicio de jerarquización de impactos ambientales, teniendo en cuenta los lineamientos de Infraestructura Verde Vial para Colombia (MADS, FCDS & WWF, 2020) y otras fuentes que sirvan de orientación para el monitoreo. Documentar las actividades de monitoreo en cada Informe de Cumplimiento Ambiental - ICA, haciendo uso del modelo de almacenamiento geográfico establecido en la Resolución 2182 de 2016 del MADS, o aquella norma que la modifique o sustituya, y/o el modelo de almacenamiento geográfico complementario para los PPII - YNC publicado en el micrositio de esta autoridad destinado para los Proyectos Piloto de Investigación Integral de Yacimientos no Convencionales.\n\nParágrafo: La efectividad de la medida se evaluará en función de dos aspectos, el primero relacionado directamente con el uso o no uso de los pasos de fauna y el segundo con la disminución en el atropellamiento o mortalidad de fauna sobre la vía, con el propósito de identificar la pertinencia de complementar y/o modificar la medida de manejo establecida.","N/A","Aplica","Aplica","Aplica","Aplica","Permanente"]
[79,"VEDAS","Rescate y sobrevivencia de especies vasculares en veda\n\nNota 1: Seleccionar de los instrumentos de “Porcentaje de rescate y sobrevivencia de bromelias según estado de conservación” y \"Porcentaje de rescate y sobrevivencia de orquídeas según estado de conservación” adoptados en GESPRO, los porcentajes para cada una de las especies registradas en el proyecto.\n\nNota 2: En los casos en que la especie no se encuentre listada en el instrumento, se deberá imponer un porcentaje de rescate del 100% y de sobrevivencia entre el 70 y 80%.",null,"Rescatar las especies vasculares en veda nacional bajo la Resolución 0213 de 1977 del INDERENA (orquídeas y bromelias) y garantizar un rescate y sobrevivencia porcentual por especie de conformidad con lo establecido en la siguiente tabla. Dichos porcentajes responden a características intrínsecas de cada especie (botánicas, fisiológicas, ecológicas, de distribución, grado de amenaza, endemismo y/o usos locales).\n\n[Incluir tabla de porcentajes por especies]\n\nEn los casos cuya determinación se haya realizado a nivel de familia, género o “confertus” y “affín”, se debe rescatar el 100% de los individuos, aplicando el principio de precaución, dadas las condiciones de riqueza, endemismo y amenaza de estos grupos taxonómicos en el país y el desconoccimiento de la identidad taxonómica de la especie registrada en el proyecto; por lo tanto, el porcentaje de sobrevivencia será diferencial, dado que depende principalmente de la capacidad de adaptación del género específico y de los requerimientos de hábitat puntuales, se debe garantizar una sobrevivencia del [establecer el porcentaje, entre el 70% y 80%].","N/A","Aplica","N/A","N/A","N/A","Permanente"]
[80,"VEDAS","Seguimiento al rescate de especies vasculares en veda",null,"Reportar en los respectivos Informes de Cumplimiento Ambiental - ICA, las actividades de seguimiento de especies vasculares rescatadas bajo el “Modelo base de datos de rescate de especies vasculares en veda nacional y preferencia de forofitos”, disponible en el sitio web: https://www.anla.gov.co/01_anla/proyectos/nuevo-licenciamiento-ambiental/elaboracion-ica-y-control-y-seguimiento","N/A","Aplica","Aplica","N/A","N/A","Permanente"]
[81,"VEDAS","Seguimiento, monitoreo y mantenimiento de especies vasculares en veda",null,"Reportar en los respectivos Informes de Cumplimiento Ambiental - ICA, las actividades de seguimiento de especies vasculares trasladadas y reubicadas bajo la \"Modelo base de datos consolidada de seguimiento, monitoreo y mantenimiento de especies vasculares trasladadas y reubicadas”, disponible en el sitio web: https://www.anla.gov.co/01_anla/proyectos/nuevo-licenciamiento-ambiental/elaboracion-ica-y-control-y-seguimiento","N/A","Aplica","Aplica","N/A","N/A","Permanente"]
[82,"VEDAS","Cálculo del área de retribución por afectación a especies no vasculares y líquenes en veda y sus criterios de evaluación",null,"Realizar el cálculo del área de retribución por afectación a especies no vasculares y líquenes en veda bajo el instrumento de “Cálculo del área de retribución por afectación a especies no vasculares y líquenes en veda y sus criterios de evaluación”, disponible en el sitio web: https://www.anla.gov.co/01_anla/proyectos/nuevo-licenciamiento-ambiental/elaboracion-ica-y-control-y-seguimiento Reportar dicha información en el respectivo Informe de Cumplimiento Ambiental - ICA para evaluación y aprobación de esta autoridad.","N/A","Aplica","Aplica","N/A","N/A","Permanente"]
[83,"ADECUACIÓN DE VÍAS EXISTENTES DE APOYO AL PROYECTO","Gestión de autorizaciones para inicio de mantenimiento, rehabilitación y/o mejoramiento de  las vías existentes",null,"Entregar en los respectivos Informes de Cumplimiento Ambiental - ICA copia de las autorizaciones necesarias por parte del administrador o propietario de la vía para realizar las obras de mantenimiento, rehabilitación y/o mejoramiento de vías existentes públicas o privadas que servirán de apoyo al desarrollo del proyecto.","Aplica","Aplica","Aplica","N/A","Aplica","Temporal"]
[84,"ADECUACIÓN DE VÍAS EXISTENTES DE APOYO AL PROYECTO","Reporte de las actividades de  mantenimiento, rehabilitación y/o mejoramiento",null,"Remitir en los Informes de Cumplimiento Ambiental - ICA, un informe en el que se especifique y reporten las actividades de mantenimiento, rehabilitación y/o mejoramiento realizadas sobre las vías existentes que servirán de apoyo al proyecto y sus zonas aledañas incluidas en el derecho de vía - DDV, para cada periodo reportado, incluyendo los soportes técnicos y registros fílmicos y/o fotográficos en los que se evidencie fecha y coordenadas.","N/A","Aplica","Aplica","N/A","Aplica","Permanente"]
[85,"ADECUACIÓN DE VÍAS EXISTENTES DE APOYO AL PROYECTO","Informe del estado final de las vías de apoyo al proyecto adecuadas, al final de la vida útil del proyecto",null,"Al final de la vida útil del proyecto, presentar en el respectivo Informe de Cumplimiento Ambiental - ICA, un informe que incluya el estado final de las vías existentes que sirvieron de apoyo al proyecto, y sus zonas aledañas incluidas en el derecho de vía - DDV, a las cuales se les realizó mantenimiento, rehabilitación y/o mejoramiento por parte del proyecto, garantizando que las mismas sean entregadas en iguales o mejores condiciones. Incluir en dicho informe un registro fílmico y/o fotográfico en el que se evidencie fecha y coordenadas, así como actas de conformidad por parte de las autoridades y comunidades locales.","N/A","N/A","N/A","N/A","Aplica","Temporal"]
[86,"CONSTRUCCIÓN DE VÍAS DE APOYO AL PROYECTO","Mantenimientos periódicos a las vías de acceso construidas ",null,"Realizar mantenimientos periódicos a las vías construidas para el desarrollo del proyecto, y presentar en los Informes de Cumplimiento Ambiental - ICA los soportes documentales y fotográficos respectivos de las actividades ejecutadas.","N/A","Aplica","Aplica","N/A","Aplica","Permanente"]
[87,"MATERIALES DE CONSTRUCCIÓN","Adquisición de materiales de construcción a través de terceros",null,"Para el desarrollo de las actividades del proyecto, realizar la adquisición de materiales de construcción con terceros que cuenten con los correspondientes permisos o autorizaciones otorgados por la autoridad minera y ambiental competente, y anexar en los respectivos Informes de Cumplimiento Ambiental - ICA lo siguiente:\n\na)  Copias de los títulos mineros y licencias y/o permisos ambientales vigentes para el periodo reportado de las empresas proveedoras de materiales de construcción utilizados durante el periodo. En caso de cambio de proveedores diferentes a los reportados en el EIA y/o modificación o renovación de las licencias y/o permisos ambientales de las empresas proveedoras, presentar los soportes correspondientes.\nb) Las certificaciones/facturas de compra de material en las que se discrimine la fuente u origen, tipo de material, cantidad adquirida (expresada en unidades de volumen o masa) y fecha o periodo de compra.","N/A","Aplica","Aplica","N/A","Aplica","Permanente"]
[88,"MATERIALES DE CONSTRUCCIÓN","Uso de zonas de préstamo lateral - ZPL",null,"En relación con el uso de Zonas de Préstamo Lateral - ZPL para la construcción/adecuación de vías y/o locaciones autorizadas para el proyecto, el titular de la licencia presentará en los Informes de Cumplimiento Ambiental – ICA un reporte que contenga:\n\na) Volúmenes utilizados para las actividades propias del proyecto.\nb) Actividades para las que fue utilizado el material de préstamo lateral.\nc) Estado de las ZPL por cada periodo reportado.","N/A","Aplica","Aplica","N/A","Aplica","Permanente"]
[89,"ALMACENAMIENTO DE COMBUSTIBLES Y PRODUCTOS QUÍMICOS","Características de los sitios de almacenamiento y manejo de combustible y productos químicos",null,"Instalar en los sitios donde se almacene, manipule y/o utilice crudo, aceites, combustibles, productos químicos, residuos aceitosos u otro material potencialmente contaminante, los elementos y/o la infraestructura necesaria que garantice la contención en caso de derrames y la no contaminación del suelo, de acuerdo al Título 6, Parte 2, Libro 2 del Decreto 1076 de 2015 y demás normativa vigente en la materia, tales como:\n\na) Diques de contención con base y muros impermeabilizados que permitan contener como mínimo el 110% del volumen almacenado.\nb) Sistema de cunetas perimetrales, que descolen en cajas de inspección o tanques ciegos para su contención, recolección y posterior tratamiento como residuo peligroso.\nc) Condiciones óptimas o sistemas que permitan la ventilación e iluminación.\nd) Sistemas de prevención y control de incendios.\ne) Kit antiderrames.\nf) Señalización.\ng) Hojas de seguridad de los productos químicos almacenados con la matriz de compatibilidad.","N/A","Aplica","Aplica","Aplica","Aplica","Permanente"]
[90,"ALMACENAMIENTO DE MATERIALES DE CONSTRUCCIÓN","Características de los sitios de almacenamiento de materiales de construcción",null,"El almacenamiento de materiales de construcción cumplirá con las siguientes condiciones:\n\na) Ubicarse en áreas aptas de acuerdo con la zonificación de manejo ambiental establecida para el proyecto.\nb) Ubicarse en una zona libre, plana en lo posible y de fácil acceso.\nc) Realizar el descapote del área previo al almacenamiento del material.\nd) Implementar medidas de retención de sedimentos en la zona de acopio, que garanticen la no afectación de los cuerpos hídricos cercanos.\ne) Señalización.\nf) Todo material de construcción acopiado a cielo abierto dentro de los frentes de obra y que no pueda ser utilizado durante la jornada laboral, será cubierto.","N/A","Aplica","Aplica","N/A","Aplica","Permanente"]
[91,"COMPRA DE AGUA","Compra de agua a terceros autorizados",null,"Para la actividad de compra de agua (uso industrial y/o consumo humano) con terceros debidamente autorizados, presentar en los Informes de Cumplimiento Ambiental - ICA:\n\na) Copia de los permisos y/o autorizaciones ambientales vigentes de los proveedores de agua que contenga de manera explícita la venta de agua para uso industrial.\nb) Facturas de compra del agua, que incluyan como mínimo: nombre y NIT del tercero, volúmenes de agua suministrados (uso industrial y/o consumo humano) y fecha de compra, por cada periodo reportado.\nc) Actividades en las que fue empleada el agua en el proyecto, según el periodo reportado.\nd) Copia de los contratos de suministro de agua.","N/A","Aplica","Aplica","N/A","Aplica","Permanente"]
[92,"DISPOSICIÓN DE AGUAS","Pruebas de inyectividad y concepto de la ANH sobre la presión y capacidad de las formaciones",null,"Presentar una vez realizadas las pruebas de inyectividad a través de los respectivos Informes de Cumplimiento Ambiental - ICA, el formato en que se autoriza por la entidad de fiscalización (Ministerio de Minas y Energía o Agencia Nacional de Hidrocarburos – ANH) la integridad del pozo, que incluya la información de pruebas de integridad, inyectividad, la presión de fractura, la capacidad volumétrica y evaluación hidráulica de las formaciones receptoras de la inyección.","N/A","N/A","Aplica","N/A","N/A","Temporal"]
[93,"DISPOSICIÓN DE AGUAS","Evaluación de integridad del pozo\n\nNota: La frecuencia del monitoreo se evaluará dentro del programa de monitoreo propuesto por el usuario en el EIA, lo cual se deberá ajustar de acuerdo con los criterios de evaluación, en caso de ser necesario.",null,"Realizar la evaluación de la integridad mecánica del pozo mediante técnicas como: registro de la temperatura, del ruido de inyección, inspección del estado de tuberías, registros electromagnéticos, caliper log, borehole televiewing, medidores de flujo, trazadores radiactivos, registro de oxígeno activo y cement bond logging, o la que apruebe el Minenergía o ANH como ente fiscalizadores. Presentar los soportes en los respectivos Informes de Cumplimiento Ambiental - ICA.","N/A","N/A","Aplica","N/A","N/A","Temporal"]
[94,"DISPOSICIÓN DE AGUAS","Reporte de volúmenes de agua, presiones de inyección y análisis",null,"Presentar la siguiente información para la disposición de aguas mediante reinyección:\n\na) Volúmenes diarios de aguas generadas objeto de inyección, volúmenes de agua inyectada en cada pozo inyector, registro continuo de la presión de inyección en la cabeza del pozo, origen de las aguas y pozo inyector. Dicha información será presentada de manera acumulada desde el inicio de la actividad y de manera diaria a través del correo electrónico centromonitoreo@anla.gov.co.\nb) Análisis de comportamiento en el tiempo de las presiones de inyección, caudal de disposición y tasa de inyección, soportado con valores y gráficos detallados, con el fin de conocer la respuesta de las formaciones receptoras ante la inyección y observar cambios en la distribución de la inyección con relación a las presiones en cabeza de pozo. La anterior información se presentará en los respectivos Informes de Cumplimiento Ambiental – ICA.\nc) Análisis comparativo entre las presiones alcanzadas en la operación de inyección y la presión de fractura de la formación receptora para cada pozo. La anterior información se presentará en los respectivos Informes de Cumplimiento Ambiental – ICA.","N/A","N/A","Aplica","N/A","N/A","Permanente"]
[95,"DISPOSICIÓN DE AGUAS","Monitoreos de agua de la formación receptora",null,"Realizar la caracterización fisicoquímica e isotópica del agua de formación receptora previo al inicio de la disposición de las aguas mediante reinyección para los parámetros establecidos en la Tabla 8, 9 y 14 de los términos de referencia de los PPII. Presentar los resultados de la caracterización conforme al modelo de almacenamiento geográfico complementario PPII - YNC publicado en el micrositio de esta autoridad destinado para los Proyectos Piloto de Investigación Integral de Yacimientos no Convencionales. Adicionalmente, presentar el análisis de los resultados y los certificados de los laboratorios en el primer Informe de Cumplimiento Ambiental - ICA después de perforado el pozo inyector.","N/A","N/A","Aplica","N/A","N/A","Temporal"]
[96,"DISPOSICIÓN DE AGUAS","Monitoreos de fluidos a inyectar",null,"Realizar monitoreos semanales de los fluidos a inyectar, las cuales deben cumplir con el análisis de compatibilidad de las aguas de formación receptora. Presentar los resultados de las caracterizaciones conforme al modelo de almacenamiento geográfico complementario PPII - YNC publicado en el micrositio de esta autoridad destinado para los Proyectos Piloto de Investigación Integral de Yacimientos no Convencionales, y adicionalmente, presentar el análisis y los certificados de los laboratorios en los Informes de Cumplimiento Ambiental - ICA.","N/A","N/A","Aplica","N/A","N/A","Permanente"]
[97,"DISPOSICIÓN DE AGUAS","Cunetas perimetrales para pozos inyectores",null,"Los pozos inyectores contarán con cunetas perimetrales que permitan confinar las fluidos que están en la superficie de las plataformas, ya sea precipitaciones, fluidos operacionales, aguas residuales, vertidos incidentales y en casos eventuales un afloramiento del agua inyectada  y/o la combinación de todos. Su efluente deberá dirigirse a un sistema de almacenamiento temporal de agua para disponer de acuerdo con las actividades autorizadas en la presente licencia ambiental. Presentar los soportes en los respectivos Informes de Cumplimiento Ambiental - ICA.","N/A","N/A","Aplica","N/A","N/A","Permanente"]
[98,"DISPOSICIÓN DE AGUAS","Modelo hidrogeológico numérico y conceptual",null,"Teniendo en cuenta el modelo hidrogeológico numérico y conceptual requerido en el artículo [seleccionar artículo de la licencia ambiental en el cual se solicita la presentación del modelo numérico y conceptual, literales 1, 2 y 3] evaluar el comportamiento de la inyección de agua con condiciones reales y actuales, teniendo en cuenta el volumen a disponer y la cantidad de pozos, así como  evaluar la respuesta del sistema hidrogeológico al régimen de inyección establecido en este periodo, permitir la identificación de la extensión de la zona de mezcla, la distribución de presiones del sistema y la distribución espacial del fluido de inyección.","N/A","N/A","Aplica","N/A","N/A","Permanente"]
[99,"DISPOSICIÓN DE AGUAS","Prohibición de inyección de ARD",null,"No se autoriza la inyección de aguas residuales domésticas para su disposición final.","N/A","N/A","Aplica","N/A","N/A","Permanente"]
[100,"SUSPENSIÓN TEMPORAL DE POZOS","Suspensión temporal de pozos productores e inyectores ",null,"Para la suspensión temporal de pozos productores e inyectores, tener en cuenta lo siguiente: \n \na) Notificar a la ANLA las intenciones de cierre de un pozo, mediante comunicación escrita, por lo menos 15 días antes de iniciar las actividades de cierre. \nb) Dentro de los 15 días siguientes al cierre de un pozo, el titular de la licencia ambiental debe presentar a la ANLA una copia de la forma de cierre conforme a lo establecido por la ANH, o quien haga sus veces en materia de fiscalización.","N/A","N/A","Aplica","N/A","N/A","Temporal"]
[101,"ENTREGA DE AGUAS RESIDUALES DOMÉSTICAS A TERCEROS","Entrega de agua residual doméstica",null,"Realizar la entrega de agua residual doméstica a un gestor externo autorizado, y presentar en los respectivos Informes de Cumplimiento Ambiental - ICA:\n\na) Copia de los permisos y/o licencias vigentes de las respectivas empresas que prestarán el servicio de recolección, transporte y disposición final de las aguas residuales, incluido el Plan de Contingencia aprobado y vigente.\nb) Certificados de recolección y transporte emitido por la empresa respectiva, que indiquen: nombre de empresa que recolectó y transportó las aguas residuales, fechas de entrega, volúmenes de entrega, tipo de agua residual, sitio de recolección y destino de las aguas. \nc) Actas de recibo, tratamiento y disposición final de las aguas residuales, que incluya: empresa que entrega, fecha, volumen, origen y tipo de agua residual.","N/A","Aplica","Aplica","N/A","Aplica","Permanente"]
[102,"ENTREGA DE AGUAS RESIDUALES  PARA REÚSO ","Entrega de agua residual doméstica para reúso",null,"Realizar la entrega de las aguas residuales domésticas para reúso de conformidad con lo dispuesto en la  Resolución 1207 de 2014 expedida por el MADS o aquella que la modifique o sustituya, y presentar en los Informes de Cumplimiento Ambiental – ICA:\n\na) Reporte diario de las cantidades de agua residual entregada al usuario receptor.\nb) Reporte de los resultados del monitoreo realizado al agua objeto de reúso por parte del usuario receptor, de acuerdo a los criterios de calidad de agua establecidos en la Resolución 1207 de 2014, o aquella que la modifique o sustituya, y así mismo presentar los soportes en los que se evidencie el uso del agua por parte del usuario receptor.\nc) Concesión de aguas por parte del usuario receptor. Cuando la concesión de aguas del usuario receptor se haya vencido o su licencia ambiental (cuando esta incluya la concesión de aguas) se haya modificado en términos de este permiso, el titular del proyecto presentará una copia de la renovación del permiso o modificación de la licencia ambiental por parte del receptor.","N/A","Aplica","Aplica","N/A","Aplica","Permanente"]
[103,"REÚSO DE AGUA RESIDUAL","Reúso de agua residual por parte generador en las actividades propias del proyecto.\n\nNota: En caso de que las aguas residuales tratadas objeto de reúso, puedan contener algún contenido de radionucleidos u otros contaminantes de interés contemplados en las Tablas 6, 7, 8, 11, 13, 14 o 16 de los TdR establecidos en la caracterización teórica presentada por el usuario en la solicitud de la licencia, se podrá requerir la medición de tales parámetros de manera adicional durante la etapa concomitante. ",null,"Realizar el reúso de las aguas residuales generadas en el proyecto, dando cumplimiento a las siguientes condiciones:\n\na) Realizar monitoreos mensuales del agua residual que será objeto de reúso, en los cuales se analicen los criterios de calidad establecidos en la Resolución 1207 de 2014 expedida por el MADS, o aquella que la modifique o sustituya. \nb) Presentar en los respectivos Informes de Cumplimiento Ambiental - ICA los reportes de laboratorio, las cadenas de custodia y el análisis de los resultados en el que se contemple la comparación de las mediciones con los valores límite máximos permisibles establecidos en la Resolución 1207 de 2014.\nc) Realizar los monitoreos a través de laboratorios acreditados por el IDEAM, tanto para la toma de la muestra, como para el análisis de los parámetros monitoreados. Dichos laboratorios, deberán contar con las técnicas de medición que cuenten con los límites de detección de los diferentes parámetros que permitan verificar el cumplimiento normativo de los mismos. En caso de que no existan laboratorios nacionales acreditados para el análisis de algún(os) parámetro(s), los laboratorios acreditados por el IDEAM podrán enviar la muestra a un laboratorio internacional acreditado en su país de origen o por un estándar internacional, mientras se surte el proceso de acreditación en los laboratorios nacionales. Presentar dichos soportes en los Informes de Cumplimiento Ambiental - ICA.\nd) Presentar el reporte mensual de las cantidades de agua que son objeto de reúso, discriminando el origen y uso dado, en los Informes de Cumplimiento Ambiental - ICA.","N/A","Aplica","Aplica","N/A","Aplica","Permanente"]
[104,"EVAPORACIÓN FORZADA","Mediciones asociadas a la actividad de evaporación forzada, agua tratada,  residuos sólidos y líquidos",null,"Realizar monitoreos mensuales de los fluidos de retorno y las aguas de producción que estén sujetas evaporación forzada, dando cumplimiento a las siguientes condiciones para lo cual se deberán presentar los respectivos soportes en los Informes de Cumplimiento Ambiental - ICA:\n\na) Volúmenes diarios de aguas sujetas a evaporación forzada y origen de las aguas. Dicha información será presentada de manera acumulada desde el inicio de la actividad y de manera diaria a través del correo electrónico centromonitoreo@anla.gov.co.\nb) Presentar el balance de masas de agua evaporada con los residuos sólidos y líquidos generados, y la estimación de eficiencia de la actividad de evaporación forzada.\nc) Atender lo establecido por esta autoridad en lo relacionado con los monitoreos de análisis fisicoquímicos de los fluidos de retorno y las aguas de producción a evaporar, incluyendo los contaminantes que puedan generar emisiones de Sulfuro de hidrógeno (H2S), Azufre total reducido (TRS), Amoniaco (NH3) e Hidrocarburos aromáticos policíclicos (HAP), Benceno, tolueno, etilbenceno y xileno (BTEX), precursores de ozono, ácidos grasos volátiles, metales, sales, minerales o materia orgánica que puedan generarse en forma de gases o aerosoles, y radionucleidos, entre otros compuestos específicos que se consideren relevantes a partir de la normativa vigente, normatividad internacional y la literatura sobre las aguas de producción a evaporar. \nd) Realizar la caracterización física y química de los sólidos producto de la evaporación forzada, de acuerdo con los parámetros establecidos en la Tabla 3 del Anexo III del Título 6, Parte 2, Libro 2 del Decreto 1076 de 2015 y el Protocolo Louisiana 29B, y realizar su disposición de acuerdo a lo establecido por esta autoridad para el manejo de residuos sólidos. Así mismo, llevar un control del volumen de residuos generados que se producirán en el proceso por unidad de volumen tratado.\ne) Dichos monitoreos se realizarán a través de laboratorios acreditados por el IDEAM, tanto para la toma de la muestra, como para el análisis de los parámetros monitoreados. Presentar los resultados de los monitoreos, el análisis y los certificados de los laboratorios en los Informes de Cumplimiento Ambiental - ICA.","N/A","N/A","Aplica","N/A","N/A","Permanente"]
[105,"EVAPORACIÓN FORZADA","Mediciones asociadas a la actividad de evaporación forzada, emisiones atmosféricas",null,"Realizar seguimiento y monitoreo a la actividad de evaporación forzada sobre el componente atmosférico, dando cumplimiento a las siguientes condiciones para lo cual se deberán presentar los respectivos soportes en los Informes de Cumplimiento Ambiental - ICA:\n\na) Atender lo establecido por esta autoridad en lo relacionado con en el inventario de emisiones atmosféricas, incluyendo como mínimo: Benceno, tolueno, etilbenceno y xileno (BTEX), Sulfuro de hidrógeno (H2S), Azufre total reducido (TRS), Amoniaco (NH3), Óxidos de nitrógeno (NOx), Compuestos Orgánicos Volátiles (COVs), Hidrocarburos aromáticos policíclicos (p.ej. benzo(a)pireno y naftaleno), hidrocarburos totales, formaldehido, metanol, clorobenceno y fenoles. Evaluar la inclusión de otros compuestos susceptibles a generar aerosoles y a evaporarse que se consideren relevantes a partir de la normativa vigente y la literatura sobre las aguas de producción a evaporar, así mismo, presentar el análisis de las sustancias que el proceso de evaporación forzada elimina por condiciones de proceso (temperatura, presión u otros). Incorporar los análisis mensuales de los fluidos de retorno dentro de la actualización anual del inventario de emisiones. Presentar con el balance de masas de agua evaporada la composición de gases, vapores y partículas-aerosoles generados, y la estimación de eficiencia de la actividad de evaporación forzada  mecánica.\nb) Atender lo establecido por esta autoridad en lo relacionado con los monitoreos de calidad de aire, incluyendo como mínimo: Benceno, tolueno, etilbenceno y xileno (BTEX), Compuestos orgánicos volátiles (COV), hidrocarburos aromáticos policíclicos (expresados como benzo(a)pireno) e hidrocarburos totales. De manera específica Benceno, Tolueno, formaldehido y Metanol, entre otros que se consideren relevantes a partir de la normativa vigente, normatividad internacional y la literatura sobre las aguas de producción a evaporar. \nc) Atender lo establecido por esta autoridad en lo relacionado con las mediciones de sustancias de olores ofensivos, incluyendo como mínimo Sulfuro de hidrógeno (H2S), Azufre total reducido (TRS), Amoniaco (NH3), entre otros que se consideren relevantes a partir de la normativa vigente, normatividad internacional y la literatura de las aguas de producción a evaporar, así como las mezclas de sustancias generadoras de olores ofensivos.\nd) Relacionar el objeto de la caracterización en los campos de observación de las respectivas capas del modelo de almacenamiento de datos geográficos establecido en la Resolución 2182 del 2016 del MADS, o aquella norma que la modifique o sustituya, y/o el modelo de almacenamiento geográfico complementario para los PPII - YNC publicado en el micrositio de esta autoridad destinado para los Proyectos Piloto de Investigación Integral de Yacimientos no Convencionales. \ne) Dichos monitoreos se realizarán a través de laboratorios acreditados por el IDEAM, tanto para la toma de la muestra, como para el análisis de los parámetros monitoreados. Presentar los resultados de los monitoreos, el análisis y los certificados de los laboratorios en los Informes de Cumplimiento Ambiental - ICA.\nf) De no existir niveles máximos permisibles establecidos en la normatividad nacional, el titular de la licencia ambiental podrá usar referentes internacionales debidamente avalados y soportados. En caso de identificar que durante la operación del proyecto no se emite a la atmósfera uno o varios de los contaminantes relacionados en los literales a), b), y c) y la obligación de Mediciones asociadas a la actividad de evaporación forzada, agua tratada, residuos sólidos y líquidos, que no se relacionen con los contaminantes establecidos en las Tablas 10 y 11 de los TdR para PPII, el titular de la licencia ambiental puede presentar el soporte técnico debidamente argumentado de su no inclusión en los monitoreos de calidad del aire, basado en herramientas como el inventario de emisiones atmosféricas, análisis fisicoquímicos de fluidos de entrada y salida del proceso, lo cual estará sujeto al seguimiento y concepto de esta Autoridad Nacional.","N/A","N/A","Aplica","N/A","N/A","Permanente"]
[106,"EVAPORACIÓN FORZADA","Informe  de la modelación de dispersión de radionucleidos\n\nNota: Para modelación de otros parámetros en evaporación forzada se deberán seguir los lineamientos de dichas obligaciones.",null,"Elaborar el informe de la modelación de la dispersión de contaminantes atmosféricos (radionucleidos) y presentarlo en los respectivos Informes de Cumplimiento Ambiental - ICA e incluir como mínimo la siguiente información:\n\na) Metodología del modelo de dispersión la cual debe ser justificada de acuerdo con la especiación física y química de los radionucleidos en los compuestos evaporados (en forma de gas o partículas-aerosoles).\nb) Análisis meteorológico adaptado al modelo de dispersión seleccionado.\nc) Datos de entrada de la modelación: descripción y ubicación de la región de impacto, identificación y ubicación georreferenciado de las fuentes de emisión y de los posibles receptores, archivo geográfico con la topografía de la región y tipo de uso del suelo, información y análisis de la meteorología y de la radioactividad natural en la región, contaminantes emitidos y descripción del método de cuantificación de las emisiones. \nd) Descripción del modelo empleado incluyendo los resultados de las concentraciones obtenidas en el modelo para los receptores sensibles y gráficas de isopletas georreferenciadas, donde se muestre la ubicación de las fuentes de emisión y de los receptores.\ne) Reporte de los criterios, características del modelo, alcances y tamaño de mallas empleados para la modelación. Anexar los archivos de entrada y salida empleados en la modelación, en los formatos originales de entrada y salida del modelo, y los archivos de meteorología.\nf) Técnicas de validación de la modelación y la concentración de fondo tenida en cuenta para el proceso de validación. Las mediciones de radionucleidos utilizadas para el proceso de validación del modelo.\ng) Validación y análisis de los resultados de la modelación. \nh) Conclusiones.\ni) Anexos.\n\nNota: El titular de la licencia ambiental puede presentar el soporte técnico debidamente argumentado de la no inclusión de modelos de radionucleidos que salen a la atmósfera por el proceso de evaporación forzada, basado en herramientas como el inventario de emisiones atmosféricas con el balance de masas incluyendo los análisis fisicoquímicos del fluido de entrada a tratar, y de los residuos líquidos y sólidos generados del sistema de evaporación, lo cual estará sujeto al seguimiento y concepto de esta Autoridad Nacional.","NA","NA","Aplica","NA","NA","Permanente"]
[107,"RESIDUOS","Registro de residuos generados, aprovechados, tratados y/o dispuestos (Base de datos)",null,"Llevar un registro (base de datos) mensual acumulada de la cantidad de residuos sólidos convencionales (aprovechables y no aprovechables), residuos peligrosos (sólidos y líquidos), residuos posconsumo y residuos de construcción y demolición (RCD) generados, aprovechados, tratados y/o dispuestos, que indique como mínimo: tipo de residuo, cantidad de residuos generados, cantidad de residuos aprovechados, tratados y/o dispuestos por parte de terceros o del titular de la licencia, tipo de aprovechamiento, tratamiento y disposición. Presentar dicho registro, en los respectivos Informes de Cumplimiento Ambiental - ICA a través del formato \"Plantilla de Seguimiento a la Gestión de Residuos\".","N/A","Aplica","Aplica","N/A","Aplica","Permanente"]
[108,"RESIDUOS","Características de los sitios de almacenamiento temporal de residuos",null,"Contar con sitios de almacenamiento temporal de residuos sólidos convencionales (aprovechables y no aprovechables) y de residuos peligrosos (líquidos y sólidos) generados durante la ejecución del proyecto, en cumplimiento del Decreto 1077 de 2015 (Compila Decreto 2981 de 2013 del Ministerio de Vivienda, Ciudad y Territorio) y del Reglamento Técnico del Sector de Agua Potable y Saneamiento Básico - RAS, los cuales deberán ser independientes y contar con:\n\na) Base impermeabilizada para evitar una posible contaminación del suelo.\nb) Cubierta para evitar el contacto con el agua.\nc) Sistema de diques y cunetas perimetrales para los residuos líquidos.\nd) Condiciones óptimas o sistemas que permitan la ventilación e iluminación.\ne) Sistemas de prevención y control de incendios.\nf) Kit antiderrames (para el almacenamiento de residuos líquidos peligrosos)\ng) Señalización.\nh) Los recipientes empleados para el almacenamiento de los residuos deberán ser identificados por tipo de residuo y permitir su fácil limpieza.","N/A","Aplica","Aplica","N/A","Aplica","Permanente"]
[109,"RESIDUOS","Prohibición de entrega de residuos orgánicos provenientes de alimentos a la comunidad",null,"Los residuos orgánicos provenientes de alimentos no podrán ser entregados a la comunidad para su aprovechamiento.","N/A","Aplica","Aplica","N/A","Aplica","Permanente"]
[110,"RESIDUOS","Manejo de residuos sólidos convencionales (aprovechables y no aprovechables) a través de terceros autorizados",null,"Realizar el manejo de residuos sólidos convencionales (aprovechables y no aprovechables) a través de terceros debidamente autorizados para su transporte, almacenamiento, aprovechamiento, tratamiento y/o disposición final, y presentar en los respectivos Informes de Cumplimiento Ambiental – ICA:\n\na) Copia de las autorizaciones, permisos y/o licencias de las respectivas empresas encargadas de la gestión de los residuos.\nb) Actas de entrega para el transporte, almacenamiento, aprovechamiento, tratamiento y/o disposición final, que indiquen: nombre de empresa, fecha de entrega, sitio de entrega, tipo de residuos, cantidad, tratamiento y/o aprovechamiento a implementar y certificados de aprovechamiento, tratamiento y/o disposición final (para el caso de residuos aprovechables).\nc) Relacionar los volúmenes generados, aprovechados, tratados y/o dispuestos en el registro (base de datos) solicitada por esta Autoridad.","N/A","Aplica","Aplica","N/A","Aplica","Permanente"]
[111,"RESIDUOS","Manejo de residuos posconsumo",null,"Integrar la gestión de los residuos posconsumo, como: pilas y/o acumuladores, bombillas, llantas usadas, computadores y/o periféricos, baterías plomo ácido, fármacos o medicamentos vencidos, envases y empaques y demás residuos posconsumo considerados por la normativa actual vigente, a las corrientes posconsumo reglamentadas y presentar en los respectivos Informes de Cumplimiento Ambiental – ICA los certificados de entrega de estos residuos al Plan de Gestión de Devolución de Productos Posconsumo y/o al Sistema de Recolección Selectiva y Gestión Ambiental de Residuos aprobados por esta Autoridad, indicando por cada periodo reportado:\n\na) El volumen y/o peso de residuos posconsumo entregados, discriminando tipo de residuo y el manejo que se le otorgará por parte del Plan de Gestión de Devolución de Productos Posconsumo y/o Sistema de Recolección Selectiva y Gestión Ambiental de Residuos a los residuos posconsumo entregados.\nb) Relacionar los volúmenes generados, aprovechados, tratados y/o dispuestos en el registro (base de datos) solicitada por esta Autoridad.","N/A","Aplica","Aplica","N/A","Aplica","Permanente"]
[112,"RESIDUOS","Manejo de residuos peligrosos (líquidos y sólidos) a través de terceros autorizados",null,"Realizar el manejo de residuos peligrosos (líquidos y sólidos) a través de terceros debidamente autorizados para su transporte, almacenamiento, aprovechamiento, tratamiento y/o disposición final, y presentar en los respectivos Informes de Cumplimiento Ambiental – ICA:\n\na) Copia de las autorizaciones, permisos y/o licencias de las respectivas empresas encargadas de la gestión de los residuos.\nb) Actas de entrega para el transporte, almacenamiento, aprovechamiento, tratamiento y/o disposición final, que indiquen: nombre de empresa, fecha de entrega, sitio de entrega, tipo de residuos y cantidad.\nc) Certificados de tratamiento, aprovechamiento y/o disposición final, que indiquen: nombre de empresa que gestionó los residuos, nombre de empresa que entregó los residuos, fechas de recepción y gestión de residuos, tipo de residuo, cantidad, tipo de tratamiento realizado  y/o alternativa de disposición final y sitio donde se gestionó el residuo.\nd) Relacionar los volúmenes generados, aprovechados, tratados y/o dispuestos en el registro (base de datos) solicitada por esta Autoridad.","N/A","Aplica","Aplica","N/A","Aplica","Permanente"]
[113,"RESIDUOS","Registro RESPEL para  cantidad igual o mayor a 10 kg/mes de residuos sólidos peligrosos",null,"Para cantidades iguales o superiores a 10 kg/mes de residuos sólidos peligrosos, dar cumplimiento a lo establecido en la Resolución 1362 del 2007 del Ministerio de Ambiente, Vivienda y Desarrollo Territorial, o aquella que la modifique o sustituya, por la cual se establecen los requisitos y el procedimiento para el Registro de Generadores de Residuos o Desechos Peligrosos, a que hacen referencia los artículos 2.2.6.1.6.1 y 2.2.6.1.6.2 del Decreto 1076 de 2015, o la norma que la modifique o sustituya. ","N/A","Aplica","Aplica","N/A","Aplica","Permanente"]
[114,"RESIDUOS","Almacenamiento temporal de los residuos peligrosos y especiales",null,"De conformidad con el establecido en el artículo 2.2.6.1.3.1. del Título 6, Parte 2, Libro 2 del Decreto 1076 de 2015 o aquella que la modifique o sustituya, no se podrá realizar el almacenamiento temporal de residuos peligrosos por más de doce (12) meses; en los casos debidamente sustentados y justificados, se podrá solicitar ante esta autoridad, una extensión de dicho periodo. ","N/A","Aplica","Aplica","N/A","Aplica","Permanente"]
[115,"RESIDUOS","Manejo de residuos hospitalarios y similares",null,"Presentar la gestión de los residuos hospitalarios y similares generados en el proyecto en los Informes de Cumplimiento Ambiental - ICA, dando cumplimiento a las siguientes condiciones:\n\na) Copia de las autorizaciones, permisos y/o licencias de las respectivas empresas encargadas de la gestión de los residuos.\nb) Actas de entrega para el transporte, almacenamiento, aprovechamiento, tratamiento y/o disposición final, que indiquen: nombre de empresa, fecha de entrega, sitio de entrega, tipo de residuos y cantidad.\nc) Certificados de tratamiento, aprovechamiento y/o disposición final, que indiquen: nombre de empresa que gestionó los residuos, nombre de empresa que entregó los residuos, fechas de recepción y gestión de residuos, tipo de residuo, cantidad, tipo de tratamiento realizado  y/o alternativa de disposición final y sitio donde se gestionó el residuo.\nd) Almacenarse de acuerdo al código de colores y las características y condiciones específicas establecidas en el Manual de Procedimientos para la Gestión Integral de Residuos Hospitalarios y Similares, adoptado por la Resolución 1164 de 2002 del Ministerio de Ambiente y Ministerio de Salud, o aquella que la modifique o sustituya.\ne) Relacionar los volúmenes generados, tratados y/o dispuestos en el registro (base de datos) solicitada por esta Autoridad.","N/A","Aplica","Aplica","N/A","Aplica","Permanente"]
[116,"RESIDUOS","Manejo de lodos y cortes de perforación",null,"Presentar la gestión de los lodos y cortes de perforación en los Informes de Cumplimiento Ambiental - ICA según el periodo reportado, y cumplir con las siguientes condiciones:\n\na) Almacenarse en un tanque/ piscina impermeabilizada con geomembrana cercana al sitio de perforación, la cual contará con cunetas perimetrales de recolección y conducción de aguas lluvias hacia el medio natural. \nb) Realizar los análisis físico-químicos de los lodos y cortes previo a su disposición, de acuerdo con los con los parámetros establecidos en la Tabla 3 del Anexo III del Título 6, Parte 2, Libro 2 del Decreto 1076 de 2015 y el Protocolo Louisiana 29B. \nc) Estabilizar los lodos y cortes de perforación antes de su disposición final.","N/A","Aplica","Aplica","N/A","Aplica","Permanente"]
[117,"RESIDUOS","Movimiento transfronterizo para la disposición de residuos peligrosos",null,"En caso de realizar movimientos transfronterizos para disposición de desechos peligrosos, el titular de la presente licencia ambiental deberá dar cumplimiento a lo dispuesto en el Convenio de Basilea, ratificado por la Ley 253 del 9 de enero de 1996, sobre el control de los movimientos transfronterizos de los desechos peligrosos y su eliminación, así como el Decreto 1076 de 2015 y demás normas reglamentarias.","N/A","Aplica","Aplica","N/A","Aplica","Permanente"]
[118,"RESIDUOS","Prohibiciones en la gestión de residuos de construcción y demolición - RCD",null,"Dar cumplimiento a lo establecido en el artículo 20 de la Resolución 472 de 2017 del Ministerio de Ambiente y Desarrollo Sostenible, o aquella que la modifique o sustituya, en cuanto a las prohibiciones establecidas para el almacenamiento, mezcla, abandono y disposición de residuos de construcción y demolición - RCD.","N/A","Aplica","N/A","N/A","Aplica","Permanente"]
[119,"RESIDUOS","Metas de aprovechamiento (reutilización, tratamiento y reciclaje) de residuos de construcción y demolición - RCD",null,"Dar cumplimiento al parágrafo del artículo 19 de la Resolución 472 de 2017 del Ministerio de Ambiente y Desarrollo Sostenible, o aquella que la modifique o sustituya, en lo relacionado con las metas de aprovechamiento (reutilización, tratamiento y reciclaje) de residuos de construcción y demolición – RCD  para proyectos, obras o actividades sujetos a licenciamiento ambiental, y presentar en los respectivos Informes de Cumplimiento Ambiental - ICA:\n\na) Reporte en el que se indique: porcentaje de material aprovechado, respecto del total utilizado en la obra, tipo de material aprovechado, volumen de material aprovechado, sectores de donde proviene el material, actividades/sectores en los que fue aprovechado, periodo en los que fue realizado.\nb) En caso de que los materiales provengan de terceros, se presentarán los soportes de la adquisición, nombre del tercero, fechas de recepción, tipo de RCD y cantidad. ","N/A","Aplica","N/A","N/A","Aplica","Permanente"]
[120,"RESIDUOS","Disposición final de residuos de construcción y demolición - RCD",null,"Disponer los residuos de construcción y demolición – RCD no susceptibles de aprovechamiento de acuerdo con lo establecido en la Resolución 472 de 2017 del Ministerio de Ambiente y Desarrollo Sostenible, o aquella que la modifique o sustituya, en los sitios de disposición final de RCD legalmente autorizados, para lo cual el titular del proyecto entregará en los respectivos Informes de Cumplimiento Ambiental – ICA:\n\na) Copia de las autorizaciones, permisos y/o licencias del sitio de disposición final de RCD.\nb) Actas de entrega, que indiquen: nombre de empresa, fecha de entrega, sitio de entrega, tipo de residuo y cantidad.\nc) Certificados de disposición final, que indiquen: nombre de empresa que gestionó los residuos, nombre de empresa que entregó los residuos, fechas de recepción y gestión de residuos, tipo de residuo, cantidad y sitio donde se gestionó el residuo.\nd) Relacionar los volúmenes de RCD generados, aprovechados, tratados y/o dispuestos por tipo de residuo en el registro (base de datos) solicitada por esta Autoridad.","N/A","Aplica","N/A","N/A","Aplica","Permanente"]
[121,"ZONAS DE DISPOSICIÓN DE MATERIAL SOBRANTE DE EXCAVACIONES","Manejo de ZODMEs",null,"Dar cumplimiento a las siguientes condiciones relacionadas con el manejo de las ZODMEs:\n\na) Implementar sistemas de manejo de aguas de escorrentía y sistemas de control de sólidos a la salida de los drenajes del depósito, de tal manera que no se vean afectados cuerpos de aguas, estabilidad del relleno y/o los predios vecinos.\nb) No se podrá disponer en las ZODMEs residuos sólidos convencionales y peligrosos, tales como: orgánicos, chatarra, madera, papel, lodos, combustibles, entre otros no autorizados.\nc) Realizar la compactación y cubrimiento del material mientras se realice la disposición del mismo.\nd) Presentar en los Informes de Cumplimiento Ambiental – ICA el avance para el respectivo periodo reportado de acuerdo con el modelo de almacenamiento geográfico establecido en la Resolución 2182 de 2016 del MADS, o la que la modifique o sustituya, y/o el modelo de almacenamiento geográfico complementario PPII - YNC publicado en el micrositio de esta autoridad destinado para los Proyectos Piloto de Investigación Integral de Yacimientos no Convencionales. \ne) Presentar el origen, volúmenes y tipo de material dispuesto a la fecha de corte de los Informes de Cumplimiento Ambiental – ICA, discriminando el volumen acumulado y dispuesto en el periodo.\nf) Implementar sistemas de medición de la estabilidad del lleno para identificar oportunamente una posible falla debida al asentamiento generado en el relleno de manera [definir la frecuencia, la cual estará en función de la estabilidad del terreno de acuerdo con el estudio geotécnico que presente el proyecto] y al finalizar la conformación del mismo. Presentar los soportes correspondientes en los Informes de Cumplimiento Ambiental – ICA.\ng) Al finalizar el lleno de la ZODME realizar su revegetalización con especies nativas, o aquella otra actividad pactada con los propietarios de los predios de acuerdo con el uso final que se le vaya a dar al área, cuando estas se encuentren localizadas en predios privados. El titular de la licencia ambiental acreditará documentalmente a la ANLA a través del respecto Informe de Cumplimiento Ambiental - ICA la conformación final de la ZODME.\nh) Luego de la etapa de clausura de la ZODME y mientras el proyecto esté en operación, continuar con el mantenimiento rutinario de los sistemas de manejo de aguas de escorrentía, sólidos y revegetalización establecidos en la misma, en caso de que esta última aplique. De lo anterior, presentar las actividades adelantadas con registro fotográfico en el respectivo Informe de Cumplimiento Ambiental ICA del periodo reportado.","N/A","Aplica","Aplica","N/A","Aplica","Permanente"]
[122,"SISMICIDAD","Monitoreos de sismicidad",null,"En caso de que por requerimiento del Ministerio de Minas y Energía (o quien este delegue) se suspendan las actividades debido a la sismicidad que en el semáforo sísmico se identifique como rojo, se deberá informar de manera escrita e inmediatamente a la ANLA sobre la suspensión, medidas requeridas por dichas autoridades y medidas implementadas, así como las actividades desarrolladas en cumplimiento de lo ordenado por el Ministerio de Minas y Energía (o quien este delegue). Esta información será utilizada por la autoridad ambiental para su evaluación y seguimiento en el marco de sus competencias.","N/A","N/A","Aplica","Aplica","N/A","Permanente"]
[123,"HIDROGEOLOGÍA","Modelo hidrogeológico numérico estacionario",null,"Presentar en el primer Informe de Cumplimiento Ambiental – ICA de la fase constructiva el modelo hidrogeológico numérico estacionario de acuerdo con el modelo hidrogeológico conceptual y la hoja del modelo numérico. ","N/A","Aplica","N/A","N/A","N/A","Temporal"]
[124,"HIDROGEOLOGÍA","Actualización del modelo hidrogeológico conceptual ",null,"Presentar en el respectivo Informe de Cumplimiento Ambiental – ICA una vez perforado el primero pozo de FFHH, la actualización del modelo hidrogeológico conceptual con todos los componentes (geológico, geofísico, unidades hidrogeológicas, hidrológico, inventario de puntos de agua subterránea, usos del agua subterránea, sistemas de flujo subterráneo, hidráulica, hidrogeoquímica, isotópica, calidad del agua subterránea y vulnerabilidad intrínseca a la contaminación) empleando la información obtenida de los monitoreos efectuados hasta ese momento, así como la información obtenida de la perforación del pozo FFHH, incluyendo interpretación litológica, registros geofísicos de pozo, etc. ","N/A","N/A","Aplica","N/A","N/A","Temporal"]
[125,"HIDROGEOLOGÍA","Actualización del modelo hidrogeológico numérico ",null,"Actualizar el modelo numérico estacionario con base en la actualización del modelo conceptual. Luego, correr el modelo en estado transitorio para los diferentes escenarios de acuerdo con la actividad. Presentar dicha información en los Informes de Cumplimiento Ambiental – ICA una vez perforado el primer pozo de FFHH.","N/A","N/A","Aplica","N/A","N/A","Temporal"]
[126,"HIDROGEOLOGÍA","Entrega final del modelo hidrogeológico conceptual ",null,"Presentar en el respectivo Informe de Cumplimiento Ambiental – ICA el modelo conceptual final a la terminación de la etapa concomitante teniendo en cuenta los componentes (geológico, geofísico, unidades hidrogeológicas, hidrológico, inventario de puntos de agua subterránea, usos del agua subterránea, sistemas de flujo subterráneo, hidráulica, hidrogeoquímica, isotópica, calidad del agua subterránea y vulnerabilidad intrínseca a la contaminación) empleando la información obtenida de los monitoreos efectuados hasta ese momento, así como la información obtenida de la perforación de todos los pozos, incluyendo interpretación litológica, registros geofísicos de los pozos, etc. ","N/A","N/A","Aplica","N/A","N/A","Temporal"]
[127,"FLUIDOS DE RETORNO Y AGUAS DE PRODUCCIÓN","Manejo de fluidos de retorno y aguas de producción",null,"Para el monitoreo y seguimiento a la gestión de los fluidos de retorno y de agua de producción, se debe:\n\na) Reportar de manera diaria a través del correo electrónico centromonitoreo@anla.gov.co el registro del volumen diario del fluido de retorno y aguas de producción generadas durante la actividad del PPII.\nb) Reportar mensualmente a través de los respectivos Informes de Cumplimiento Ambiental - ICA:\ni. Análisis geoquímicos de iones del fluido de fracturamiento combinados con información de la mineralogía del reservorio, modelamiento e interpretaciones termodinámicas que justifiquen la representatividad, con el fin de explicar la composición del fluido de retorno o de agua de producción posterior a todas las etapas de fracturamiento hidráulico del pozo.\nii. Composición del fluido recuperado según: los parámetros establecidos en la Tablas 8. Parámetros fisicoquímicos y microbiológicos a caracterizar en las fuentes de agua subterránea asociadas al área de influencia, y Tabla 16. Parámetros adicionales para caracterizar los fluidos de retorno y de agua de producción de los Términos de Referencia de PPII, los compuestos asociados al fluido de fracturamiento, los que se prevén resulten de la reacción del fluido de fracturamiento al relacionarse con el yacimiento y los que surgen como aguas connatas del yacimiento mismo.\niii. Tabla y análisis comparativo entre volumen de fluido de fracturamiento hidráulico inyectado y de fluido de retorno o de agua de producción generado para cada pozo. Incluir el porcentaje aproximado del fluido de fracturación inyectado que retorna a superficie como fluido de retorno y el volumen de las aguas producidas.\niv. Tabla y análisis comparativo con las diferencias de la composición fisicoquímica entre el fluido de fracturamiento hidráulico utilizado y el fluido de retorno generado, resaltando elementos químicos no presentes en el fluido de fracturamiento que pudieran ser naturalmente ocurrentes en el yacimiento y pudieran estar siendo arrastradas por el mismo yacimiento o como resultado de reacciones químicas. Para el monitoreo de los radionucleidos de origen natural se deben observar los lineamientos técnicos para el muestreo y análisis de laboratorio suministrados por el SGC.\nv. En caso de reutilización de fluido de retorno o de agua de producción como fluido de fracturamiento hidráulico, reportar el porcentaje y volumen reutilizado.","N/A","N/A","Aplica","N/A","N/A","Permanente"]
[128,"FLUIDOS DE RETORNO Y AGUAS DE PRODUCCIÓN","Almacenamiento de fluidos de retorno y aguas de producción",null,"No se podrán mezclar o almacenar componentes del fluido de retorno y aguas de producción en piscinas al aire libre, únicamente en tanques cerrados (frac tanks u otros similares) con tapa y ventilación de seguridad, o tanques abiertos con las medidas establecidas en esta sección y mientras se garantice que los niveles de COVs no superen la normatividad vigente o las referencias internacionales seleccionadas por sustancia específica.","N/A","N/A","Aplica","N/A","N/A","Permanente"]
[129,"FRACTURAMIENTO HIDRÁULICO","Fluidos de fracturamiento",null,"Reportar en los respectivos Informes de Cumplimiento Ambiental – ICA: cantidades, concentraciones de los aditivos que componen el fluido de fracturamiento en cada etapa de fracturamiento, nombre químico y común, incluidos los cambios en las características físico químicas de estos fluidos, en caso de presentarse. Dicha información también deberá estar disponible en el sitio web de la empresa.   ","N/A","N/A","Aplica","N/A","N/A","Permanente"]
[130,"GESTIÓN INTEGRAL DE AGUAS","Reporte mensual de los volúmenes y caudales de agua gestionada en las diferentes actividades del proyecto",null,"Llevar un registro (base de datos) mensual y acumulado de los volúmenes y caudales de las aguas gestionadas en el proyecto, indicando las diferentes actividades en las que fueron utilizadas (perforación, fracturamiento hidráulico, riego en vías, mantenimiento de equipos, domésticas, entre otras) asociadas a [Espacio para indicar los permisos/autorizaciones respectivas que se hayan autorizado al proyecto: vertimientos, concesión de aguas, compra de agua, reúso, entrega de aguas residuales para reúso, entrega de aguas residuales a terceros, inyección para disposición final, evaporación forzada, entre otras], lo cual se soportará mediante un balance de masa, en términos de volumen, que se presentará en cada Informe de Cumplimiento Ambiental - ICA, según el periodo reportado. Así mismo, este registro deberá estar disponible en la página web de la empresa y en el Centro de Transparencia de que trata el Decreto 0328 del 2020 de Minminas.","N/A","Aplica","Aplica","Aplica","Aplica","Permanente"]
[131,"TERMINACIÓN DE ACTIVIDADES DE FRACTURAMIENTO","Terminación de actividades de fracturamiento",null,"Dentro de los diez (10) días previos a la terminación de las actividades de la aplicación de la técnica de Fracturamiento Hidráulico Multietapa con Perforación Horizontal - FH-PH en yacimientos no convencionales - YNC, actividad que finaliza con el dimensionamiento del yacimiento (terminación de etapa concomitante de acuerdo al Decreto 328 del 2020), el titular de la presente licencia ambiental informará a la ANLA, mediante oficio dirigido a la Subdirección de Seguimiento de Licencias Ambientales, la fecha de terminación de actividades y presentará para pronunciamiento de esta autoridad las medidas de mantenimiento de las instalaciones, las medidas de manejo y seguimiento a implementar desde los medios abiótico, biótico y socioeconómico durante la etapa de evaluación, así como un balance del estado de los recursos naturales en comparación con la línea base.","N/A","N/A","Aplica","N/A","N/A","Temporal"]
[132,"SUSPENSIÓN TEMPORAL","Suspensión temporal de actividades ",null,"Realizar la suspensión de actividades del PPII cuando se presenten las situaciones de las que trata el artículo 17 y 28 de la Resolución 40185 del 2020 del Minminas, o la norma que la modifique o sustituya, para lo cual deberá implementar las acciones allí mencionadas, dar cumplimiento a las obligaciones relacionadas con el Plan de Contingencia aprobadas por esta autoridad en el presente acto administrativo e informar mediante oficio dirigido a la Subdirección de Seguimiento de Licencias Ambientales dentro de las 24 h posteriores a la suspensión.","N/A","N/A","N/A","N/A","Aplica","Temporal"]
[133,"DESMANTELAMIENTO Y ABANDONO","Desmantelamiento y abandono del PPII",null,"Una vez surtida la etapa de evaluación del PPII de acuerdo con el artículo 2.2.1.1.1A.2.14 del Decreto 328 de 2020 y en el evento en que no sea viable continuar con la etapa de exploración comercial, el titular de la licencia ambiental deberá dar cumplimiento al artículo 2.2.2.3.9.2 del Decreto 1076 del 2015, o la norma que lo modifique y/o sustituya, y a las obligaciones establecidas en la licencia ambiental relacionadas con desmantelamiento y abandono.","N/A","N/A","N/A","N/A","Aplica","Temporal"]
[134,"DESMANTELAMIENTO Y ABANDONO","Presentación de la forma 10ACR diligenciada y aprobada por la ANH sobre el taponamiento y abandono de los pozos perforados ",null,"Previo al inicio de la fase de desmantelamiento y abandono, el titular de la licencia ambiental allegará  a la ANLA, copia de la forma 10ACR diligenciada y aprobada por la ANH, certificando el Taponamiento y Abandono de la totalidad de los pozos perforados en la locación, conforme al parágrafo 2 del artículo 2.2.2.3.9.2 del Decreto 1076 del 2015, o la norma que lo modifique y/o sustituya.","N/A","N/A","N/A","N/A","Aplica","Temporal"]
[135,"COMPENSACIONES DEL MEDIO BIÓTICO","No generar impactos adicionales en el desarrollo de las actividades de compensación",null,"En ningún caso las actividades de compensación podrán generar impactos adicionales a los ya identificados por el proyecto; en este sentido, para la implementación de las actividades de compensación no se podrá hacer uso y/o aprovechamiento de recursos naturales adicionales a los ya aprobados para las actividades en el presente acto administrativo.","N/A","Aplica","Aplica","N/A","Aplica","Permanente"]
[136,"COMPENSACIONES DEL MEDIO BIÓTICO","Inicio de actividades aprobadas de compensación",null,"Dar inicio a las actividades de compensación en un periodo máximo de 6 meses una vez iniciada la actividad que da origen al impacto y a la respectiva compensación, incluyendo las consideraciones de adicionalidad y/u obligaciones específicas del acto administrativo, de conformidad con el articulo 3 de la Resolución 256 del 22 de febrero de 2018, o aquella norma que la modifique, derogue o sustituya, e informar a esta autoridad mediante oficio dirigido a la Subdirección de Seguimiento de Licencias Ambientales el inicio de las  actividades de compensación.","N/A","Aplica","Aplica","N/A","N/A","Temporal"]
[137,"COMPENSACIONES DEL MEDIO BIÓTICO","Presentación del cumplimiento de las formas de implementación\n\nNota 1: Este parágrafo aplica cuando el proyecto tenga formas agrupadas de las obligaciones. Incluir parágrafo en la obligación anterior \"Inicio de actividades aprobadas de compensación\".\nNota 2: En caso de que solo se agrupen obligaciones de compensación, eliminar las obligaciones de inversión de 1% de la obligación.\nNota 3: En caso de que el proyecto agrupe obligaciones de compensaciónes e inversión del 1%, se deberá incluir este parágrafo una única vez (verificar que no esté duplicada con las obligaciones de inversión de 1%).",null,"Parágrafo 1: El cumplimiento de objetivos y obligaciones asociadas a las formas agrupadas de implementación de los planes de compensación del medio biótico e inversión forzosa de no menos del 1% a las que se refiere el Manual de Compensaciones del Componente Biótico y el Articulo  2.2.9.3.1.12. del Decreto 1076 de 2015, o aquella norma que la modifique o sustituya, se presentarán de manera independiente en los Informes de Cumplimiento Ambiental de cada proyecto y de cada obligación correspondiente, bajo el modelo de almacenamiento geográfico establecido en la Resolución 2182 de 2016 del MADS, o la que la modifique o sustituya."," -"," -"," -"," -"," -"," -"]
[138,"COMPENSACIONES DEL MEDIO BIÓTICO","No superposiciones entre áreas de compensación e inversión del 1%\n\nNota 1: Incluir parágrafo en la obligación anterior \"Inicio de actividades aprobadas de compensación\".",null,"Parágrafo 2: No se deberán presentar superposiciones entre las áreas destinadas para el cumplimiento de las obligaciones de compensación o de inversión forzosa de no menos del 1%, así como tampoco con áreas destinadas al cumplimiento de obligaciones impuestas a cualquier otro expediente, máxime cuando se trate de la misma actividad propuesta para el cumplimiento de la obligación."," -"," -"," -"," -"," -"," -"]
[139,"COMPENSACIONES DEL MEDIO BIÓTICO","Presentación de cronograma de áreas definitivas de compensación",null,"Entregar mediante oficio dirigido a la Subdirección de Seguimiento de Licencias Ambientales - SSLA, el cronograma con las fechas de presentación de las áreas definitivas de compensación a esta Autoridad para su aprobación, previo al inicio de las actividades que generan el impacto, contemplando la condición del inicio de la implementación de las acciones de compensación en un máximo de seis meses después del inicio de las actividades que generan el impacto. Cualquier modificación deberá ser informada y autorizada por la autoridad, quien se pronunciará sobre la pertinencia de las modificaciones solicitadas.","N/A","Aplica","N/A","N/A","N/A","Puntual"]
[140,"COMPENSACIONES DEL MEDIO BIÓTICO","Informar ajustes de área a compensar en el plan de compensación",null,"En caso de identificar que, una vez finalizada la actividad que genera la compensación, se incurre en una compensación de menor o mayor área a la aprobada mediante el presente acto administrativo, el titular de la licencia informará a esta autoridad los ajustes al plan de compensación para que en el marco del seguimiento ambiental sea objeto de análisis y aprobación.","N/A","Aplica","Aplica","N/A","N/A","Permanente"]
[141,"COMPENSACIONES DEL MEDIO BIÓTICO","Informar ajustes de localización de áreas de compensación",null,"Las áreas definitivas para el desarrollo de las actividades aprobadas de compensación deberán estar inmersas en las áreas preliminares aprobadas mediante el presente acto administrativo, en caso contrario, deberán ser debidamente justificadas garantizando la adicionalidad y las mismas condiciones de modo, tiempo y lugar que fueron objeto de aprobación, con el fin de ser presentadas a esta autoridad para que en el marco del seguimiento ambiental sea objeto de análisis y aprobación de conformidad con lo dispuesto en el articulo 4 de la resolución 256 del 22 de febrero de 2018 o aquella norma que la modifique o sustituya.","N/A","Aplica","Aplica","N/A","Aplica","Permanente"]
[142,"COMPENSACIONES DEL MEDIO BIÓTICO","Cambio en las acciones, modos, mecanismos y/o formas de compensación aprobada",null,"En caso de cambio en las acciones, sitios, modos, mecanismos y/o formas de compensación aprobadas, presentarlos a esta autoridad para que en el marco del seguimiento ambiental sea objeto de análisis y aprobación, de conformidad con lo dispuesto en el articulo 4 de la resolución 256 del 22 de febrero de 2018 o aquella norma que la modifique o sustituya.","N/A","Aplica","Aplica","N/A","Aplica","Permanente"]
[143,"COMPENSACIONES DEL MEDIO BIÓTICO","Presentación del informe de avance del plan de compensación",null,"El titular de la licencia ambiental, deberá presentar en los respectivos Informes de Cumplimiento Ambiental - ICA, un informe de avance, el cual debe contener como mínimo: \n\na) Comparación de la caracterización detallada de los polígonos elegidos para llevar a cabo las acciones de compensación del medio biótico, respecto a los resultados obtenidos durante el seguimiento y monitoreo propuesto, para cada uno de los indicadores y realizar el análisis de efectividad respectivo, así como la propuesta de ajuste en caso de resultados desfavorables. \nb) Información geográfica del área compensada a la fecha de presentación del informe de avance, incluyendo la respectiva discriminación por acción de compensación, y porcentaje de avance con respecto al área total a compensar. \nc) Estado de los ecosistemas del área de compensación propuestas para las acciones de restauración, preservación y/o uso sostenible, las cuales deberán ser coherentes con las necesidades del territorio frente a procesos de conservación y restauración ecológica, así como los instrumentos de planificación y ordenamiento territorial.\nd) Descripción de las actividades ejecutadas, que incluya los soportes y registro fotográfico que evidencien cada una de las actividades propuestas en la fase de implementación, seguimiento y monitoreo para las acciones aprobadas.\ne) Porcentaje de avance de acuerdo al cronograma.\n\nParágrafo: La compensación se dará por cumplida una vez se logre el cumplimiento de los objetivos y metas propuestos por la sociedad en términos ecológicos, biológicos y/o ecosistémicos. ","N/A","Aplica","Aplica","N/A","Aplica","Permanente"]
[144,"COMPENSACIONES DEL MEDIO BIÓTICO","No perdida neta de biodiversidad con respecto a ecosistema de referencia",null,"El titular de la licencia ambiental evidenciará y cuantificará la no pérdida neta de biodiversidad de la que trata el \"Manual de compensaciones del componente biótico\", utilizando como ecosistema de referencia las áreas de afectación que generan las obligaciones de compensación, para lo cual deberá presentar en el primer Informe de Cumplimiento Ambiental - ICA de la fase constructiva, con base en los datos de línea base del estudio de impacto ambiental: \n\na) El cálculo de los indicadores contenidos en el documento \"Indicadores de impacto para el seguimiento de las obligaciones de compensación y planes de inversión del 1%\" para los ecosistemas de referencia. \nb) Las metas actualizadas del plan de compensación en términos de composición, estructura y función de las acciones a implementar, de acuerdo con los resultados de los atributos ecológicos obtenidos de la aplicación de los indicadores en los ecosistemas de referencia.\n\nEn los siguientes Informes de Cumplimiento Ambiental - ICA se deberá presentar el cálculo de los indicadores de impacto para las áreas de compensación, con el fin de establecer el cumplimiento de las metas en términos de la efectividad de las medidas de compensación asociadas a la no pérdida neta de biodiversidad. \n\nParágrafo: En caso de cambios en las áreas u acciones de compensación, las metas deberán ser actualizadas de acuerdo con el resultados de los indicadores de impacto para la composición, estructura y función de los ecosistemas de referencia.","N/A","Aplica","Aplica","N/A","Aplica","Permanente"]
[145,"COMPENSACIONES DEL MEDIO BIÓTICO","Exclusividad de las acciones de compensación",null,"Al titular de la licencia en ningún caso le será posible atribuir el cumplimiento de los objetivos de compensación a un tercero.","N/A","Aplica","Aplica","N/A","Aplica","Permanente"]
[146,"INVERSIÓN DEL 1%","Informar finalización de actividades de la fase constructiva",null,"Informar a la ANLA por medio de oficio dirigido a la Subdirección de Seguimiento de Licencias Ambientales, la fecha de finalización de las actividades de construcción y montaje del proyecto.","N/A","Aplica","N/A","N/A","N/A","Temporal"]
[147,"INVERSIÓN DEL 1%","Presentar plan de inversión con liquidación de inversiones",null,"Presentar e iniciar la ejecución del Plan de inversión detallado con la liquidación de las inversiones efectivamente realizadas en pesos colombianos y debidamente discriminada en términos contables, certificada por contador, revisor fiscal o representante legal, conforme al articulo 321 de la ley 1955 del 2019, o la ley que la modifique o sustituya, y las acciones específicas de destinación de los recursos en el marco de las líneas generales y ámbito geográfico aprobado dentro de los seis (6) meses siguientes a la finalización de las actividades de construcción y montaje del proyecto. Como parte integral de este plan, presentar el anexo geográfico con la información detallada en los términos y condiciones que exige el Modelo de Almacenamiento Geográfico adoptado a través de la Resolución 2182 de 2016 del Ministerio de Ambiente y Desarrollo Sostenible, o la que la modifique o sustituya, y/o el modelo de almacenamiento geográfico complementario PPII - YNC publicado en el micrositio de esta autoridad destinado para los Proyectos Piloto de Investigación Integral de Yacimientos no Convencionales. ","N/A","N/A","Aplica","N/A","N/A","Temporal"]
[148,"INVERSIÓN DEL 1%","Presentación del cumplimiento de las formas de implementación\n\nNota: Este parágrafo aplica cuando el proyecto tenga formas agrupadas de las obligaciones. Incluir parágrafo en la obligación anterior \"Presentar plan de inversión con liquidación de inversiones\".",null,"Parágrafo: El cumplimiento de objetivos y obligaciones asociadas a las formas agrupadas de implementación de los planes de compensación del medio biótico e inversión de no menos del 1% a las que se refiere el Manual de Compensaciones del Componente Biótico y el Articulo  2.2.9.3.1.12. del Decreto 1076 de 2015, o aquella norma que la modifique o sustituya, se presentarán de manera independiente en los Informes de Cumplimiento Ambiental de cada proyecto y de cada obligación correspondiente, bajo el modelo de almacenamiento geográfico establecido en la Resolución 2182 de 2016 del MADS, o la que la modifique o sustituya, y/o el modelo de almacenamiento geográfico complementario PPII - YNC publicado en el micrositio de esta autoridad destinado para los Proyectos Piloto de Investigación Integral de Yacimientos no Convencionales. "," -"," -"," -"," -"," -"," -"]
[149,"INVERSIÓN DEL 1%","Actualización de la liquidación de las inversiones",null,"Presentar por medio de oficio dirigido a la Subdirección de Seguimiento de Licencias Ambientales de esta autoridad, la actualización del valor de la liquidación de la inversión en relación con los valores no ejecutados con corte a 31 de diciembre de cada año fiscal, de acuerdo con la fórmula señalada en el parágrafo 1 del artículo 321 de la ley 1955 del 25 de mayo de 2019, con plazo máximo de 31 de marzo del año siguiente.","N/A","N/A","Aplica","Aplica","Aplica","Permanente"]
[150,"INVERSIÓN DEL 1%","Cumplimiento de cronograma y ejecución del plan\n\nNota: Ajustar obligación en caso de que no se haya presentado cronograma de ejecución.",null,"Dar cumplimiento al Plan de Inversión del 1% de conformidad con el cronograma propuesto y presentar los respectivos soportes de las actividades ejecutadas en los Informes de Cumplimiento Ambiental - ICA y en el modelo de almacenamiento geográfico establecido en la Resolución 2182 de 2016 del MADS, o la que la modifique o sustituya, y/o el modelo de almacenamiento geográfico complementario PPII - YNC publicado en el micrositio de esta autoridad destinado para los Proyectos Piloto de Investigación Integral de Yacimientos no Convencionales. ","N/A","N/A","Aplica","Aplica","Aplica","Permanente"]
[151,"MICROORGANISMOS ","Monitoreo de microorganismos",null,"Monitorear los mismos microorganismos (bacterias, hongos y microorganismos eucariotas) reportados en la línea base y en todas las matrices caracterizadas (agua subterránea, agua superficial, suelo y sedimento), así como en el agua de inyección y en el agua de los intervalos a inyectar en la formación receptora, bajo las siguientes condiciones:                \n\na) Monitorear de manera simultánea al muestreo de microorganismos, los parámetros fisicoquímicos (pH, conductividad eléctrica, oxígeno disuelto, potencial redox, sólidos disueltos totales y temperatura).\nb) Los monitoreos en la matriz de agua subterránea deben realizarse antes, durante (en una etapa intermedia) y después de la etapa de fracturamiento (durante la etapa de limpieza o flowback). \nc) Para las matrices de agua superficial, suelo y sedimento, los monitoreos deben hacerse finalizada la etapa de fracturamiento (durante la etapa de limpieza o flowback) y durante la etapa de dimensionamiento (en una etapa intermedia). \nd) Los monitoreos del agua de los intervalos a inyectar en la formación receptora deben realizarse una vez durante el completamiento del pozo inyector (previo a las pruebas de inyectividad) y los monitoreos del agua de inyección, después del periodo de limpieza o flowback (a la salida del sistema de tratamiento del agua de producción).  \ne) Los monitoreos deben realizarse en los mismos puntos definidos para la caracterización de la línea base. En agua subterránea se deben considerar adicionalmente, los piezómetros aledaños a los pozos de investigación, captación e inyección.\nf) Utilizar la misma metodología descrita en el Estudio de impacto ambiental y conforme a lo establecido en los Términos de Referencia para PPII. Adicionalmente, se deben considerar aspectos como: incluir réplicas de PCR (réplicas técnicas) y controles positivos y negativos de extracción, depositar las secuencias crudas en una base de datos de dominio público (National Center for Biotechnology Information-NCBI, European Nucleotide Archive-ENA, DNA Data Bank of Japan-DDBJ, etc), e indicar a esta Autoridad el respectivo número de acceso.\ng) Presentar en los Informes de Cumplimiento Ambiental- ICA, los resultados de los monitoreos y los análisis de los mismos, correlacionados con la información fisicoquímica, detallando los procedimientos realizados para la toma de muestras, extracción del ADN, secuenciación, depuración y procesamiento bioinformático de las secuencias obtenidas, agrupamiento de las secuencias por similitud y asignación taxonómica. Además de incluir todos los anexos generados durante el procesamiento de la información (archivos resultantes del análisis bioinformático, análisis estadísticos, gráficos y secuencias crudas). \nh) Documentar los resultados y la información de los muestreos haciendo uso del modelo de almacenamiento geográfico establecido en la Resolución 2182 de 2016 del MADS, o aquella norma que la modifique o sustituya, y/o el modelo de almacenamiento geográfico complementario para los PPII – YNC.","N/A","N/A","Aplica","N/A","N/A","Permanente"]
[152,"PLAN DE GESTIÓN DEL RIESGO","Actualización del Plan de Contingencia",null,"Presentar en los Informes de Cumplimiento Ambiental – ICA, la revisión y/o complemento del Plan de Contingencia siguiendo los lineamientos descritos en el Decreto 1081 del 2015 adicionado por el Decreto 2157 de 2017 en el Artículo 2.3.1.5.2.1.1, Numeral 3.1.2, Literal f y el Decreto 1076 de 2015 en el Artículo 2.2.2.3.5.1, Numeral 9 y el Artículo 2.2.2.3.9.3 o aquellos que los modifiquen o sustituyan y en caso de no presentarse un ajuste en el documento, indicar las razones por las cuales no se realiza:\n\na. Ante nuevas exigencias o cambios en la legislación nacional referente al plan de contingencia, en los plazos establecidos en las mismas.\nb. Cuando se introduzcan cambios en los procesos que aumenten la probabilidad de ocurrencia de una contingencia ambiental y/o consecuencia de la materialización del riesgo.  \nc. Ante cambios en las valoraciones de los escenarios de riesgo presentes en el proyecto.\nd. Ante la ocurrencia de una contingencia que evidencie la necesidad de ajuste del plan.\ne. Ante evidencias producto del proceso de seguimiento y control efectuado por la Autoridad Ambiental Competente.","N/A","Aplica","Aplica","Aplica","Aplica","Permanente"]
[153,"PLAN DE GESTIÓN DEL RIESGO","Reporte de eventos",null,"Reportar los eventos de contingencia a través de la plataforma VITAL diligenciando los Formatos Únicos de Contingencia, de conformidad con los tiempos establecidos en el artículo 2do de la Resolución 1767 de 2016 o aquellos que los modifiquen o sustituyan, ya sea para los eventos que se generen del proyecto hacia el medio o del medio hacia el proyecto. Teniendo en cuenta lo dispuesto en los campos del formato único de reporte de contingencia y de manera adicional, desarrollar las siguientes actividades:\n\na) Realizar el monitoreo de suelo, aguas superficiales o subterráneas teniendo en cuenta los Parámetros adicionales para caracterizar los fluidos de retorno y de agua de producción, Parámetros fisicoquímicos y biológicos a caracterizar en suelos de soporte de la infraestructura requerida, parámetros fisicoquímicos a monitorear para caracterizar los cuerpos de agua superficiales, Parámetros fisicoquímicos y microbiológicos a caracterizar en las fuentes de agua subterránea (incluyendo el monitoreo de microorganismos empleando la metodología de metabarcoding) y Elementos radiactivos de interés de origen natural por componente, que hacen parte de la caracterización de linea base ambiental, según aplique.\nb) Si existe una pérdida de integridad del pozo o potencial interconexión de pozos (sean abandonados, activos o inactivos) se deberán suspender las operaciones de manera inmediata y reportar las afectaciones generadas, así mismo adicional al reporte de contingencia, se deberá presentar un informe a la Autoridad Nacional de Licencias Ambientales -ANLA de las acciones correctivas ejecutadas para controlar y mitigar el riesgo materializado, en donde se incluya el tipo de actividad realizada y los resultados de los monitoreos de los Parámetros fisicoquímicos y microbiológicos a caracterizar en las fuentes de agua subterránea y Parámetros adicionales para caracterizar los fluidos de retorno y de agua de producción (en caso de involucrar fluido de retorno o agua de producción) definidos en la caracterización de linea base ambiental, según aplique.\nc) En caso de afectación a fuentes hídricas, se deberá registrar de manera continua parámetros de pH, Conductividad Eléctrica, Oxígeno disuelto y Temperatura. Los informes de laboratorio que se puedan realizar en Colombia se deben entregar máximo en los tres (3) meses siguientes a la toma de muestra, los que no en los cuatro (4) meses siguientes a la toma de muestra. Toda toma de muestra deberá estar acompañada de aforo líquido.\nd) Si el monitoreo operacional de suelos detecta la liberación acumulativa de sustancias, deben tomarse medidas de mitigación incluyendo, como mínimo, el control de la fuente incluso cuando la concentración de contaminantes esté por debajo de un estándar de calidad del suelo aplicable.","N/A","Aplica","Aplica","Aplica","Aplica","Temporal"]
[154,"PLAN DE GESTIÓN DEL RIESGO","Conocimiento del riesgo",null,"Retroalimentar y presentar los análisis de riesgos, incluyendo los cambios que puedan presentarse en el modelo Shale Oil Risk Based Corrective-Action (SO-RBCA) y demás asociados a la metodología implementada, de acuerdo con los resultados presentados posterior a la fase de dimensionamiento del yacimiento, a través de la actualización del proceso de conocimiento del riesgo, según aplique.","N/A","N/A","Aplica","N/A","N/A","Temporal"]
[155,"PLAN DE GESTIÓN DEL RIESGO","Soportes del monitoreo del riesgo ",null,"Realizar en cada fase el seguimiento de las siguientes variables, como parte de las actividades de monitoreo del riesgo:\n\nPerforación y completamiento: Análisis del monitoreo de los niveles de tanques de lodos donde se puedan evidenciar potenciales pérdidas de circulación e influjos para los pozos de desarrollo, inyector y captación, según aplique.\n\nFracturamiento hidraulico y dimensionamiento del yacimiento: Análisis del monitoreo de la variación de la presión en anulares que permita identificar conectividad en las formaciones subyacentes y suprayacentes con la formación objetivo.\n\nDesmantelamiento y abandono: Análisis del monitoreo en las condiciones del pozo definiendo método, variables y frecuencias, con el fin de identificar y prevenir posibles eventos de contingencia en superficie.\n\nLos soportes en la ejecución de dichas actividades deberán remitirse en los Informes de Cumplimiento Ambiental - ICA correspondientes.","N/A","N/A","Aplica","Aplica","Aplica","Permanente"]
[156,"PLAN DE GESTIÓN DEL RIESGO","Monitoreo del riesgo despues de eventos de contingencia",null,"Implementar las medidas de monitoreo asociado a las actividades de atención y seguimiento de los eventos de contingencia que sean necesarias, con el objeto de identificar cambios o afectaciones sobre los medios abiótico, biótico y socioeconómico. ","N/A","Aplica","Aplica","Aplica","Aplica","Temporal"]
[157,"PLAN DE GESTIÓN DEL RIESGO","Soportes de ejecución medidas de reducción del riesgo",null,"Presentar en los Informes de Cumplimiento Ambiental – ICA, los soportes de la ejecución de las actividades definidas para las intervenciones correctivas y prospectivas de las medidas de reducción del riesgo. En caso de no presentarse, remitir las razones de la no ejecución y soportarlo con evidencias correspondientes a través de informes, cronogramas, actas, registros fotográficos, entre otros. ","N/A","Aplica","Aplica","Aplica","N/A","Permanente"]
[158,"PLAN DE GESTIÓN DEL RIESGO","Capacitación, divulgaciones, socialización, simulaciones y simulacros ",null,"Presentar en los Informes de Cumplimiento Ambiental – ICA, los soportes de las capacitaciones dirigidas al personal del proyecto y las divulgaciones, socializaciones, simulaciones y simulacros sobre el plan de contingencia involucrando las entidades de los Consejos Municipales de Gestión de Riesgo de Desastres (CMGRD) y los Consejos Departamentales de Gestión de Riesgo de Desastres (CDGRD) y las comunidades del área de influencia, según corresponda. En caso de no presentarse algunos de los convocados, remitir las razones de la no ejecución y soportarlo con las evidencias correspondientes a través de oficios, informes, actas, registros fotográficos, entre otros.","N/A","Aplica","Aplica","N/A","N/A","Permanente"]
[159,"PLAN DE GESTIÓN DEL RIESGO","Conocimiento del riesgo",null,"Presentar el análisis de los escenarios de riesgo especificos identificados durante las actividades de desmantelamiento y abandono parcial o definitivo, incluyendo las medidas de reducción del riesgo específicas y la definición de los componentes de preparación y ejecución para la respuesta ante contingencias, según aplique.","N/A","N/A","N/A","N/A","Aplica","Temporal"]
[160,"PLAN DE GESTIÓN DEL RIESGO","Manejo de la Contingencia",null,"Presentar los soportes de la verificación del estado de los puntos de control en los Informes de Cumplimiento Ambiental (ICA), en donde se describa la siguiente información:\n\na) Nombre de los posibles escenarios de riesgos contemplados en el establecimiento del punto de control.\nb) Nombre de las sustancias involucradas\nc) Descripción y estado de las vias de acceso al punto de control\nd)  Ubicación y georreferenciación del punto de control (origen único nacional)\ne) Estimación de la cantidad de sustancia involucrada de acuerdo al volumen critico y recuperable en el punto de control.\nf) Inventario de recursos disponibles para la primera respuesta","N/A","Aplica","Aplica","Aplica","Aplica","Temporal"]
[161,"GESTIÓN SOCIAL","Información sobre las  competencias de las entidades con funciones de control y seguimiento del proyecto",null,"\nEl titular de la Licencia Ambiental comunicará a través de canales idóneos a las autoridades municipales, comunidades y demás grupos de interés presentes en el área de Influencia, una vez sea notificada la presente resolución: i) los datos del proyecto, obra  o actividad incluyendo el número de contrato, acto administrativo que otorga licencia para el desarrollo del proyecto especificando las actividades que autoriza, datos de contacto; ii) las entidades ​que ejercen funciones de control y seguimiento sobre el proyecto, obra o actividad y sus competencias, tanto en temas ambientales como como administrativos. Las evidencias del cumplimiento de esta obligación se presentarán en el primer Informe de Cumplimiento Ambiental ICA. Lo anterior en el marco de los mecanismos establecidos por el Decreto 328 del 2020 y la Resolución 904 de 2020, o la norma que lo modifique o sustituya, en cuanto a la Transparencia y Participación Ciudadana.\n","Aplica","N/A","N/A","N/A","N/A","Temporal"]
[162,"GESTIÓN SOCIAL","Informar a contratistas y personal del proyecto sobre las obligaciones, prohibiciones y medidas de control de la Resolución que otorga Licencia Ambiental para el proyecto.",null,"Previo al inicio de actividades y de manera permanente, informar a todos sus contratistas y a todo el personal del proyecto sobre las obligaciones, prohibiciones y medidas de control de la presente resolución, el Estudio de Impacto Ambiental, el Plan de Manejo Ambiental y la normativa vigente, y exigir el estricto cumplimiento de las mismas. Presentar en los Informes de Cumplimiento Ambiental - ICA, los soportes que evidencien las actividades de información adelantadas, en los que deberá quedar explícito el contenido de las actividades de información al personal del proyecto, y demás soportes correspondientes. Lo anterior sin perjuicio a lo establecido en la medidas de manejo ambiental del PMA aprobado.","N/A","Aplica","Aplica","N/A","Aplica","Permanente"]
[163,"GESTIÓN SOCIAL","Centro de transparencia",null,"Divulgar la información relacionada con el cumplimiento de las obligaciones ambientales establecidas en la presente resolución a través del Centro de Transparencia sobre el desarrollo de los Proyectos Piloto de Investigación Integral -PPII de acuerdo con lo establecido en el Decreto 0328 del 2020 del MinMinas, o la norma que lo modifique o sustituya. La información divulgada a través de este medio deberá ser de fácil acceso y estar disponible al público en general. Esta información deberá ser entregada al Centro de Transparencia con la periodicidad de cada informe de cumplimiento ambiental ICA.","N/A","Aplica","Aplica","N/A","Aplica","Permanente"]
[164,"GESTIÓN SOCIAL","Dar a conocer la presente resolución y las obras y/o actividades que en ella se autorizan a las autoridades municipales, comunidades y demás grupos de interés presentes  en el área de influencia del proyecto",null,"Previo al inicio de cada una de las fases operativas del proyecto el titular de la licencia ambiental deberá realizar reuniones con cada una de las comunidades del área de influencia del proyecto, con el fin de dar a conocer la presente resolución, las obras que en ella se autorizan, los principales impactos, medidas de manejo, medidas de seguimiento y monitoreo, las redes de monitoreo de los diferentes recursos naturales dispuestas para el PPII (en donde se explique claramente la ubicación geográfica, tipo de red, alcance, funcionamiento, toma de datos, obtención de resultados y análisis, sistemas de alertamiento ante resultados, etc.) y resolver las dudas que se puedan presentar al respecto; de igual manera, se deberán realizar reuniones en los casos de autoridades locales y dignatarios de las JAC que asuman funciones en razón de períodos de cambio de administración. Las convocatorias a estas reuniones se deberán efectuar con suficiente antelación y realizarse de manera pública. Se deberá presentar a esta Autoridad mediante los respectivos Informes de Cumplimiento Ambiental - ICA, las constancias de recibido de las convocatorias y las copias de los soportes de estas reuniones en las que se evidencie el proceso, incluyendo listados de asistencia, temáticas desarrolladas, registro fílmico y/o fotográfico, entre otros.","Aplica","Aplica","Aplica","N/A","Aplica","Permanente"]
[165,"GESTIÓN SOCIAL","Informar a comunidades y autoridades sobre canales de recepción de PQRS",null,"Previo al inicio de las actividades del proyecto, el titular de la presente licencia ambiental deberá informar a las comunidades y autoridades del área de influencia del proyecto, los canales de recepción de PQRS. De lo anterior se deberán entregar los respectivos soportes en el primer Informe de Cumplimiento Ambiental - ICA.","N/A","Aplica","Aplica","N/A","Aplica","Permanente"]
[166,"GESTIÓN SOCIAL","Informe de reporte de quejas e inquietudes presentadas",null,"El titular de la presente licencia ambiental contará con un formato de recepción de PQRS y elaborará un informe donde se reporten las quejas e inquietudes presentadas, especificando: municipio, vereda, nombre o comunidad que la interpone, datos de contacto del peticionario, descripción del caso, a qué tipo de actividad está asociada respecto a la Licencia Ambiental, tipo de queja y zona(s) donde se concentra el mayor número de casos. Además, se georreferenciará el sitio o lugar en donde se reporta la PQRS. Presentar en los Informes de Cumplimiento Ambiental - ICA, este informe en formato de excel, o que sea compatible con Sistemas de Información Geográfica, así como los soportes que evidencien el registro, atención y seguimiento del caso.","N/A","Aplica","Aplica","N/A","Aplica","Permanente"]
[167,"VALORACIÓN ECONÓMICA","Análisis de internalización de los impactos ambientales",null,"Presentar en cada ICA el seguimiento al análisis de internalización de los impactos ambientales reportando el estado de avance en los indicadores (eficiencia y eficacia) y la medida de manejo propuesta para dicho análisis.","Aplica","Aplica","Aplica","Aplica","Aplica","Permanente"]
[168,"OBLIGACIONES GENERALES ","Estrategia de recepción de información de los resultados de los monitoreos del uso y aprovechamiento de los recursos naturales de los PPII - Centro de Monitoreo ",null,"Para el desarrollo de los Proyectos Piloto de Investigación Integral – PPII, se deberá reportar la información del resultado de los monitoreos del uso y aprovechamiento de los recursos naturales, de conformidad con las condiciones que se describen:\n\n1. La información geográfica y alfanumérica, cuya frecuencia de presentación y/o entrega se haya definido en el respectivo acto administrativo con una temporalidad superior a la diaria (semanal, quincenal, mensual, bimensual, semestral, etc.), deberá ser radicada a través del aplicativo web denominado ÁGIL, el cual permitirá el almacenamiento directo en la Base de Datos Corporativa de acuerdo con el modelo de almacenamiento de datos geográficos establecido en la Resolución 2182 del 2016 de Minambiente y en la Circular 002 del 2021 de ANLA. \n2. La información del resultado de los monitoreos, sobre el uso y aprovechamiento de recursos naturales, cuya frecuencia de presentación y/o entrega se haya definido en el respectivo acto administrativo con una temporalidad igual o menor a la diaria (diaria, horaria o minutal), deberá radicarse diariamente de forma consolidada a través de las plantillas de textos plano tipo .txt o .csv (disponibles en la página web de la entidad) por medio del correo electrónico licencias@anla.gov.co con copia a centromonitoreo@anla.gov.co, indicando el asunto del correo, conforme con la siguiente tabla:\n\n(Ver tabla en pestaña 3. Asuntos de radicación_Oblig. 159)\n\n3. La información que requiera la transmisión continua de datos, cuya frecuencia esté definida en el respectivo acto administrativo en tiempo real o cuasi real, se reportará a través de VPN Site to Site, API REST, o según sea definido conforme con los lineamientos de la Oficina de Tecnologías de la Información - OTI de la Entidad y las posibilidades tecnológicas del titular de la Licencia Ambiental. \n\nPARÁGRAFO: La demás información generada por los proyectos deberá entregarse a través del instrumento de seguimiento ambiental habitual (Informe de Cumplimiento Ambiental - ICA) y el mecanismo de recepción disponible (Ventanilla Integral de Trámites Ambientales en Línea - VITAL). ","N/A","Aplica","Aplica","Aplica","Aplica","Permanente"]
[169,"OBLIGACIONES GENERALES ","Codificación asociada a permisos y obligaciones\n\nNota: El profesional que se encuentre evaluando o haciendo seguimiento al proyecto, deberá solicitar la codificación de permisos y obligaciones al centro de monitoreo a través de correo electrónico centromonitoreo@anla.gov.co una vez definidos los permisos y obligaciones de monitoreo y planes a solicitar en el marco del acto administrativo.",null,"Utilizar la codificación de la ANLA (campo \"ID ANLA\") asignada a los permisos de uso y aprovechamiento de recursos naturales y a las obligaciones impuestas en el presente acto administrativo para la presentación de la información asociada al seguimiento del proyecto.","N/A","Aplica","Aplica","Aplica","Aplica","Permanente"]
[170,"OBLIGACIONES GENERALES ","Monitoreos en etapa de evaluación",null,"El titular de la presente licencia ambiental será responsable durante la etapa de evaluación de acuerdo con el Decreto 328 del 2020 del Ministerio de Minas y Energía de continuar monitoreando las condiciones ambientales asociadas a aguas subterráneas, aguas superficiales, biodiversidad, sismicidad, suelos y materiales radiactivos de origen natural y reportarlas a través los Informes de Cumplimiento Ambiental - ICA en el marco del seguimiento que realiza esta Autoridad.","N/A","N/A","N/A","Aplica","N/A","Temporal"]
[171,"OBLIGACIONES GENERALES ","Informar sobre la conformación del Departamento de Gestión Ambiental",null,"Presentar en el primer Informe de Cumplimiento Ambiental - ICA copia del documento donde conste la conformación del Departamento de Gestión Ambiental, que incluya funciones y responsabilidades asignadas, en cumplimiento al artículo 2.2.8.11.1.7. del Decreto 1076 de 2015, o aquella que la modifique o sustituya.","N/A","Aplica","N/A","N/A","N/A","Temporal"]
[172,"OBLIGACIONES GENERALES ","Responsabilidad frente al deterioro y/o daño ambiental",null,"El titular de la presente licencia ambiental, será responsable por cualquier deterioro y/o daño ambiental causado por él o por los contratistas a su cargo, que se genere en desarrollo de las actividades autorizadas, frente a las cuales deberá realizar las acciones necesarias para corregir los efectos causados.","N/A","Aplica","Aplica","Aplica","Aplica","Permanente"]
[173,"OBLIGACIONES GENERALES ","Actividades amparadas en la licencia ambiental",null,"La licencia ambiental que se otorga mediante la presente resolución no ampara ningún tipo de actividad diferente a las descritas en el presente acto administrativo.","N/A","Aplica","Aplica","Aplica","Aplica","Permanente"]
[174,"OBLIGACIONES GENERALES ","Modificación de la Licencia Ambiental, cuando se configure alguna de las causales mencionadas en el Decreto 1076 de 2015.",null,"Previo a la ejecución de actividades que configuren alguna de las causales de modificación de la Licencia Ambiental mencionadas en el Artículo 2.2.2.3.7.1. del Decreto 1076 de 2015, o aquellas normas que lo modifiquen, deroguen o sustituyan, el titular de la presente Licencia Ambiental solicitará a la ANLA la modificación de licencia.","N/A","Aplica","Aplica","N/A","Aplica","Permanente"]
[175,"OBLIGACIONES GENERALES ","Cambios menores ",null,"El titular de la licencia solicitará por escrito pronunciamiento de esta autoridad, sobre la viabilidad de si alguna de las obras o actividades desarrolladas en el PPII puede ser considerada como cambio menor de acuerdo con lo establecido en el parágrafo 1 del artículo 2.2.2.3.7.1. del Decreto 1076 del 2015, o la norma que lo modifique o sustituya, concepto que se remitirá con destino al expediente.","N/A","Aplica","Aplica","N/A","Aplica","Permanente"]
[176,"OBLIGACIONES GENERALES ","Retirar y/o disponer todas las evidencias de los elementos y materiales sobrantes, en todas las áreas intervenidas por el proyecto",null,"Una vez finalizados los trabajos propios de cada obra o actividad parcial, el titular de la presente licencia ambiental retirará y/o dispondrá todas las evidencias de los elementos y materiales sobrantes, en todas las áreas intervenidas por el proyecto, de manera que no se generen impactos ambientales adicionales, se altere el paisaje ni se contribuya al deterioro ambiental.","N/A","Aplica","Aplica","N/A","Aplica","Permanente"]
[177,"OBLIGACIONES GENERALES ","Uso de fibras naturales",null,"Siempre que sea técnicamente viable, hacer uso de fibras naturales para las actividades establecidas en la Resolución 1083 de 1996, o aquella que la modifique o sustituya. Cuando se haga uso de las mismas, presentar dentro de los Informes de Cumplimiento Ambiental - ICA, como mínimo lo siguiente: \n\na) La localización de la actividad, obra o proyecto en la que se hizo uso de las fibras.\nb) La fibra natural utilizada, el tipo de actividad en la que fue usada y la cantidad utilizada en Kg.\nc) Cuando no sea técnicamente viable el uso de fibras para las actividades especificadas, incluir la justificación.\nd) Indicar el estado de integridad física y de funcionamiento de las obras con este tipo de fibras.","N/A","Aplica","Aplica","N/A","Aplica","Permanente"]
[178,"OBLIGACIONES GENERALES ","Informar a la ANLA y a las demás Autoridades Ambientales competentes la fecha de iniciación de actividades",null,"Dentro de los diez (10) días calendario previos al inicio de cada una de las fases del proyecto (construcción, operación y mantenimiento y desmantelamiento y abandono) y la actividad de fracturamiento hidráulico, el titular de la presente licencia ambiental informará a la ANLA, mediante oficio dirigido a la Subdirección de Seguimiento de Licencias Ambientales, y a las demás Autoridades Ambientales regionales y locales en la jurisdicción del proyecto, la fecha de inicio de actividades. En caso de que no se pueda dar inicio al proyecto en la fecha previamente informada, se notificará inmediatamente a esta Autoridad la justificación, así como la nueva fecha de inicio. Enviar a la ANLA copia de los oficios radicados ante las demás autoridades ambientales competentes.","N/A","Aplica","Aplica","N/A","Aplica","Permanente"]
[179,"OBLIGACIONES GENERALES ","Informar a las comunidades sobre realización de monitoreos",null,"Informar a las comunidades y autoridades ambientales regionales y locales del área de influencia del proyecto la fecha de realización de los monitoreos de los recursos naturales programados para el PPII, con el fin de que realicen el acompañamiento en la ejecución de los mismos. Presentar en los respectivos Informes de Cumplimiento Ambiental - ICA los soportes de la estrategia de comunicación / invitación implementada, así como los soportes del acompañamiento de estos actores.","N/A","Aplica","Aplica","Aplica","Aplica","Permanente"]
[180,"OBLIGACIONES GENERALES ","Publicación de los resultados de los monitoreos",null,"Mantener actualizada en una base de datos publicada en el sitio web de la empresa las mediciones en tiempo real, los resultados reportados por los laboratorios, y los respectivo análisis de los recursos naturales conforme se vayan obteniendo, en cumplimiento del principio de transparencia. La información divulgada a través de este medio deberá ser de fácil acceso y estar disponible al público en general.","N/A","Aplica","Aplica","Aplica","Aplica","Permanente"]
[181,"OBLIGACIONES GENERALES ","Presentación de ICA's",null,"El titular de la presente licencia ambiental presentará los Informes de Cumplimiento Ambiental - ICA cada dos meses de acuerdo con lo establecido en los Términos de Referencia de los PPII, expedidos por la Resolución 821 de 2020 del Minambiente.","N/A","Aplica","Aplica","Aplica","Aplica","Permanente"]
[182,"OBLIGACIONES GENERALES ","Presencia de comunidades étnicas durante la ejecución del proyecto, obra o actividad, distintas a las identificadas y consultadas para el proceso de licenciamiento ambiental.",null,"Será responsabilidad del titular de la Licencia Ambiental, informar a la Dirección de la Autoridad Nacional de Consulta Previa del Ministerio del Interior, cuando, durante la ejecución del proyecto, obra o actividad,  identifique la presencia de comunidades étnicas en el área del proyecto, distintas a las identificadas y consultadas para el proceso de licenciamiento ambiental. ","N/A","Aplica","Aplica","Aplica","Aplica","Permanente"]
[183,"REQUISITOS DEL ACTO ADMINISTRATIVO","Plan de Manejo Arqueológico.",null,"La Licencia Ambiental se otorga sin perjuicio del cumplimiento a las disposiciones previstas en el Decreto 138 del 06 de febrero de 2019, o la norma que lo modifique o sustituya en lo relacionado al patrimonio arqueológico. \n\nLa Licencia Ambiental se otorga sin perjuicio del cumplimiento a las disposiciones previstas en la Ley 397 de 1997, Ley 1185 de 2008, Decreto 833 de 2002 y Decreto 763 de 2009, o las normas que los modifiquen o sustituyan, en lo relacionado con la protección del patrimonio arqueológico. "," -"," -"," -"," -"," -"," -"]
[184,"REQUISITOS DEL ACTO ADMINISTRATIVO","Patrimonio arqueológico\n\nNota: El presente texto debe ser usado a manera de parágrafo del articulo en el que se otorga la licencia o en el que se autoriza la realización de un proyecto (obras, infraestructura y/o actividades)",null,"Parágrafo: La Licencia Ambiental no autoriza la intervención de áreas arqueológicas protegidas, de sitios arqueológicos u otras categorías establecidas en la normatividad que protege el patrimonio cultural de la Nación."," -"," -"," -"," -"," -"," -"]
[185,"REQUISITOS DEL ACTO ADMINISTRATIVO","ANLA supervisará la ejecución de las obras y podrá verificar en cualquier momento el cumplimiento de lo dispuesto en la presente Resolución",null,"La Autoridad Nacional de Licencias Ambientales hará control y seguimiento ambiental a la ejecución de las obras en cada una de las locaciones y podrá verificar en tiempo real y permanente el cumplimiento de lo dispuesto en la presente Resolución, el Estudio de Impacto Ambiental y el Plan de Manejo Ambiental. Cualquier incumplimiento de los mismos podrá dar lugar a la aplicación de las medidas legales correspondientes."," -"," -"," -"," -"," -"," -"]
[186,"REQUISITOS DEL ACTO ADMINISTRATIVO","La Licencia Ambiental no confiere derechos reales sobre los predios a ser afectados.\n\nNota: El presente texto debe ser usado a manera de parágrafo del articulo en el que se otorga la licencia.",null,"Parágrafo: La Licencia Ambiental que se otorga, no confiere derechos reales sobre los bienes inmuebles que puedan llegarse a intervenir o afectar en la ejecución del proyecto, obra o actividad, por lo que los acuerdos contractuales que se adelanten con respecto de los mismos, deberán ser acordados con los titulares de los derechos reales y/o los terceros que pretendan derechos sobre los mismos en los casos que corresponda, lo anterior, sin perjuicio a lo dispuesto por la Ley 1448 de 2011 o aquella norma que la modifique o sustituya, en lo relacionado con restitución de tierras."," -"," -"," -"," -"," -"," -"]
[187,"REQUISITOS DEL ACTO ADMINISTRATIVO","Notificar el contenido de la presente Resolución al Representante Legal",null,"Por la Autoridad Nacional de Licencias Ambientales - ANLA, notificar personalmente o por aviso, cuando a ello hubiere lugar, el contenido del presente acto administrativo al representante legal, apoderado debidamente constituido y/o a la persona debidamente autorizada por la sociedad XXXXX, identificada con NIT. XXX.XXX.XXX-0, de conformidad con los artículos 67 y siguientes del Código de Procedimiento Administrativo y de lo Contencioso Administrativo."," -"," -"," -"," -"," -"," -"]
[188,"REQUISITOS DEL ACTO ADMINISTRATIVO","Notificar el contenido de la presente Resolución a terceros intervinientes que lo hayan solicitado expresamente",null,"Por la Autoridad Nacional de Licencias Ambientales - ANLA, notificar personalmente o por aviso, el contenido del presente acto administrativo al representante legal, apoderado debidamente constituido y/o a la persona debidamente autorizada por el (los) señor(es): XXXXXX, reconocido(s) como tercer(os) interviniente(s) dentro de la presente actuación, de conformidad con el artículo 71 de la Ley 99 de 1993 y los artículos 67 y siguientes del Código de Procedimiento Administrativo y de lo Contencioso Administrativo."," -"," -"," -"," -"," -"," -"]
[189,"REQUISITOS DEL ACTO ADMINISTRATIVO","Comunicar el contenido de la presente Resolución a terceros intervinientes que no hayan solicitado expresamente ser notificados",null,"Por la Autoridad Nacional de Licencias Ambientales - ANLA, comunicar el contenido del presente acto administrativo al representante legal, apoderado debidamente constituido y/o a la persona debidamente autorizada por el (los) señor(es): XXXXXX, reconocido(s) como tercer(os) interviniente(s) dentro de la presente actuación, de conformidad con el artículo 71 de la Ley 99 de 1993."," -"," -"," -"," -"," -"," -"]
[190,"REQUISITOS DEL ACTO ADMINISTRATIVO","Remitir copia de la presente resolución a autoridades y/o entidades que deban ser informadas.",null,"Por la Autoridad Nacional de Licencias Ambientales - ANLA, comunicar el contenido del presente acto administrativo a [Espacio para listar entidades que deban recibir copia de la presente resolución tales como: alcaldías municipales, autoridades ambientales de orden regional y/o local, gobernaciones, procuradurías delegadas para asuntos ambientales, personerías municipales, Centro de Transparencia del que trata el Decreto 328 de 2020, entre otros]. "," -"," -"," -"," -"," -"," -"]
[191,"REQUISITOS DEL ACTO ADMINISTRATIVO","Disponer copia del acto administrativo que otorga licencia en el micrositio de la entidad",null,"Por la Autoridad Nacional de Licencias Ambientales - ANLA, disponer una copia del presente acto administrativo en el micrositio de esta autoridad destinado para los Proyectos Piloto de Investigación Integral de Yacimientos no Convencionales. "," -"," -"," -"," -"," -"," -"]
[192,"REQUISITOS DEL ACTO ADMINISTRATIVO","Publicar  la presente Resolución en la Gaceta Ambiental ",null,"Por la Autoridad Nacional de Licencias Ambientales - ANLA publicar  la presente Resolución en la Gaceta Ambiental de esta Entidad, de conformidad con el artículo 71 de la Ley 99 de 1993."," -"," -"," -"," -"," -"," -"]
[193,"REQUISITOS DEL ACTO ADMINISTRATIVO","Contra la presente Resolución procede el recurso de reposición",null,"Contra la presente Resolución procede el recurso de reposición, de conformidad con lo señalado en los artículos 74 y siguientes del Código de Procedimiento Administrativo y Contencioso Administrativo o la norma que lo modifique o sustituya, dentro de los diez (10) días siguientes a la notificación personal,  o a la notificación por aviso, o al vencimiento del término de publicación, según sea el caso."," -"," -"," -"," -"," -"," -"]
[194,"REQUISITOS DEL ACTO ADMINISTRATIVO","Vigencia de la licencia ambiental",null,"La presente Licencia Ambiental, se otorga por el tiempo de duración del PPII, en concordancia con las etapas establecidas en el Decreto 328 del 2020 del Ministerio de Minas y Energía."," -"," -"," -"," -"," -"," -"]
[195,"REQUISITOS DEL ACTO ADMINISTRATIVO","Pérdida de vigencia de la licencia ambiental",null,"La ANLA podrá mediante resolución motivada declarar la pérdida de vigencia de la presente Licencia Ambiental si, transcurrido cinco (5) años a partir su firmeza, no se ha iniciado las actividades objeto de la misma, para lo cual esta autoridad observará el procedimiento previsto en el artículo 2.2.2.3.8.7. del Decreto 1076 del 2015."," -"," -"," -"," -"," -"," -"]
[196,"REQUISITOS DEL ACTO ADMINISTRATIVO","Aplicación de la Ley 1333 del 2009",null,"El incumplimiento de las obligaciones contenidas en el presente acto administrativo y en las normas ambientales vigentes dará lugar a la imposición y ejecución de las medidas preventivas y sanciones que sean aplicables según el caso, de conformidad con lo establecido en la Ley 1333 del 21 de julio de 2009, o la que modifique o sustituya."," -"," -"," -"," -"," -"," -"]
[197,"REQUISITOS DEL ACTO ADMINISTRATIVO","Modificar los tiempos de cumplimiento de las obligaciones, sin que ello signifique una novación",null,"En el seguimiento, la Autoridad Nacional de Licencias Ambientales -ANLA- podrá  conceder, por solicitud justificada del titular, nuevos plazos para el cumplimiento de obligaciones, sin que esto implique modificación de la Licencia Ambiental. La modificación del plazo siempre deberá estar técnica y jurídicamente sustentada, previa coordinación ante el Grupo de Actuaciones Sancionatorias ambientales de la Oficina Asesora Jurídica o la dependencia que haga sus veces."," -"," -"," -"," -"," -"," -"]
[198,"REQUISITOS DEL ACTO ADMINISTRATIVO","Informar a la ANLA cuando la empresa y/o sociedad entre en proceso de disolución o régimen de insolvencia o liquidación",null,"En el evento en que el titular de la Licencia Ambiental entre en proceso de disolución o régimen de insolvencia o liquidación regulados por las normas vigentes, informará inmediatamente de esta situación a esta Autoridad, con fundamento, entre otros, en los artículos 8, 58, 79, 80, 81, 95 numeral 8 de la Constitución Política de 1991, en la Ley 43 de 1990, en la Ley 222 de 1995, en la Ley 1333 de 2009 y demás normas vigentes y la jurisprudencia aplicable. Adicionalmente, la sociedad deberá aprovisionar contablemente las obligaciones contingentes que se deriven de la existencia de un procedimiento ambiental sancionatorio conforme con el artículo 40 de la Ley 1333 de 2009 o la norma que la adicione, modifique o derogue."," -"," -"," -"," -"," -"," -"]

{"sheet":"OBLIGACIONES APLICABLES","index":2,"n_rows":201,"n_cols":9,"rows_kept":201,"cut":false,"hidden":false,"merged":[[0,1,0,8],[1,0,2,0],[1,1,2,1],[1,2,2,2],[1,3,1,5],[1,6,2,6],[1,7,2,7],[1,8,2,8]]}
[null,"OBLIGACIONES MÍNIMAS APLICABLES AL PROYECTO, OBRA O ACTIVIDAD EN EVALUACIÓN / SEGUIMIENTO\nNota: Usar el texto de esta hoja para construir el concepto técnico y acto administrativo (Copiar y pegar en cada documento a construir)"]
["Aplica (si / no)","TEMÁTICA","OBLIGACIÓN ESTANDARIZADA","Etapa concomitante",null,null,"Etapa de evaluación","Desmantelamiento, abandono y restauración","Temporalidad"]
[null,null,null,"Pre-construcción","Construcción","Perforación, completamiento, fracturamiento hidráulico, dimensionamiento del yacimiento"]
[{"$f":"PPII_YNC!D9","v":0},{"$f":"PPII_YNC!B9","v":"AIRE"},{"$f":"PPII_YNC!E9","v":"Realizar monitoreo de las emisiones atmosféricas generadas en las fuentes puntuales del proyecto de conformidad con lo establecido en el Protocolo  de Control y Vigilancia de la Contaminación Atmosférica Generada por Fuentes Fijas (adoptado por la Resolución 760 de 2010 del MAVDT, ajustado por la Resolución 2153 de 2010, Resolución 591 de 2012, Resolución 1632 de 2012 y Resolución 1807 de 2012, o la norma que la modifique o sustituya), dando cumplimiento a las siguientes condiciones:\n\na) Para determinar la frecuencia de los monitoreos de emisiones atmosféricas asociadas a fuentes puntuales, realizar un monitoreo al inicio de la operación y dar cumplimiento a lo establecido en el numeral 3.2 y en la tabla No. 9 del Protocolo para el Control y Vigilancia de la Contaminación Atmosférica Generada por Fuentes Fijas. Presentar los resultados del monitoreo inicial, las frecuencias establecidas con su respectiva justificación (determinación de las UCA) y el cumplimiento de altura mínima de descarga de las fuentes autorizadas según el Protocolo en el primer Informe de Cumplimiento Ambiental - ICA. \nb) Medir en cada monitoreo de acuerdo con la actividad industrial realizada, los contaminantes establecidos en la Tabla 2 del Protocolo  de Control y Vigilancia de la Contaminación Atmosférica Generada por Fuentes Fijas, de acuerdo con las actividades desarrolladas por el proyecto en cada una de sus etapas.\nc) Las fuentes de emisión contarán con un sistema de extracción localizada, chimenea, plataforma y puertos de muestreo que permitan realizar la medición directa y demostrar el cumplimiento normativo. La plataforma, diámetro y localización de los puertos de muestreo, se construirán de acuerdo a los métodos y procedimientos adoptados en el Protocolo para el Control y Vigilancia de la Contaminación Atmosférica generada por fuentes fijas última versión.\nd) Entregar en los respectivos Informes de Cumplimiento Ambiental - ICA el informe de los resultados y análisis de las mediciones de emisiones (asociadas a fuentes fijas puntuales), cumpliendo con lo establecido en el numeral 2.2 del Protocolo en mención y empleando los formatos establecidos en el Anexo 2, 3 y 4 del mismo. En dicho informe se compararán las mediciones con los estándares establecidos en la Resolución 909 de 2008, o aquellas que la modifiquen o sustituyan, para los contaminantes de la Tabla 2 según el Protocolo. De sobrepasar los límites de emisión para cada contaminante, el titular de la licencia presentará, las medidas de manejo pertinentes, necesarias para garantizar el cumplimiento de los estándares, las cuales serán informadas en los Informes de Cumplimiento Ambiental - ICA."},{"$f":"PPII_YNC!F9","v":"N/A"},{"$f":"PPII_YNC!G9","v":"N/A"},{"$f":"PPII_YNC!H9","v":"Aplica"},{"$f":"PPII_YNC!I9","v":"N/A"},{"$f":"PPII_YNC!J9","v":"N/A"},{"$f":"PPII_YNC!K9","v":"Permanente"}]
[{"$f":"PPII_YNC!D10","v":0},{"$f":"PPII_YNC!B10","v":"AIRE"},{"$f":"PPII_YNC!E10","v":"Realizar el mantenimiento preventivo y correctivo de los sistemas de control de las fuentes de emisión, de conformidad con lo establecido en el  Protocolo  para el Control y Vigilancia de la Contaminación Atmosférica Generada por Fuentes Fijas (adoptado por la Resolución 760 de 2010 del MAVDT, ajustado por la Resolución 2153 de 2010, Resolución 591 de 2012, Resolución 1632 de 2012 y Resolución 1807 de 2012, o la norma que la modifique o sustituya) y presentar en los Informes de Cumplimiento Ambiental - ICA las evidencias de su implementación, así como la ficha técnica del fabricante, y la eficiencia de control relacionando el respectivo equipo contaminante."},{"$f":"PPII_YNC!F10","v":"N/A"},{"$f":"PPII_YNC!G10","v":"N/A"},{"$f":"PPII_YNC!H10","v":"Aplica"},{"$f":"PPII_YNC!I10","v":"N/A"},{"$f":"PPII_YNC!J10","v":"N/A"},{"$f":"PPII_YNC!K10","v":"Permanente"}]
[{"$f":"PPII_YNC!D11","v":0},{"$f":"PPII_YNC!B11","v":"AIRE"},{"$f":"PPII_YNC!E11","v":"Actualizar el inventario de emisiones atmosféricas generadas por el proyecto como mínimo una vez al año o cada vez que se presenten cambios en los procesos y/o actividades que generan emisiones (por ejemplo, introducción de nuevas fuentes), teniendo en cuenta lo siguiente:\n\na) Para las fuentes fijas puntuales que cuenten con las condiciones técnicas de medición, realizar la estimación de emisiones a partir de medición directa, dando cumplimiento a los criterios establecidos en el Protocolo para el Control y Vigilancia de la Contaminación Atmosférica Generada por Fuentes Fijas (adoptado por la Resolución 760 de 2010 del MAVDT, ajustado por la Resolución 2153 de 2010, Resolución 591 de 2012, Resolución 1632 de 2012 y Resolución 1807 de 2012, o la norma que la modifique o sustituya).\nb) Para fuentes fijas puntuales a las que no les aplique la medición directa por aspectos técnicos o de seguridad, y fuentes dispersas de área, aplicar métodos alternativos como factores de emisión y balance de masas, teniendo en cuenta las metodologías para el uso de factores de emisión desarrolladas por entidades oficiales, centros de investigación o academia (AP-42 Agencia de Protección Ambiental de los Estados Unidos US-EPA, National Pollutant Inventory - NPI, entre otras), las cuales están referenciadas en la Guía para la Elaboración de Inventarios de Emisiones Atmosféricas del MADS.\nc) Para fuentes móviles se podrán utilizar modelos de emisión de fuentes móviles (ej. IVE, MOBILE, MOVES y/o COPERT) combinados con variables locales (distancias viajadas por la flota, velocidades, etc.), o factores de emisión usados internacionalmente (EPA y Unión Europea). El aforo vehicular a realizar tiene como propósito la identificación de las fuentes móviles que transitan por las vías del proyecto o que se encuentran en el área de influencia. El levantamiento de información de la flota vehicular como mínimo deber ser de (ocho (8) horas / veinticuatro (24) horas continuas por día, en día hábil y festivo. Seleccionar de acuerdo con los horarios de construcción y operación aplicable al POA). Se deberá realizar la identificación y características del punto de aforo y la clasificación de los vehículos por peso y tipo de combustible. Se deberá presentar un informe con los resultados del inventario de fuentes y emisiones, y se deberá anexar las memorias de cálculos con la estimación de emisiones de los contaminantes considerados, los cálculos y suposiciones realizados.\nd) Presentar el inventario con y sin las eficiencias de las medidas de control en el cálculo de las emisiones. Para cada contaminante se deberá justificar las eficiencias de control con las respectivas evidencias documentales.\ne) Reportar la actualización en los respectivos Informes de Cumplimiento Ambiental - ICA, el cual contendrá como mínimo: Metodología empleada; Información georreferenciada de las fuentes; Tipo de fuente; Tipo combustible empleado; Consumo de combustible por cada fuente (nominal en base horaria y total acumulado anual); Tiempos de operación (horas/año); Sistemas de control de emisiones (discriminando sistema y tipo de contaminante); Porcentaje de eficiencia de los sistemas; Emisiones desagregadas  por actividad; Para fuentes fijas puntuales se requieren los datos de altura y diámetro de las chimeneas;  Identificar y presentar un análisis de las fuentes de emisiones atmosféricas del proyecto que se asocian con los contaminantes monitoreados a nivel de inmisión, especialmente para los contaminantes no criterio que puedan emitirse en las etapas de su desarrollo, con base información cuantitativa y cualitativa generada para el componente atmosférico, y otros medios y componentes; y fuentes de información utilizada.\nf) Anexar los archivos del inventario de fuentes diferenciando claramente la metodología y los cálculos (formatos accesibles .xls no protegidos), de las fuentes de contaminantes criterio y/o tóxicos (fijas puntuales y dispersas o difusas) con las consideraciones sobre la estimación."},{"$f":"PPII_YNC!F11","v":"N/A"},{"$f":"PPII_YNC!G11","v":"Aplica"},{"$f":"PPII_YNC!H11","v":"Aplica"},{"$f":"PPII_YNC!I11","v":"N/A"},{"$f":"PPII_YNC!J11","v":"N/A"},{"$f":"PPII_YNC!K11","v":"Permanente"}]
[{"$f":"PPII_YNC!D12","v":0},{"$f":"PPII_YNC!B12","v":"AIRE"},{"$f":"PPII_YNC!E12","v":"Para cada tanque de almacenamiento estacionario con emisiones COV igual o superiores a cinco (5) toneladas por año mantener los siguientes registros, los cuales deberán ser presentados en los respectivos Informes de Cumplimiento Ambiental - ICA:\n\na) Producción mensual de condensado o de crudo almacenado en el tanque.\nb) La fecha, hora y duración de cualquier periodo en donde el equipo de control de emisiones no esté en operación.\nc) La estimación de emisiones de COV, con los cálculos de eficiencia de remoción o reducción de contaminantes, de acuerdo a las condiciones establecidas para la presentación de la actualización del inventario de emisiones. Se resalta que el sistema de control debe lograr al menos el 90% de reducción de las emisiones de COV, de acuerdo con los términos de referencia para los PPII."},{"$f":"PPII_YNC!F12","v":"N/A"},{"$f":"PPII_YNC!G12","v":"N/A"},{"$f":"PPII_YNC!H12","v":"Aplica"},{"$f":"PPII_YNC!I12","v":"N/A"},{"$f":"PPII_YNC!J12","v":"N/A"},{"$f":"PPII_YNC!K12","v":"Permanente"}]
[{"$f":"PPII_YNC!D13","v":0},{"$f":"PPII_YNC!B13","v":"AIRE"},{"$f":"PPII_YNC!E13","v":"Para las teas, dar cumplimiento a las siguientes condiciones:\n\na) Presentar los soportes del cumplimiento de la Resolución 40066 del 11 de febrero de 2022 del Ministerio de Minas y Energía en relación con venteo y quema de gas en teas.\nb) Presentar en los respectivos Informes de Cumplimiento Ambiental - ICA la copia de la totalidad de autorizaciones otorgadas por la ANH para la quema del gas generado a través de los sistemas de alivio instalados en campo, donde se indique la vigencia y las condiciones de calidad y cantidad concedidas.\nc) Presentar en los Informes de Cumplimiento Ambiental - ICA por cada periodo reportado, el registro histórico y análisis comparativo correspondiente al volumen de gas enviado a las teas para su eliminación, bajo las condiciones y vigencias autorizadas, así como los registros de eficiencia de combustión con la cuantificación y caracterización de combustible quemado, para garantizar el 98% de combustión según los términos de referencia de los PPII. \nd) Presentar las acciones ejecutadas en torno al control de emisiones, temperatura y radiación lumínica en los respectivos Informes de Cumplimiento Ambiental - ICA. \ne) En caso de recibir quejas por parte de la comunidad, realizar monitoreos de radiación térmica y lumínica sobre receptores sensibles que puedan ser afectados por el uso de las teas. Presentar en los Informes de Cumplimiento Ambiental - ICA el análisis de los resultados, así como la indicación y justificación de los estándares o normas técnicas de referencia seleccionadas para los monitoreos."},{"$f":"PPII_YNC!F13","v":"N/A"},{"$f":"PPII_YNC!G13","v":"N/A"},{"$f":"PPII_YNC!H13","v":"Aplica"},{"$f":"PPII_YNC!I13","v":"N/A"},{"$f":"PPII_YNC!J13","v":"N/A"},{"$f":"PPII_YNC!K13","v":"Permanente"}]
[{"$f":"PPII_YNC!D14","v":0},{"$f":"PPII_YNC!B14","v":"AIRE"},{"$f":"PPII_YNC!E14","v":"Modelar la dispersión de contaminantes atmosféricos, al menos una vez al año o cada vez que se presenten cambios en los procesos y/o actividades que generan emisiones (por ejemplo, introducción de nuevas fuentes), en tanto el Ministerio de Ambiente y Desarrollo Sostenible adopte el Protocolo de Modelización de Contaminantes Atmosféricos, se deberán realizar bajo las siguientes condiciones:\n\na) Emplear un sistema de modelación actualizado avalado por la EPA que represente adecuadamente las condiciones de dispersión en el área de influencia del proyecto.\nb) Considerar las configuraciones recomendadas por el ente desarrollador para el sistema de modelación utilizado. \nc) Modelar como mínimo PM10, PM2,5 (relacionar demás contaminantes de interés según las fuentes de emisión del proyecto), de acuerdo con el Protocolo para el Monitoreo y Seguimiento de la Calidad del Aire del MAVDT del 2010 (adoptado por la Resolución 650 de 2010, y ajustado por la Resolución 2154 de 2010), Resolución 2254 del 2017 del MADS o aquella que la modifique o sustituya, y los parámetros establecidos en los términos de referencia de los PPII, teniendo en cuenta normativa internacional.\nd) Identificar los receptores de interés, usos del suelo, topografía, ventana de modelación y resolución de malla a emplear en la modelación.\ne) Efectuar un análisis de la información meteorológica obtenida de estaciones automáticas del IDEAM. Cuando esto no sea posible, la modelación se apoyará en información meteorológica obtenida de otras estaciones automáticas (anexando la justificación técnica de la escogencia de estaciones diferentes a las del IDEAM) o en su defecto a partir de información resultante de modelos meteorológicos de pronóstico para el año calendario inmediatamente anterior al estudio. Para las variables aplicables, tener en cuenta lo determinado en la guía de la EPA \"Meteorological Monitoring Guidance for Regulatory Modeling Applications - EPA 454/R 99 005\".\nf) Presentar los resultados de los escenarios a modelar (sin sistemas de control y con sistemas de control) para el año inmediatamente anterior a la presentación del Informe de Cumplimiento Ambiental - ICA.\ng) Presentar el informe de la modelación de la dispersión de contaminantes atmosféricos en los respectivos Informes de Cumplimiento Ambiental - ICA como mínimo con la siguiente información:\ni) Diagrama de flujo de los procesos que generan emisiones atmosféricas. \nii) Descripción del modelo empleado incluyendo los resultados de las concentraciones obtenidas para los receptores sensibles y gráficas de isopletas georreferenciadas, donde se muestre la ubicación de las fuentes de emisión y de los receptores.\niii) Datos de entrada de la modelación: descripción y ubicación de la región de impacto, identificación y ubicación georreferenciado de las fuentes de emisión y de los posibles receptores, archivo geográfico con la topografía de la región y tipo de uso del suelo, información y análisis de la meteorología  (archivos nativos p. ej .SAM, .UA, .PFL, .SFC y accesibles .csv, xls, .txt no protegidos) y de la calidad del aire en la región (en caso de no existir dicha información, utilizar la información de calidad de aire más reciente), análisis sobre potenciales receptores, contaminantes emitidos y descripción del método de cuantificación de las emisiones, que permitan la reproducción total del modelo. \niv) Reporte de los criterios, características del modelo, alcances y tamaño de mallas empleados para la modelación. Anexar los archivos de entrada y salida de los procesadores y pre procesadores empleados en la modelación, en los formatos originales de entrada y salida del modelo (archivos nativos p. ej. .ADI, .SOU, .ROU, .ADO, y accesibles .csv, xls, .txt no protegidos), de forma que se permita la reproducción total del modelo.\nv) Técnicas de validación de la modelación y la concentración de fondo tenidas en cuenta, así como de los resultados obtenidos. \nvi) Análisis, conclusiones y anexos."},{"$f":"PPII_YNC!F14","v":"N/A"},{"$f":"PPII_YNC!G14","v":"Aplica"},{"$f":"PPII_YNC!H14","v":"Aplica"},{"$f":"PPII_YNC!I14","v":"N/A"},{"$f":"PPII_YNC!J14","v":"N/A"},{"$f":"PPII_YNC!K14","v":"Permanente"}]
[{"$f":"PPII_YNC!D15","v":0},{"$f":"PPII_YNC!B15","v":"AIRE"},{"$f":"PPII_YNC!E15","v":"Realizar monitoreos de calidad del aire con los criterios establecidos para un Sistema  Especial de Vigilancia de Calidad del Aire - SEVCA según el Protocolo para el Monitoreo y Seguimiento de la Calidad del Aire del MAVDT del 2010 (adoptado por la Resolución 650 de 2010, y ajustado por la Resolución 2154 de 2010, o la norma que la modifique o sustituya), y entregar los respectivos soportes en los Informes de Cumplimiento Ambiental - ICA, teniendo en cuenta lo siguiente: \n\na) Documento donde se argumente la selección de la localización de las estaciones que conformen el SEVCA del PPII, teniendo en cuenta los criterios establecidos en el Protocolo para el Monitoreo y Seguimiento de la Calidad del Aire del MAVDT (2010). Esta obligación se presentará en el primer Informe de Cumplimiento Ambiental - ICA.\nb) Información meteorológica: debe hacer referencia al año calendario inmediatamente anterior al estudio, la cual debe ser previamente validada de acuerdo a los estándares establecidos por la EPA, de igual forma se deberá entregar la información meteorológica de la campaña de monitoreo (Quality Assurance Handbook for Air Pollution Measurement Systems Volumen IV: Meteorological Measurement Versión 2.0 EPA-454/B-08-002). Anexar los archivos georreferenciados de acuerdo con el modelo de almacenamiento geográfico establecido en la Resolución 2182 de 2016 del MADS, o la que la modifique o sustituya, y/o el modelo de almacenamiento geográfico complementario PPII - YNC publicado en el micrositio de esta autoridad destinado para los Proyectos Piloto de Investigación Integral de Yacimientos no Convencionales. \nd) Reportes de laboratorio (que incluya datos diarios u horarios dependiendo de la tecnología de la estación de monitoreo - manual o automática).\ne) Comparación de las mediciones con los niveles máximos permisibles establecidos en la Resolución 2254 de 2017 del MADS, o aquella que la modifique o sustituya, y con la línea base presentada en el EIA para los contaminantes evaluados. Los contaminantes a registrar serán los establecidos en la Resolución  2254 de 2017 del MADS, o aquella que la modifique o sustituya, aplicables según la actividad industrial desarrollada y las fuentes de emisión identificadas, así como los contaminantes incluidos en los términos de referencia para los PPII. De no existir niveles máximos permisibles establecidos en la normatividad nacional, el titular de la licencia podrá usar referentes internacionales debidamente avalados y soportados. \nf) Los contaminantes monitoreados y analizados in situ, se reportarán a esta autoridad con una frecuencia diaria (datos horarios y diarios integrados en función de su correspondiente método de medición y tiempos de exposición) a través del correo electrónico centromonitoreo@anla.gov.co. \ng) El registro consolidado de los monitoreos conforme con el modelo de almacenamiento geográfico establecido en la Resolución 2182 de 2016 del MADS, o la que la modifique o sustituya, y/o el modelo de almacenamiento geográfico complementario PPII - YNC publicado en el micrositio de esta autoridad destinado para los Proyectos Piloto de Investigación Integral de Yacimientos no Convencionales.\nh) Informe de las acciones implementadas para garantizar el cumplimiento de los estándares en caso de sobrepasar los límites de inmisión para cada contaminante.\nj) Informe que incluya como mínimo los contenidos establecidos en el Protocolo para el Monitoreo y Seguimiento de la Calidad del Aire del MAVDT (2010) - Manual de operación, según el sistema de vigilancia de calidad del aire aplicable."},{"$f":"PPII_YNC!F15","v":"N/A"},{"$f":"PPII_YNC!G15","v":"Aplica"},{"$f":"PPII_YNC!H15","v":"Aplica"},{"$f":"PPII_YNC!I15","v":"Aplica"},{"$f":"PPII_YNC!J15","v":"N/A"},{"$f":"PPII_YNC!K15","v":"Permanente"}]
[{"$f":"PPII_YNC!D16","v":0},{"$f":"PPII_YNC!B16","v":"AIRE"},{"$f":"PPII_YNC!E16","v":"De acuerdo con lo establecido en la Resolución 2254 del 2017 del MADS, para Sistemas de Vigilancia de la Calidad del Aire - SVCA que realicen monitoreos con una periodicidad permanente (continua en el tiempo durante la vida útil del proyecto) reportar al Subsistema de Información sobre Calidad de Aire - SISAIRE los datos validados resultantes de las mediciones de calidad de aire y variables meteorológicas. Tener en cuenta lo establecido en la Resolución 651 del 29 de marzo 2010 o aquella que la modifique o sustituya y presentar las evidencias del cargue a dicho sistema."},{"$f":"PPII_YNC!F16","v":"N/A"},{"$f":"PPII_YNC!G16","v":"N/A"},{"$f":"PPII_YNC!H16","v":"Aplica"},{"$f":"PPII_YNC!I16","v":"N/A"},{"$f":"PPII_YNC!J16","v":"N/A"},{"$f":"PPII_YNC!K16","v":"Permanente"}]
[{"$f":"PPII_YNC!D17","v":0},{"$f":"PPII_YNC!B17","v":"CAMBIO CLIMÁTICO"},{"$f":"PPII_YNC!E17","v":"Presentar en el primer Informe de Cumplimiento Ambiental – ICA de la fase constructiva del proyecto el plan integral de gestión de Cambio Climático del proyecto, en concordancia con las líneas estratégicas definidas por el Plan Integral de Gestión del Cambio Climático del sector Minas y Energía, adoptado mediante Resolución 40807 de 2018, actualizada por la Resolución 40350 del 29 de octubre de 2021, o las normas que las modifiquen o sustituyan, contemplando como mínimo:\n\na) La cuantificación del alcance directo e indirecto (indirecto opcional) de las emisiones de gases efecto invernadero - GEI, como: dióxido de carbono (CO2), óxido nitroso (N2O), metano (CH4), hidrofluorocarbonos (HFC), perfluorocarbonos (PFC), Trifluoruro de nitrógeno (NF6) y Hexafluoruro de Azufre (SF6) en toneladas de CO2eq, de acuerdo con la Norma Técnica Colombiana NTC-ISO 14064-1: 2020 o aquella que la modifique o sustituya. Para el caso del metano (CH4) realizar monitoreo para las emisiones directas; para el caso de los demás gases se podrá realizar estimación a partir de factores de emisión, balances de masa, medición directa de ser posible, u otros. En caso de que por la naturaleza del proyecto no se requiera de la estimación de alguno(s) de los gases, justificar técnicamente. Presentar los resultados en hoja de cálculo (excel editable), junto con su  respectivo análisis, la cual deberá contemplar como minimo: puntos de emisión ID, alcance, tipo de fuente generadora GEI, nombre fuente de emisión GEI, caracteristicas de la fuente de GEI, categoria IPCC equivalente, Nombre de la sustancia, método de determinación de la emisión, emision (carga emitida) determinada (kg/año), potencial de calentamiento global, emisión (tonelada de CO2e/año), tipo de verificación GEI. Realizar la actualización de la cuantificación de emisiones de GEI (de manera semestral / al finalizar la vida util del proyecto -si el proyecto tiene una duración inferior a 2 años-. Seleccionar la periodicidad de acuerdo con la duración del proyecto) y presentarla a través de los respectivos Informes de Cumplimiento Ambiental – ICA.\nb) Relación de acciones de mitigación y estimado de reducción de GEI en hoja de cálculo editable, contemplando como minimo: Nombre de la medida, objetivo, descripción de la medida y acciones a seguir, potencial de mitigación de la medida (toneladas de CO2 eq), indicador propuesto, fecha de inicio y fin de implementación y avance de implementación (%), entre otras. Adicionalmente, presentar (de manera semestral / al finalizar la vida util del proyecto -si el proyecto tiene una duración inferior a 2 años-. Seleccionar la periodicidad de acuerdo con la duración del proyecto) a través de los correspondientes Informes de Cumplimiento Ambiental - ICA el reporte del avance de las acciones en la hoja de cálculo editable y los soportes que evidencien el cumplimiento de las mismas por cada periodo."},{"$f":"PPII_YNC!F17","v":"N/A"},{"$f":"PPII_YNC!G17","v":"Aplica"},{"$f":"PPII_YNC!H17","v":"Aplica"},{"$f":"PPII_YNC!I17","v":"Aplica"},{"$f":"PPII_YNC!J17","v":"Aplica"},{"$f":"PPII_YNC!K17","v":"Permanente"}]
[{"$f":"PPII_YNC!D18","v":0},{"$f":"PPII_YNC!B18","v":"OLORES OFENSIVOS"},{"$f":"PPII_YNC!E18","v":"Realizar las mediciones de las  sustancias o mezcla de sustancias generadoras de olores ofensivos en las actividades del PPII identificadas en el EIA, de acuerdo con lo siguiente:\n\na) Las mediciones se realizarán de acuerdo con lo establecido en la Resolución 1541 de 2013, modificada por la Resolución 0672 de 2014 del Ministerio de Ambiente y Desarrollo Sostenible, o aquella que la modifique o sustituya, y dando cumplimiento con lo establecido en la Resolución 2087 de 2014 “Por la cual se adopta el Protocolo para el Monitoreo, Control y Vigilancia de Olores Ofensivos” y en la Tabla 10 de los Términos de Referencia para PPII. \nb) Los contaminantes monitoreados y analizados in situ, se reportarán a esta autoridad con una frecuencia diaria (datos horarios y diarios integrados en función de su correspondiente método de medición y tiempos de exposición) a través del correo electrónico centromonitoreo@anla.gov.co.\nc) El registro consolidado de los monitoreos se entregará conforme con el modelo de almacenamiento geográfico establecido en la Resolución 2182 de 2016 del MADS, o la que la modifique o sustituya, y/o el modelo de almacenamiento geográfico complementario PPII - YNC publicado en el micrositio de esta autoridad destinado para los Proyectos Piloto de Investigación Integral de Yacimientos no Convencionales.\nd) Presentar el análisis de los resultados y comparación con los niveles máximos permisibles establecidos en la Resolución 1541 de 2013 en los respectivos Informes de Cumplimiento Ambiental - ICA, así como los certificados de acreditación de los laboratorios, formatos de campo, cadenas de custodia, soportes de calibración y verificación de equipos y reportes de laboratorio. "},{"$f":"PPII_YNC!F18","v":"N/A"},{"$f":"PPII_YNC!G18","v":"N/A"},{"$f":"PPII_YNC!H18","v":"Aplica"},{"$f":"PPII_YNC!I18","v":"N/A"},{"$f":"PPII_YNC!J18","v":"N/A"},{"$f":"PPII_YNC!K18","v":"Permanente"}]
[{"$f":"PPII_YNC!D19","v":0},{"$f":"PPII_YNC!B19","v":"OLORES OFENSIVOS"},{"$f":"PPII_YNC!E19","v":"Modelar la dispersión de contaminantes atmosféricos (olores ofensivos), cada vez que se presenten cambios en los procesos y/o actividades que generan emisiones (por ejemplo, introducción de nuevas fuentes) o se generen quejas por olores ofensivos bajo las siguientes condiciones:\n\na) Empleando un modelo avalado por la EPA que satisfaga las necesidades específicas del proyecto.\nb) Modelando como mínimo H2S, TRS, NH3 y demás contaminantes de interés según las fuentes de emisión del proyecto, así como mezclas de sustancias generadoras de olores ofensivos (ante reincidencia de quejas) según el Protocolo para el Monitoreo, Control y Vigilancia de olores Ofensivos del MADS (adoptado por la Resolución 2087 de 2014), Resolución 1541 del 2013 del MADS o aquella que la modifique o sustituya, y los parámetros establecidos en los términos de referencia de los PPII, teniendo en cuenta normativa internacional.\nc) Identificando los receptores de interés, usos del suelo y topografía a incluir en la modelación.\nd) Efectuando un análisis de la información meteorológica obtenida de estaciones automáticas del IDEAM. Cuando esto no sea posible, la modelación se apoyará en información meteorológica obtenida de otras estaciones automáticas (anexando la justificación técnica de la escogencia de estaciones diferentes a las del IDEAM) o en su defecto a partir de información resultante de modelos meteorológicos de pronóstico para el año calendario inmediatamente anterior al estudio. Dicho análisis será presentado en los respectivos Informes de Cumplimiento Ambiental - ICA.\ne) Presentando los escenarios a modelar (sin sistemas de control y con sistemas de control) para el año inmediatamente anterior a la presentación del Informes de Cumplimiento Ambiental - ICA en los respectivos ICA."},{"$f":"PPII_YNC!F19","v":"N/A"},{"$f":"PPII_YNC!G19","v":"N/A"},{"$f":"PPII_YNC!H19","v":"Aplica"},{"$f":"PPII_YNC!I19","v":"N/A"},{"$f":"PPII_YNC!J19","v":"N/A"},{"$f":"PPII_YNC!K19","v":"Permanente"}]
[{"$f":"PPII_YNC!D20","v":0},{"$f":"PPII_YNC!B20","v":"RUIDO"},{"$f":"PPII_YNC!E20","v":"Realizar los monitoreos de ruido ambiental y entregar los respectivos soportes en los Informes de Cumplimiento Ambiental - ICA, teniendo en cuenta lo siguiente:\n\na) Los monitoreos de ruido deben cumplir con los parámetros y procedimientos establecidos en la Resolución 0627 de 2006 del MAVDT y el estándar internacional ISO 1996 incluyendo el análisis de bajas frecuencias, o aquellas que la modifiquen o sustituyan.\nb) Durante las etapas de construcción, operación y desmantelamiento, realizar monitoreos de ruido ambiental durante dos (2) días a la semana, garantizando que uno de estos días sea dominical, durante (relacionar la duranción del monitoreo de acuerdo con la nota 1). La periodicidad del monitoreo será semestral para la fase constructiva y de desmantelamiento y abandono y anual para la fase operativa. Los puntos de monitoreo deben tener una adecuada micro localización evitando obstáculos entre la fuente y el punto de muestreo. La ubicación de los equipos debe permitir en lo posible una relación señal ruido que permita la identificación de la fuente objeto de estudio sobre el ruido ambiente. \nc) Los puntos de monitoreo deberán coincidir con los puntos monitoreados en la línea base presentada en el EIA, y en caso de que se presenten nuevos potenciales receptores de interés, considerar puntos adicionales de monitoreo, los cuales se localizarán estratégicamente respecto a la ubicación de estos receptores.\nd) El registro consolidado de los monitoreos se entregará conforme con el modelo de almacenamiento geográfico establecido en la Resolución 2182 de 2016 del MADS, o la que la modifique o sustituya.\ne) Los niveles de presión sonora de cada uno de los puntos de monitoreo, deben ser presentados con el nivel total y discriminados en bandas de tercios de octava para cada hora de medición.\nf) Los monitoreos deben caracterizar los periodos de operación más representativos dentro de cada periodo de reporte, en este sentido se debe considerar la medición de manera simultánea en todos los puntos a fin de tener una trazabilidad en el tiempo y espacio de cada escenario evaluado. Se deberá contar tantos equipos como puntos de muestreo para realizar las mediciones simultáneas y continuas durante todo el desarrollo del monitoreo.\ng) Los monitoreos de ruido deben aportar las correcciones de ruido asociadas al tipo de fuente, así como incertidumbre de medida de acuerdo con lo estipulado en la Resolución 0627 del MADS e ISO 1996 a fin de estimar los efectos que puedan generarse por la operación de la fuente objeto de estudio para todas y cada una de las etapas del proyecto.\nh) Presentar en los respectivos Informes de Cumplimiento Ambiental - ICA los informes de los monitoreos de ruido, incluyendo la información requerida en el Artículo 21 de la Resolución 0627 de 2006. Incluir en el informe la comparación de las mediciones con los estándares máximos permisibles establecidos en la Resolución 0627 de 2006 (o la que la modifique o sustituya), con la línea base presentada en el instrumento de manejo y control ambiental para ruido ambiental y con las mediciones de emisión de ruido para cada hora monitoreada.\ni) Georreferenciar en mapas temáticos los puntos de monitoreo sobre la información de uso actual de suelo y de los instrumentos de ordenamiento territorial del área de influencia con la respectiva justificación de la selección de los sectores de ruido establecidos en la Resolución 627 de 2006, cada que se actualicen los instrumentos de ordenamiento territorial y/o se incluyan nuevos puntos de monitoreo. Presentar esta información en los respectivos Informes de Cumplimiento Ambiental - ICA.\nj) Actualizar el inventario de potenciales receptores de interés (asentamientos poblacionales, viviendas, infraestructura social y ecosistemas estratégicos) del proyecto y presentarlo cuando se presenten cambios.\n"},{"$f":"PPII_YNC!F20","v":"N/A"},{"$f":"PPII_YNC!G20","v":"Aplica"},{"$f":"PPII_YNC!H20","v":"Aplica"},{"$f":"PPII_YNC!I20","v":"N/A"},{"$f":"PPII_YNC!J20","v":"Aplica"},{"$f":"PPII_YNC!K20","v":"Permanente"}]
[{"$f":"PPII_YNC!D21","v":0},{"$f":"PPII_YNC!B21","v":"RUIDO"},{"$f":"PPII_YNC!E21","v":"Realizar los monitoreos de emisión de ruido y entregar los respectivos soportes en los Informes de Cumplimiento Ambiental - ICA, teniendo en cuenta lo siguiente:\n\na) Seleccionar puntos en los límites industriales de la operación donde se identifique la mayor emisión de ruido para realizar los monitoreos de emisión.\nb) Cumplir con los parámetros y procedimientos establecidos en la Resolución 0627 de 2006 del MAVDT o aquellas que la modifiquen o sustituyan, para lo cual deberá contemplarse monitoreos con las fuentes prendidas (y apagadas de ser posible).\nc) Realizar los monitoreos de emisión de ruido dentro de la campaña de monitoreo de ruido ambiental, en los periodos de operación más representativos en tiempo y lugar de la actividad, al menos durante 1 día.\nd) El registro consolidado de los monitoreos se entregará conforme con el modelo de almacenamiento geográfico establecido en la Resolución 2182 de 2016 del MADS, o la que la modifique o sustituya.\ne) Georreferenciar en mapas temáticos los puntos de monitoreo sobre la información de uso actual de suelo y de los instrumentos de ordenamiento territorial del área de influencia con la respectiva justificación de la selección de los sectores de ruido establecidos en el Artículo 9 y su parágrafo primero de la Resolución 627 de 2006, cada que se actualicen los instrumentos de ordenamiento territorial y/o se incluyan nuevos puntos de monitoreo. Presentar esta información en los respectivos Informes de Cumplimiento Ambiental - ICA.\nf) Presentar en los respectivos Informes de Cumplimiento Ambiental - ICA los informes de los monitoreos de ruido, incluyendo la información requerida en el Artículo 21 de la Resolución 0627 de 2006. Incluir en el informe la comparación de las mediciones con los estándares máximos permisibles establecidos en la Resolución 0627 de 2006 (o la que la modifique o sustituya) y con los monitoreos de ruido ambiental."},{"$f":"PPII_YNC!F21","v":"N/A"},{"$f":"PPII_YNC!G21","v":"Aplica"},{"$f":"PPII_YNC!H21","v":"Aplica"},{"$f":"PPII_YNC!I21","v":"N/A"},{"$f":"PPII_YNC!J21","v":"Aplica"},{"$f":"PPII_YNC!K21","v":"Permanente"}]
[{"$f":"PPII_YNC!D22","v":0},{"$f":"PPII_YNC!B22","v":"RUIDO"},{"$f":"PPII_YNC!E22","v":"Realizar los inventarios de fuentes de ruido al menos una vez al año o cada vez que se presenten cambios en el inventario de fuentes generadoras de ruido y/o de potenciales receptores de interés a los inicialmente identificados, dando cumplimiento a las siguientes condiciones y presentar los respectivos soportes en los Informes de Cumplimiento Ambiental - ICA:\n\na) Realizar un inventario de fuentes de emisión de ruido en el área del proyecto de tipo puntual, lineal o de área identificando ubicación, trazados internos, horas de operación por periodo de acuerdo con los horarios estipulados en el Artículo 2 de la resolución 627 de 2006 del MADS.\nb) Para las fuentes a las cuales no se les realice mediciones de caracterización de potencia bajo estándares internacionales, se debe aportar las respectivas fichas técnicas de todas y cada una de las fuentes identificadas, con i) la capacidad, ii) potencia, iii) dimensiones, iv) niveles de emisión de ruido a distancias conocidas, especificando la ponderación (p. ej. dB(A) o dB(Z)), v) potencia acústica de las fuentes preferiblemente con una resolución de 1/3 de octava. De no contar con dicha información, obtener información de fuentes secundarias, tales como base de datos, con el origen de la información, los niveles Lw y los valores que componen el espectro en frecuencia en 1/1 octava o 1/3 de octava; de ser posible y durante la etapa operativa se debe caracterizar dicho parámetro a la luz de un estándar internacional que permita la adecuada caracterización y evaluación de la emisión de la fuente.\nc) Para fuentes de tráfico, inventariar los tipos de vías previamente identificadas en el área de influencia y caracterizar el tráfico vehicular asociado, teniendo en cuenta las dinámicas o variaciones temporales del volumen del tráfico con una resolución de (ocho (8) horas / veinticuatro (24) horas continuas por día, en día hábil y festivo. Seleccionar de acuerdo con los horarios de construcción y operación aplicable al POA) incluyendo los periodos de mayor y menor flujo y clasificación del parque automotor que transite por las vías por peso, velocidad de diseño de las vías identificadas, identificación y características del punto de aforo (como mínimo ancho de calzada, número de carriles, pendiente), tipo de rodadura (pavimentada o destapada) u otras variables solicitadas por el método de modelación empleado.\nd) Georreferenciar el inventario de fuentes, vías y receptores y proyectarlo en mapas temáticos. De igual manera, adjuntar la información espacial asociada a estos en los anexos de los diferentes documentos o memorias técnicas. Así mismo, se deben presentar los archivos georreferenciados de acuerdo con\nel modelo de almacenamiento geográfico establecido en la Resolución 2182 de 2016 del MADS, y/o la que las modifiquen o sustituyan.\ne) Incorporar los inventarios de ruido en los análisis de los monitoreos de ruido y los modelos de niveles de presión sonora."},{"$f":"PPII_YNC!F22","v":"N/A"},{"$f":"PPII_YNC!G22","v":"Aplica"},{"$f":"PPII_YNC!H22","v":"Aplica"},{"$f":"PPII_YNC!I22","v":"N/A"},{"$f":"PPII_YNC!J22","v":"Aplica"},{"$f":"PPII_YNC!K22","v":"Permanente"}]
[{"$f":"PPII_YNC!D23","v":0},{"$f":"PPII_YNC!B23","v":"RUIDO"},{"$f":"PPII_YNC!E23","v":"\nRealizar la modelación de ruido al menos una vez al año o cada vez que se presenten cambios en el inventario de fuentes generadoras de ruido y/o de potenciales receptores de interés a los inicialmente identificados, y presentar en los respectivos Informes de Cumplimiento Ambiental - ICA:\n\na) Cartografía detallada de la zona, que incluya: curvas de nivel y modelo digital de elevación de terreno que contengan las fuentes de interés y que abarquen hasta los receptores; la resolución debe ser representativa del terreno a una escala detallada en fuentes y receptores tomando como referencia lo establecido en la ISO9613 y la ISO17534, así mismo, presentar la distribución en plano (layout) del área que permita la identificación cartográfica de las fuentes o áreas de operación.\nb) Método de cálculo implementado según el modelo.\nc) Meteorología y condiciones de propagación del ruido (temperatura, velocidad, dirección del viento y presión atmosférica).\nd) Cálculo del niveles de ruido sobre los receptores previamente identificados en la caracterización y aporte de la fuente sobre el ruido ambiente en el dominio de simulación del proyecto.\ne) Los escenarios a simular deben considerar periodo diurno y nocturno. Detallar las suposiciones, alcances y limitaciones consideradas en la modelación.\nf) Análisis de resultados que permitan identificar los aportes sobre los receptores, tomando como referencia los estándares máximos permisibles establecidos en la Resolución 0627 de 2006, o aquella que la modifique o sustituya.\ng) Adjuntar los datos de entrada y salida del modelo, memorias de cálculo y demás soportes de la modelación como archivos nativos, shape file, DWG.\nh) En caso de existir una afectación sobre los receptores previamente identificados, proponer medidas o sistemas de control adecuadas según el caso y viabilidad de estas de acuerdo con la operación, y presentar: cálculos y descripción del procedimiento de obtención del sistema de control empleado, representación en mapas de ruido y sistemas de control propuesto, así como un monitoreo que evidencie la efectividad de la barrera tomando como referencia estándares internacionales."},{"$f":"PPII_YNC!F23","v":"N/A"},{"$f":"PPII_YNC!G23","v":"Aplica"},{"$f":"PPII_YNC!H23","v":"Aplica"},{"$f":"PPII_YNC!I23","v":"N/A"},{"$f":"PPII_YNC!J23","v":"Aplica"},{"$f":"PPII_YNC!K23","v":"Permanente"}]
[{"$f":"PPII_YNC!D24","v":0},{"$f":"PPII_YNC!B24","v":"RUIDO"},{"$f":"PPII_YNC!E24","v":"Implementar las medidas de control y mitigación de ruido, y presentar en los Informes de Cumplimiento Ambiental - ICA los soportes que evidencien el cumplimiento de lo siguiente:\n\na) Los niveles de emisión de ruido deben compararse con los límites establecidos en la Resolución 0627 de 2006, o la que la modifique o sustituya, para aquellas fuentes de emisiones sonoras representativas, teniendo en cuenta para ello la trascendencia al uso de suelo de mayor restricción, asegurando que las medidas planteadas y adoptadas sean técnicamente viables. La Sociedad deberá demostrar que las emisiones sonoras no generan aportes adicionales sobre los niveles de ruido ambiental caracterizados en la línea base, en los receptores sensibles como viviendas y puntos de interés faunístico implementando, en caso necesario, medidas de control adecuadas.\nb) Describir las medidas asociadas a los sistemas de control implementadas sobre las fuentes de emisión de ruido relacionando su tipología (p. eje. pantalla, silenciador, encapsulamiento entre otros) y eficiencia asociada, dicha información debe estar acompañada y soportada por medio de documento técnico.\nc) Relacionar las prácticas encaminadas a la diminución de ruido desde y hacia el entorno identificando la fuente y el proceso empleado."},{"$f":"PPII_YNC!F24","v":"N/A"},{"$f":"PPII_YNC!G24","v":"Aplica"},{"$f":"PPII_YNC!H24","v":"Aplica"},{"$f":"PPII_YNC!I24","v":"N/A"},{"$f":"PPII_YNC!J24","v":"Aplica"},{"$f":"PPII_YNC!K24","v":"Permanente"}]
[{"$f":"PPII_YNC!D25","v":0},{"$f":"PPII_YNC!B25","v":"EXPLORACIÓN DE AGUAS SUBTERRÁNEAS"},{"$f":"PPII_YNC!E25","v":"Finalizada la perforación del pozo de exploración realizar una prueba de bombeo, la cual cumplirá con las siguientes condiciones:\n\na) Se debe determinar la curva de tendencia natural del nivel freático o piezométrico de unidad geológica acuífera a caracterizar, midiendo los niveles mínimos una semana antes del inicio de las pruebas.\na) Duración mínima de bombeo entre 36 a 72 horas cuando no se alcance un régimen estacionario en las primeras 24 a 36 horas y la etapa de recuperación que alcance un 95 a 100% del abatimiento producido.\nb) Realizarse escalonada o a caudal constante, registrando niveles durante el bombeo y la recuperación.\nc) Para la caracterización hidráulica de los acuíferos incluir pozos de observación/piezómetros que capten de los mismos niveles acuíferos del pozo exploratorio. Para ello, construir al menos un pozo para ese fin o emplear pozos aledaños existentes de los que se conozca el diseño y que estén dentro del radio de influencia del cono de abatimiento previsto para el pozo exploratorio. \nd) Medir los niveles estáticos y dinámicos tanto en el pozo bombeado como en el(los) pozo(s) de observación/piezómetro(s), utilizando instrumentación que permita obtener datos continuos de nivel durante la prueba.\ne) La frecuencia de medición de niveles (abatimiento y recuperación) en el pozo de captación y pozo(s) de observación/piezómetro(s), debe garantizar alrededor de 10 observaciones por ciclo logarítmico del tiempo para elaborar la curva de abatimiento versus tiempo.\nf) Asegurar que el agua producto de la(s) prueba(s) de bombeo, se disponga en el suelo o en una fuente de agua superficial una vez terminada la prueba, garantizando las medidas adecuadas para su disposición, sin impactar el sistema receptor. Por ningún motivo, se podrá dar un uso diferente a esta agua."},{"$f":"PPII_YNC!F25","v":"N/A"},{"$f":"PPII_YNC!G25","v":"Aplica"},{"$f":"PPII_YNC!H25","v":"Aplica"},{"$f":"PPII_YNC!I25","v":"N/A"},{"$f":"PPII_YNC!J25","v":"N/A"},{"$f":"PPII_YNC!K25","v":"Temporal"}]
[{"$f":"PPII_YNC!D26","v":0},{"$f":"PPII_YNC!B26","v":"EXPLORACIÓN DE AGUAS SUBTERRÁNEAS"},{"$f":"PPII_YNC!E26","v":"Realizar la caracterización fisicoquímica y microbiológica del agua subterránea, cumpliendo con las siguientes condiciones:\n\na) Medir las siguientes características físicas de el(los) pozo(s) de observación/piezómetro(s): profundidad, nivel topográfico y nivel piezométrico donde se toma la muestra.\nb) Medir como mínimo los siguientes parámetros fisicoquímicos y microbiológicos: pH, temperatura, potencial rédox, color, turbiedad, alcalinidad, dureza, conductividad eléctrica, oxígeno disuelto, sólidos disueltos totales, metales (arsénico, bario, cadmio, zinc, cobre, cromo, hierro, mercurio, níquel, plomo y selenio), aniones y cationes (Na+, K+, Mg++, Ca++, Fe total, SO4=, Cl-, NO3-, CO3=, HCO3-), coliformes totales y fecales, E. Coli y TPH. Presentar al término del permiso de exploración de aguas subterráneas, los reportes de laboratorio, las cadenas de custodia y el análisis de resultados de conformidad con el uso para el cual se vaya a destinar el recurso hídrico.\nc) Calcular y presentar el valor del error analítico de las muestras en los Informes de Cumplimiento Ambiental – ICA. El error analítico de aceptación de las muestras será de ±15%. A su vez, deberá emplear relaciones interparamétricas justificando la validez de la muestra.\nd) Almacenar la información obtenida de los monitoreos, de acuerdo con el modelo de almacenamiento geográfico establecido en la Resolución 2182 de 2016 del MADS, o la que la modifique o sustituya, y/o el modelo de almacenamiento geográfico complementario PPII - YNC publicado en el micrositio de esta autoridad destinado para los Proyectos Piloto de Investigación Integral de Yacimientos no Convencionales. \ne) Realizar los monitoreos a través de laboratorios acreditados por el IDEAM, tanto para la toma de la muestra, como para el análisis de los parámetros monitoreados, y presentar los certificados al término del permiso de exploración de aguas subterráneas. Dichos laboratorios, deberán contar con las técnicas de medición que cuenten con los límites de detección de los diferentes parámetros que permitan verificar el cumplimiento normativo de los mismos."},{"$f":"PPII_YNC!F26","v":"Aplica"},{"$f":"PPII_YNC!G26","v":"Aplica"},{"$f":"PPII_YNC!H26","v":"Aplica"},{"$f":"PPII_YNC!I26","v":"N/A"},{"$f":"PPII_YNC!J26","v":"N/A"},{"$f":"PPII_YNC!K26","v":"Temporal"}]
[{"$f":"PPII_YNC!D27","v":0},{"$f":"PPII_YNC!B27","v":"EXPLORACIÓN DE AGUAS SUBTERRÁNEAS"},{"$f":"PPII_YNC!E27","v":"Presentar el informe final de exploración de agua subterránea en un plazo de sesenta (60) días hábiles a la finalización de la construcción del pozo de exploración de aguas subterráneas, de acuerdo con el artículo 2.2.3.2.16.10 del Decreto 1076 de 2015, o la norma que lo modifique o sustituya, el cual incluirá adicional a lo exigido en dicho numeral: \n\na) Registro eléctrico (resistividad, Gamma Ray y Potencial Espontáneo). \nb) Diseño definitivo del(los) pozo(s): nivel topográfico, diámetro, materiales, longitud y ubicación de filtros y sellos hidráulicos.\nc) Informe de ejecución y resultados de las pruebas de bombeo, incluyendo: nivel estático, dinámico y caudal de la prueba, cálculo de abatimiento y cono de abatimiento, formatos de campo que den soporte a la información presentada, descripción de los pozos de observación empleados en la prueba de bombeo y memoria de cálculo de los parámetros hidráulicos, que incluya: análisis diagnóstico de la prueba, ecuación del pozo, transmisividad, coeficiente de almacenamiento, conductividad hidráulica, capacidad específica, espesor, porosidad, caudal recomendado de explotación y rendimiento del pozo.\nd) Análisis hidrogeoquímico empleando métodos gráficos adecuados (Piper, Stiff, u otro), relaciones inter paramétricas y correlación de la química del agua con el conocimiento geológico, geoquímico e hidrogeológico.\ne) \"Formato de Hoja de Vida de Pozo de Captación - Aguas Subterráneas\" actualizado.\nf) \"Formato de Hoja de Vida de Pozo de Observación/Piezómetro - Aguas Subterráneas\" actualizado."},{"$f":"PPII_YNC!F27","v":"N/A"},{"$f":"PPII_YNC!G27","v":"Aplica"},{"$f":"PPII_YNC!H27","v":"Aplica"},{"$f":"PPII_YNC!I27","v":"N/A"},{"$f":"PPII_YNC!J27","v":"N/A"},{"$f":"PPII_YNC!K27","v":"Temporal"}]
[{"$f":"PPII_YNC!D28","v":0},{"$f":"PPII_YNC!B28","v":"CONCESIÓN AGUAS SUBTERRÁNEAS"},{"$f":"PPII_YNC!E28","v":"Instalar la instrumentación necesaria para medición, registro minuto a minuto y transmisión en tiempo real a esta Autoridad del caudal captado bajo las siguientes condiciones: \n\na) La elección del medidor, calibración, instalación y mantenimiento de los equipos de medición debe cumplir con lo dispuesto en la Norma Técnica Colombiana NTC-ISO 4064 o aquella que la modifique o sustituya.\nb) El registro consolidado se entregará conforme el modelo de almacenamiento geográfico establecido en la Resolución 2182 del 2016 del MADS, o aquella norma que la modifique o sustituya, y/o el modelo de almacenamiento geográfico complementario para los PPII - YNC publicado en el micrositio de esta autoridad destinado para los Proyectos Piloto de Investigación Integral de Yacimientos no Convencionales. \nc) Adicionalmente, entregar en los Informes de Cumplimiento Ambiental - ICA los certificados de calibración vigente según la periodicidad que establezca el fabricante del equipo."},{"$f":"PPII_YNC!F28","v":"N/A"},{"$f":"PPII_YNC!G28","v":"Aplica"},{"$f":"PPII_YNC!H28","v":"Aplica"},{"$f":"PPII_YNC!I28","v":"N/A"},{"$f":"PPII_YNC!J28","v":"Aplica"},{"$f":"PPII_YNC!K28","v":"Permanente"}]
[{"$f":"PPII_YNC!D29","v":0},{"$f":"PPII_YNC!B29","v":"CONCESIÓN AGUAS SUBTERRÁNEAS"},{"$f":"PPII_YNC!E29","v":"Instalar la instrumentación necesaria para medición, registro minuto a minuto y transmisión en tiempo real a esta Autoridad los niveles y parámetros in situ (pH, temperatura, oxigeno disuelto y conductividad eléctrica), y adicionalmente presentar en los ICA lo siguiente:\n\na) Graficar los datos obtenidos manteniendo la información en una hoja de cálculo de manera acumulada y presentar su interpretación. Para el caso de los registros de niveles considerar la corrección barométrica.\nb) Hoja de vida del equipo y certificados vigentes de calibración según la periodicidad que establezca el fabricante del equipo. En caso de que no se cuente con terceros que realicen la calibración de equipos en el país, se deberá presentar el soporte de horas de uso. "},{"$f":"PPII_YNC!F29","v":"N/A"},{"$f":"PPII_YNC!G29","v":"Aplica"},{"$f":"PPII_YNC!H29","v":"Aplica"},{"$f":"PPII_YNC!I29","v":"N/A"},{"$f":"PPII_YNC!J29","v":"Aplica"},{"$f":"PPII_YNC!K29","v":"Permanente"}]
[{"$f":"PPII_YNC!D30","v":0},{"$f":"PPII_YNC!B30","v":"CONCESIÓN AGUAS SUBTERRÁNEAS"},{"$f":"PPII_YNC!E30","v":"Presentar en los respectivos Informes de Cumplimiento Ambiental - ICA el \"Formato de Hoja de Vida de Pozo de Captación - Aguas Subterráneas\" actualizado y el \"Formato de Hoja de Vida de Pozo de Observación/Piezómetro - Aguas Subterráneas\" actualizado."},{"$f":"PPII_YNC!F30","v":"N/A"},{"$f":"PPII_YNC!G30","v":"Aplica"},{"$f":"PPII_YNC!H30","v":"Aplica"},{"$f":"PPII_YNC!I30","v":"N/A"},{"$f":"PPII_YNC!J30","v":"Aplica"},{"$f":"PPII_YNC!K30","v":"Permanente"}]
[{"$f":"PPII_YNC!D31","v":0},{"$f":"PPII_YNC!B31","v":"CONCESIÓN AGUAS SUBTERRÁNEAS"},{"$f":"PPII_YNC!E31","v":"Instalar un aviso informativo de fácil visibilidad en el sitio de captación autorizado, incluyendo la información de la licencia ambiental respecto a la concesión de aguas subterráneas: número, fecha de la resolución que otorga la concesión de aguas, nombre del titular de la licencia, información de contacto, coordenadas del punto de captación, el caudal autorizado de captación y el sitio web de la empresa donde la comunidad puede consultar los resultados de los monitoreos."},{"$f":"PPII_YNC!F31","v":"N/A"},{"$f":"PPII_YNC!G31","v":"Aplica"},{"$f":"PPII_YNC!H31","v":"Aplica"},{"$f":"PPII_YNC!I31","v":"N/A"},{"$f":"PPII_YNC!J31","v":"Aplica"},{"$f":"PPII_YNC!K31","v":"Temporal"}]
[{"$f":"PPII_YNC!D32","v":0},{"$f":"PPII_YNC!B32","v":"CONCESIÓN AGUAS SUBTERRÁNEAS"},{"$f":"PPII_YNC!E32","v":"Cuando finalice la captación de agua subterránea, clausurar los pozos de observación y de captación de acuerdo a los lineamientos establecidos en la NTC 5539:2007 y/o conforme a las actualizaciones que se hagan de esta. Presentar informe respectivo y reporte de esta novedad en el \"Formato de Hoja de Vida de Pozo de Captación - Aguas Subterráneas\" y en el \"Formato de Hoja de Vida de Pozo de Observación/Piezómetro - Aguas Subterráneas\", si aplica."},{"$f":"PPII_YNC!F32","v":"N/A"},{"$f":"PPII_YNC!G32","v":"N/A"},{"$f":"PPII_YNC!H32","v":"N/A"},{"$f":"PPII_YNC!I32","v":"N/A"},{"$f":"PPII_YNC!J32","v":"Aplica"},{"$f":"PPII_YNC!K32","v":"Temporal"}]
[{"$f":"PPII_YNC!D33","v":0},{"$f":"PPII_YNC!B33","v":"CONCESIÓN AGUAS SUBTERRÁNEAS"},{"$f":"PPII_YNC!E33","v":"Presentar en los Informes de Cumplimiento Ambiental - ICA, según el  periodo reportado, los soportes que evidencien el cumplimiento de las metas e indicadores establecidas en el Programa de Uso Eficiente y Ahorro de Agua - PUEAA."},{"$f":"PPII_YNC!F33","v":"N/A"},{"$f":"PPII_YNC!G33","v":"Aplica"},{"$f":"PPII_YNC!H33","v":"Aplica"},{"$f":"PPII_YNC!I33","v":"N/A"},{"$f":"PPII_YNC!J33","v":"Aplica"},{"$f":"PPII_YNC!K33","v":"Permanente"}]
[{"$f":"PPII_YNC!D34","v":0},{"$f":"PPII_YNC!B34","v":"AGUAS SUBTERRÁNEAS"},{"$f":"PPII_YNC!E34","v":"Realizar monitoreos fisicoquímicos y microbiológicos en la red de monitoreo de agua subterránea, y entregar la siguiente información en  los Informes de Cumplimiento Ambiental - ICA:\n\na) Cálculo del valor del error analítico de las muestras. El error analítico de aceptación de las muestras será de ±15%. A su vez, deberá emplear relaciones interparamétricas justificando la validez de la muestra.\nb) Reportes de laboratorio, que incluyan la descripción metodológica de la toma de muestras y preservación, y las cadenas de custodia.\nc) Análisis e interpretación de los resultados, evaluando el comportamiento de cada variable a través del tiempo y comparándolo con los parámetros medidos en la línea base presentada en el EIA.\nd) Análisis hidrogeoquímico empleando métodos gráficos adecuados (Piper, Stiff, u otro), relaciones inter paramétricas y correlación de la química del agua con el conocimiento geológico, geoquímico, hidrogeológico y su evolución temporal, identificando un posible cambio de fase hidrogeoquímica respecto a la identificada en la línea base. \ne) Análisis correlacionando la información fisicoquímica y microbiológica de las aguas superficiales y subterráneas.\nf) Almacenar la información obtenida de los monitoreos, de acuerdo con el modelo de almacenamiento geográfico establecido en la Resolución 2182 de 2016 del MADS, o la que la modifique o sustituya, y/o el modelo de almacenamiento geográfico complementario PPII - YNC publicado en el micrositio de esta autoridad destinado para los Proyectos Piloto de Investigación Integral de Yacimientos no Convencionales. \ng) Realizar los monitoreos a través de laboratorios acreditados por el IDEAM, tanto para la toma de la muestra, como para el análisis de los parámetros monitoreados y presentar los respectivos soportes. Dichos laboratorios, deberán contar con las técnicas de medición que cuenten con los límites de detección de los diferentes parámetros que permitan verificar el cumplimiento normativo de los mismos. En caso de que no existan laboratorios nacionales acreditados para el análisis de algún(os) parámetro(s), los laboratorios acreditados por el IDEAM podrán enviar la muestra a un laboratorio internacional acreditado en su país de origen o por un estándar internacional, mientras se surte el proceso de acreditación en los laboratorios nacionales.\nh) Incluir el(los) pozo(s) de concesión de agua subterránea y/o el(los) pozo(s) de observación/piezómetro en la red de monitoreo."},{"$f":"PPII_YNC!F34","v":"N/A"},{"$f":"PPII_YNC!G34","v":"Aplica"},{"$f":"PPII_YNC!H34","v":"Aplica"},{"$f":"PPII_YNC!I34","v":"Aplica"},{"$f":"PPII_YNC!J34","v":"Aplica"},{"$f":"PPII_YNC!K34","v":"Permanente"}]
[{"$f":"PPII_YNC!D35","v":0},{"$f":"PPII_YNC!B35","v":"AGUAS SUBTERRÁNEAS"},{"$f":"PPII_YNC!E35","v":"Instalar la instrumentación necesaria para medición, registro minuto a minuto y transmisión en tiempo real a esta Autoridad los niveles y parámetros in situ (pH, oxigeno disuelto, temperatura y conductividad eléctrica) en la red de monitoreo de agua subterránea, y adicionalmente presentar en los respectivos Informes de Cumplimiento Ambiental - ICA.                                                                                                                                                                                                                                                                                                                                                                         \n\na) Base de datos con la información solicitada de manera acumulada con la extensión que arroja el equipo. Graficar los datos obtenidos y presentar la interpretación de dicha información. Para el caso de los registros de niveles considerar la corrección barométrica.\nb) Hoja de vida del equipo y certificados vigentes de calibración según la periodicidad que establezca el fabricante del equipo. En caso de que no se cuente con terceros que realicen la calibración de equipos en el país, se deberá presentar el soporte de horas de uso. "},{"$f":"PPII_YNC!F35","v":"N/A"},{"$f":"PPII_YNC!G35","v":"N/A"},{"$f":"PPII_YNC!H35","v":"Aplica"},{"$f":"PPII_YNC!I35","v":"Aplica"},{"$f":"PPII_YNC!J35","v":"N/A"},{"$f":"PPII_YNC!K35","v":"Permanente"}]
[{"$f":"PPII_YNC!D36","v":0},{"$f":"PPII_YNC!B36","v":"CONCESIÓN AGUAS SUPERFICIALES"},{"$f":"PPII_YNC!E36","v":"Instalar la instrumentación necesaria para medición, registro minuto a minuto y transmisión en tiempo real a esta Autoridad del caudal captado bajo las siguientes condiciones: \n\na) La elección del medidor, calibración, instalación y mantenimiento de los equipos de medición debe cumplir con lo dispuesto en la Norma Técnica Colombiana NTC-ISO 4064 o aquella que la modifique o sustituya.\nb) El registro consolidado se entregará en los respectivos Informes de Cumplimiento Ambiental - ICA de acuerdo con el modelo de almacenamiento geográfico establecido en la Resolución 2182 del 2016 del MADS, o aquella norma que la modifique o sustituya, y/o el modelo de almacenamiento geográfico complementario para los PPII - YNC publicado en el micrositio de esta autoridad destinado para los Proyectos Piloto de Investigación Integral de Yacimientos no Convencionales. \nc) Adicionalmente, entregar en los Informes de Cumplimiento Ambiental - ICA los certificados de calibración vigente según la periodicidad que establezca el fabricante del equipo."},{"$f":"PPII_YNC!F36","v":"N/A"},{"$f":"PPII_YNC!G36","v":"Aplica"},{"$f":"PPII_YNC!H36","v":"Aplica"},{"$f":"PPII_YNC!I36","v":"N/A"},{"$f":"PPII_YNC!J36","v":"Aplica"},{"$f":"PPII_YNC!K36","v":"Permanente"}]
[{"$f":"PPII_YNC!D37","v":0},{"$f":"PPII_YNC!B37","v":"CONCESIÓN AGUAS SUPERFICIALES"},{"$f":"PPII_YNC!E37","v":"Realizar mediciones de nivel y caudal del cuerpo de agua donde se realiza la captación, dando cumplimiento a las siguientes condiciones:\n\na) Localizar una sección transversal estable en un punto inmediatamente aguas arriba del sitio de la captación, teniendo en cuenta que no haya aportes o extracciones significativas de caudal (naturales o antrópicas), siguiendo los lineamientos establecidos por el Protocolo para el Monitoreo y Seguimiento del Agua (IDEAM, 2007), o aquel que lo modifique o sustituya, para la medición de nivel y caudal e instalar allí la instrumentación automática necesaria para medición horaria y transmisión en tiempo real a esta Autoridad de los niveles y caudales.\nb) Realizar la calibración de la curva nivel-caudal de la sección transversal del cuerpo de agua, siguiendo lo establecido en el Protocolo en mención, para las épocas de máximas precipitaciones, mínimas y de transición, de acuerdo con la variación hidrológica del EIA con el cual se otorga la licencia ambiental. De la misma manera, realizar una vez al año el levantamiento topobatimétrico de la sección transversal donde se calibró la curva nivel-caudal, y en caso de que identifique un cambio significativo en la geometría de la sección transversal presentada históricamente, proyectar los ajustes necesarios de la curva. Presentar los respectivos soportes de la calibración en los Informes de Cumplimiento Ambiental - ICA.\nc) Presentar en los Informes de Cumplimiento Ambiental - ICA el análisis de la información acumulada y su comparación con los caudales obtenidos en la línea base (caudales medios, mínimos, máximos mensuales multianuales y caudales ambientales)."},{"$f":"PPII_YNC!F37","v":"N/A"},{"$f":"PPII_YNC!G37","v":"Aplica"},{"$f":"PPII_YNC!H37","v":"Aplica"},{"$f":"PPII_YNC!I37","v":"N/A"},{"$f":"PPII_YNC!J37","v":"Aplica"},{"$f":"PPII_YNC!K37","v":"Permanente"}]
[{"$f":"PPII_YNC!D38","v":0},{"$f":"PPII_YNC!B38","v":"CONCESIÓN AGUAS SUPERFICIALES"},{"$f":"PPII_YNC!E38","v":"Realizar monitoreos de calidad del recurso hídrico, siguiendo los lineamientos establecidos en la Guía para el Monitoreo de Vertimientos, Aguas Superficiales y Subterráneas del 2002 del IDEAM o cualquiera que lo modifique o sustituya, cumpliendo con las siguientes condiciones:\n\na) Tomar una muestra integrada en la sección transversal establecida de acuerdo con los lineamientos de la Guía en mención.\nb) Realizar los monitoreos aguas abajo del punto de captación, teniendo en cuenta que no haya aportes o extracciones significativas de caudal (naturales o antrópicas) entre los puntos de medición y el punto de captación.\nc) Georreferenciar el punto de captación y los puntos donde se realiza el monitoreo, y almacenar la información obtenida de los monitoreos, de acuerdo con el modelo de almacenamiento geográfico establecido en la Resolución 2182 de 2016 del MADS, o la que la modifique o sustituya, y/o el modelo de almacenamiento geográfico complementario PPII - YNC publicado en el micrositio de esta autoridad destinado para los Proyectos Piloto de Investigación Integral de Yacimientos no Convencionales. \nd) Registrar en cada monitoreo como mínimo los parámetros establecidos en la Tabla 13 (incluyendo bromuros y salinidad) de los términos de referencia de PPII. \ne) Presentar en los Informes de Cumplimiento Ambiental - ICA, los reportes de laboratorio, las cadenas de custodia y el análisis multitemporal de los resultados que refleje la tendencia de la calidad del medio afectado por la concesión y su comparación con la línea base presentada en el EIA. En caso de no cumplir con algún parámetro monitoreado, el titular de la presente licencia ambiental, realizará el análisis y propondrá las medidas a que haya lugar para dar cumplimiento.\nf) Registrar el estado del tiempo (nubosidad, temperatura del aire, velocidad del viento, humedad relativa, temperatura del punto de rocío) durante el monitoreo.\ng)  Realizar los monitoreos a través de laboratorios acreditados por el IDEAM, tanto para la toma de la muestra, como para el análisis de los parámetros monitoreados, y presentar los certificados en los Informes de Cumplimiento Ambiental - ICA. Dichos laboratorios, deberán contar con las técnicas de medición que cuenten con los límites de detección de los diferentes parámetros que permitan verificar el cumplimiento normativo de los mismos."},{"$f":"PPII_YNC!F38","v":"N/A"},{"$f":"PPII_YNC!G38","v":"Aplica"},{"$f":"PPII_YNC!H38","v":"Aplica"},{"$f":"PPII_YNC!I38","v":"N/A"},{"$f":"PPII_YNC!J38","v":"Aplica"},{"$f":"PPII_YNC!K38","v":"Permanente"}]
[{"$f":"PPII_YNC!D39","v":0},{"$f":"PPII_YNC!B39","v":"CONCESIÓN AGUAS SUPERFICIALES"},{"$f":"PPII_YNC!E39","v":"Suspender las actividades de captación cuando el caudal aguas arriba del punto de captación sea igual o inferior al caudal ambiental (cuando el caudal ambiental del cuerpo de agua donde se realiza la captación no se encuentre reglamentado por la autoridad regional, deberá tenerse en cuenta el calculado por el proyecto en el EIA), e informar a la autoridad ambiental competente y a la ANLA, dentro de las 24 h posteriores a la situación por los medios legalmente establecidos, sobre la suspensión de actividades. Para ello, el titular de la licencia ambiental, implementará un sistema que permita validar el nivel del caudal previo a la actividad de captación. Así mismo, informar a la autoridad ambiental competente y a la ANLA dentro de las 24 horas posteriores a la reactivación de la captación."},{"$f":"PPII_YNC!F39","v":"N/A"},{"$f":"PPII_YNC!G39","v":"Aplica"},{"$f":"PPII_YNC!H39","v":"Aplica"},{"$f":"PPII_YNC!I39","v":"N/A"},{"$f":"PPII_YNC!J39","v":"Aplica"},{"$f":"PPII_YNC!K39","v":"Permanente"}]
[{"$f":"PPII_YNC!D40","v":0},{"$f":"PPII_YNC!B40","v":"CONCESIÓN AGUAS SUPERFICIALES"},{"$f":"PPII_YNC!E40","v":"Instalar un aviso informativo de fácil visibilidad en el lugar de acceso a los sitios de captación autorizados, el cual incluya la información de la licencia ambiental respecto a  la concesión de aguas: número y fecha de la resolución que otorga la concesión, titular de la licencia, información de contacto, nombre de la fuente hídrica, coordenadas del punto de captación autorizada en la resolución, el caudal autorizado de captación, horario de captación (cuando se capte por carrotanque), caudal ambiental de la fuente y el sitio web de la empresa donde la comunidad puede consultar los resultados de los monitoreos."},{"$f":"PPII_YNC!F40","v":"N/A"},{"$f":"PPII_YNC!G40","v":"Aplica"},{"$f":"PPII_YNC!H40","v":"Aplica"},{"$f":"PPII_YNC!I40","v":"N/A"},{"$f":"PPII_YNC!J40","v":"Aplica"},{"$f":"PPII_YNC!K40","v":"Temporal"}]
[{"$f":"PPII_YNC!D41","v":0},{"$f":"PPII_YNC!B41","v":"CONCESIÓN AGUAS SUPERFICIALES"},{"$f":"PPII_YNC!E41","v":"Para la captación del recurso mediante motobomba adosada a carrotanque, tener en cuenta:\n\na) Ubicar los carrotanques empleados para realizar las captaciones fuera de la ronda de protección del cuerpo a captar.\nb) Las zonas donde se parqueen los vehículos deberán garantizar la estabilidad de los taludes de las márgenes del cuerpo de agua de donde se realice la captación. \nc) El sitio donde se parqueen los vehículos garantizarán condiciones de impermeabilización y sistema de control de fluidos ante eventuales fugas y derrames de los vehículos.\nd) El vehículo deberá contar con un sistema de micromedición para controlar el caudal captado.\ne) Las motobombas y vehículos transportadores del agua deberán contar con los mantenimientos preventivos. Presentar en los Informes de Cumplimiento Ambiental - ICA los respectivos soportes. \nf) Diligenciar las planillas en campo, que incluyan: placa de vehículo, fecha, hora de inicio y final de la captación y lectura inicial y final del sistema de medición de caudal. Presentar las planillas en los Informes de Cumplimiento Ambiental - ICA."},{"$f":"PPII_YNC!F41","v":"N/A"},{"$f":"PPII_YNC!G41","v":"Aplica"},{"$f":"PPII_YNC!H41","v":"Aplica"},{"$f":"PPII_YNC!I41","v":"N/A"},{"$f":"PPII_YNC!J41","v":"Aplica"},{"$f":"PPII_YNC!K41","v":"Permanente"}]
[{"$f":"PPII_YNC!D42","v":0},{"$f":"PPII_YNC!B42","v":"CONCESIÓN AGUAS SUPERFICIALES"},{"$f":"PPII_YNC!E42","v":"Para captación del recurso mediante equipo de bombeo fijo, tener en cuenta:\n\na) Ubicar el equipo de bombeo fijo sobre una base impermeabilizada fuera de la ronda de protección del cuerpo a captar y/o zonificación de manejo, la cual debe contar con techo, cerramiento, equipos para atender posibles conatos de incendios, kits para atender derrames de combustible, canales perimetrales que descolen en un tanque de almacenamiento para su posterior retiro, tratamiento y disposición final como residuo peligroso.\nb) El equipo de bombeo, deberá contar con un sistema de micromedición para controlar el caudal captado. \nc) Las motobombas deberán contar con los mantenimientos preventivos. Presentar en los Informes de Cumplimiento Ambiental - ICA los respectivos soportes. "},{"$f":"PPII_YNC!F42","v":"N/A"},{"$f":"PPII_YNC!G42","v":"Aplica"},{"$f":"PPII_YNC!H42","v":"Aplica"},{"$f":"PPII_YNC!I42","v":"N/A"},{"$f":"PPII_YNC!J42","v":"Aplica"},{"$f":"PPII_YNC!K42","v":"Permanente"}]
[{"$f":"PPII_YNC!D43","v":0},{"$f":"PPII_YNC!B43","v":"CONCESIÓN AGUAS SUPERFICIALES"},{"$f":"PPII_YNC!E43","v":"Presentar en los Informes de Cumplimiento Ambiental - ICA, según el  periodo reportado, los soportes que evidencien el cumplimiento de las metas e indicadores establecidas en el Programa de Uso Eficiente y Ahorro de Agua - PUEAA."},{"$f":"PPII_YNC!F43","v":"N/A"},{"$f":"PPII_YNC!G43","v":"Aplica"},{"$f":"PPII_YNC!H43","v":"Aplica"},{"$f":"PPII_YNC!I43","v":"N/A"},{"$f":"PPII_YNC!J43","v":"Aplica"},{"$f":"PPII_YNC!K43","v":"Permanente"}]
[{"$f":"PPII_YNC!D44","v":0},{"$f":"PPII_YNC!B44","v":"AGUAS SUPERFICIALES"},{"$f":"PPII_YNC!E44","v":"Realizar monitoreos fisicoquímicos, bacteriológicos e hidrobiológicos a las fuentes de agua superficial presentes en el área de influencia del proyecto susceptibles de ser intervenidos e impactados, mediante la toma de muestras integradas en la sección transversal siguiendo los lineamientos establecidos en la Guía para el Monitoreo de Vertimientos, Aguas Superficiales y Subterráneas del 2002 del IDEAM, o cualquiera que la modifique o sustituya, dando cumplimiento a las siguientes condiciones:\n\na) Realizar los monitoreo en los mismos puntos donde se caracterizó la línea base en el Estudio de Impacto Ambiental.\nb) Registrar en cada monitoreo como mínimo los parámetros establecidos en la Tabla 7. Relación de los parámetros fisicoquímicos a monitorear para caracterizar los cuerpos de agua superficiales del área de influencia del proyecto de los términos de referencia para los PPII. \nc) Presentar en los Informes de Cumplimiento Ambiental - ICA, los reportes de laboratorio, las cadenas de custodia y el análisis de la tendencia de la calidad del medio afectado, comparándola con la línea base presentada en el EIA.\nd) Georreferenciar el punto donde se realizan los monitoreos, y almacenar la información obtenida de los mismos, de acuerdo con el modelo de almacenamiento geográfico establecido en la Resolución 2182 de 2016 del MADS, o la que la modifique o sustituya, y/o el modelo de almacenamiento geográfico complementario PPII - YNC publicado en el micrositio de esta autoridad destinado para los Proyectos Piloto de Investigación Integral de Yacimientos no Convencionales. \ne) Realizar los monitoreos a través de laboratorios acreditados por el IDEAM, tanto para la toma de la muestra, como para el análisis de los parámetros monitoreados, y presentar los certificados en los Informes de Cumplimiento Ambiental - ICA. Dichos laboratorios, deberán contar con las técnicas de medición que cuenten con los límites de detección de los diferentes parámetros que permitan verificar el cumplimiento normativo de los mismos."},{"$f":"PPII_YNC!F44","v":"N/A"},{"$f":"PPII_YNC!G44","v":"Aplica"},{"$f":"PPII_YNC!H44","v":"Aplica"},{"$f":"PPII_YNC!I44","v":"Aplica"},{"$f":"PPII_YNC!J44","v":"Aplica"},{"$f":"PPII_YNC!K44","v":"Permanente"}]
[{"$f":"PPII_YNC!D45","v":0},{"$f":"PPII_YNC!B45","v":"AGUAS SUPERFICIALES"},{"$f":"PPII_YNC!E45","v":"Realizar mediciones de nivel y caudal de las fuentes de agua superficial presentes en el área de influencia del proyecto susceptibles de ser intervenidos e impactados (concesiones, vertimientos, ocupaciones y otros puntos que deban ser considerados por su importancia), dando cumplimiento a las siguientes condiciones:\n\na) Localizar una sección transversal estable siguiendo los lineamientos establecidos por el Protocolo para el Monitoreo y Seguimiento del Agua (IDEAM, 2007), o aquel que lo modifique o sustituya, para la medición de nivel y caudal e instalar allí la instrumentación automática necesaria para medición horaria y transmisión en tiempo real a esta Autoridad de los niveles y caudales.\nb) Realizar las mediciones en un punto representativo donde se puedan apreciar los posible cambios asociados al proyecto, teniendo en cuenta que no haya aportes o extracciones significativas de caudal (naturales o antrópicas).\nc) Realizar la calibración de la curva nivel-caudal de la sección transversal del cuerpo de agua, siguiendo lo establecido en el Protocolo en mención, para las épocas de máximas precipitaciones, mínimas y de transición, de acuerdo con la variación hidrológica del EIA con el cual se otorga la licencia ambiental. De la misma manera, realizar una vez al año el levantamiento topobatimétrico de la sección transversal donde se calibró la curva nivel-caudal, y en caso de que identifique un cambio significativo en la geometría de la sección transversal presentada históricamente, proyectar los ajustes necesarios de la curva. Presentar los respectivos soportes en los Informes de Cumplimiento Ambiental - ICA.\nd) Presentar en los Informes de Cumplimiento Ambiental - ICA el análisis de la información acumulada y su comparación con los caudales obtenidos en la línea base (caudales medios, mínimos, máximos mensuales multianuales y caudales ambientales)."},{"$f":"PPII_YNC!F45","v":"N/A"},{"$f":"PPII_YNC!G45","v":"Aplica"},{"$f":"PPII_YNC!H45","v":"Aplica"},{"$f":"PPII_YNC!I45","v":"Aplica"},{"$f":"PPII_YNC!J45","v":"Aplica"},{"$f":"PPII_YNC!K45","v":"Permanente"}]
[{"$f":"PPII_YNC!D46","v":0},{"$f":"PPII_YNC!B46","v":"OCUPACIÓN DE CAUCE"},{"$f":"PPII_YNC!E46","v":"Garantizar la protección de las áreas intervenidas para la ocupación, dando cumplimiento a lo siguiente:\n\na) Realizar las obras geotécnicas necesarias para la estabilización de taludes y reconformación morfológica de las márgenes de los cauces, sin afectar el caudal y la dinámica natural de las corrientes de agua.\nb) Hacer seguimiento detallado durante todo el proceso constructivo de las obras autorizadas, de las obras de protección geotécnica y del estado de las márgenes del cauce. Presentar en cada Informe de Cumplimiento Ambiental - ICA según el periodo reportado, las actividades realizadas, evidenciando su cumplimiento a través de un registro fotográfico que incluya las condiciones iniciales del mismo.\nc) Realizar labores de revegetalización de las áreas intervenidas con especies nativas de la región.\nd) El permiso no incluye intervenciones en los cuerpos de agua diferentes a las autorizadas."},{"$f":"PPII_YNC!F46","v":"N/A"},{"$f":"PPII_YNC!G46","v":"Aplica"},{"$f":"PPII_YNC!H46","v":"N/A"},{"$f":"PPII_YNC!I46","v":"N/A"},{"$f":"PPII_YNC!J46","v":"N/A"},{"$f":"PPII_YNC!K46","v":"Permanente"}]
[{"$f":"PPII_YNC!D47","v":0},{"$f":"PPII_YNC!B47","v":"OCUPACIÓN DE CAUCE"},{"$f":"PPII_YNC!E47","v":"Realizar monitoreos de calidad de (el o los) cuerpo(s) de agua donde se realiza la ocupación de cauce, siguiendo los lineamientos establecidos en la Guía para el Monitoreo de Vertimientos, Aguas Superficiales y Subterráneas del 2002 del IDEAM,  o aquella que la modifique o sustituya, y bajo las siguientes condiciones: \n\na) Realizar un monitoreo de la calidad del agua en el transcurso de la semana previa a la iniciación de las obras asociadas a la ocupación.\nb) Realizar un monitoreo de calidad de agua mensual cuando las obras de ocupación de cauce tengan una duración igual o mayor a un mes y un monitoreo de calidad de agua cuando las obras de ocupación de cauce tengan una duración menor a un mes.\nc) Realizar un monitoreo de la calidad del agua en el transcurso de la semana siguiente a la finalización de las obras asociadas a la ocupación.\nd) Para cada monitoreo de calidad del agua tomar una muestra integrada en la sección transversal, registrando en cada uno de ellos los siguientes parámetros: pH, temperatura, color real, turbidez, conductividad eléctrica, grasas y aceites, DBO5, DQO, sólidos suspendidos totales, sólidos sedimentables, sólidos disueltos totales, sólidos totales y TPH, de acuerdo con la Tabla 13 de los términos de referencia de PPII. \ne) Presentar en los Informes de Cumplimiento Ambiental - ICA, los reportes de laboratorio, las cadenas de custodia y análisis global de los resultados y de la tendencia de la calidad del medio afectado por las ocupaciones, comparándola con la línea base presentada en el EIA.\nf) Realizar los monitoreos de calidad del agua y las mediciones de caudal en dos puntos: uno aguas arriba y el otro aguas abajo del sitio de ocupación, teniendo en cuenta que no haya aportes o extracciones significativas de caudal (naturales o antrópicas) entre el punto de medición y el punto de la ocupación.\ng) Georreferenciar los puntos donde se realiza el monitoreo y almacenar la información obtenida de los monitoreos, de acuerdo con el modelo de almacenamiento geográfico establecido en la Resolución 2182 de 2016 del MADS, o la que la modifique o sustituya, y/o el modelo de almacenamiento geográfico complementario PPII - YNC publicado en el micrositio de esta autoridad destinado para los Proyectos Piloto de Investigación Integral de Yacimientos no Convencionales. \nh) Realizar los monitoreos a través de laboratorios acreditados por el IDEAM, tanto para la toma de la muestra, como para el análisis de los parámetros monitoreados, y presentar los certificados en los Informes de Cumplimiento Ambiental - ICA. Dichos laboratorios, deberán contar con las técnicas de medición que cuenten con los límites de detección de los diferentes parámetros que permitan verificar el cumplimiento normativo de los mismos.\ni) Registrar el estado del tiempo (nubosidad, temperatura del aire, velocidad del viento, humedad relativa, temperatura del punto de rocío) durante cada monitoreo de calidad del agua.\nj) En los casos en que el caudal asociado a la ocupación de cauce no sea suficiente para la toma y análisis de las muestras, justificar técnicamente y presentar evidencia fotográfica en los Informes de Cumplimiento Ambiental - ICA."},{"$f":"PPII_YNC!F47","v":"N/A"},{"$f":"PPII_YNC!G47","v":"Aplica"},{"$f":"PPII_YNC!H47","v":"N/A"},{"$f":"PPII_YNC!I47","v":"N/A"},{"$f":"PPII_YNC!J47","v":"N/A"},{"$f":"PPII_YNC!K47","v":"Permanente"}]
[{"$f":"PPII_YNC!D48","v":0},{"$f":"PPII_YNC!B48","v":"OCUPACIÓN DE CAUCE"},{"$f":"PPII_YNC!E48","v":"Presentar en los Informes de Cumplimiento Ambiental - ICA:\n\na) Un informe actualizado del análisis histórico de la dinámica fluvial de las corrientes asociadas a la ocupación finalizada la obra, y cada año durante la ejecución del proyecto (a partir de fotografías aéreas, sensores remotos u otra información secundaria de diferentes épocas), en caso en que la información secundaria no permita evidenciar la obra y las corrientes asociadas, se deberá emplear información primaria, que permita verificar los cambios respecto a la línea base en la morfología de las orillas del cuerpo de agua objeto de la ocupación. En caso de que se evidencien cambios, el titular de la licencia ambiental formulará y ejecutará las correspondientes medidas para el mejoramiento y/o sustitución de la obra de ocupación de cauce. \nb) Un reporte del estado las obras asociadas a la ocupación de cauce (márgenes, taludes, revegetalización, entre otros) y de las actividades ejecutadas que garanticen el normal flujo del agua a través de la obra de ocupación, con su respectivo registro fotográfico."},{"$f":"PPII_YNC!F48","v":"N/A"},{"$f":"PPII_YNC!G48","v":"Aplica"},{"$f":"PPII_YNC!H48","v":"Aplica"},{"$f":"PPII_YNC!I48","v":"N/A"},{"$f":"PPII_YNC!J48","v":"Aplica"},{"$f":"PPII_YNC!K48","v":"Permanente"}]
[{"$f":"PPII_YNC!D49","v":0},{"$f":"PPII_YNC!B49","v":"OCUPACIÓN DE CAUCE"},{"$f":"PPII_YNC!E49","v":"Realizar monitoreos de calidad del cuerpo de agua donde se realiza la ocupación de cauce, si durante la fase de operación se realiza intervención que implique complementos constructivos a las obras asociadas a la ocupación, teniendo en cuenta las mismas condiciones establecidas para dichos monitoreos durante su fase constructiva. Presentar los soportes en los respectivos Informes de Cumplimiento Ambiental - ICA, según el periodo reportado."},{"$f":"PPII_YNC!F49","v":"N/A"},{"$f":"PPII_YNC!G49","v":"N/A"},{"$f":"PPII_YNC!H49","v":"Aplica"},{"$f":"PPII_YNC!I49","v":"N/A"},{"$f":"PPII_YNC!J49","v":"N/A"},{"$f":"PPII_YNC!K49","v":"Temporal"}]
[{"$f":"PPII_YNC!D50","v":0},{"$f":"PPII_YNC!B50","v":"VERTIMIENTO EN AGUA SUPERFICIAL DE ARD y ARnD"},{"$f":"PPII_YNC!E50","v":"Suspender las actividades de vertimiento cuando se presenten las situaciones de las que trata el artículo 2.2.3.3.4.15 del Decreto 1076 de 2015, o la norma que lo modifique o sustituya, e informar a la autoridad ambiental regional y a la ANLA, dentro de las 24 h posteriores a la situación y por los medios legalmente establecidos, sobre la suspensión de actividades y/o la puesta en marcha del Plan de Gestión del Riesgo para el Manejo de Vertimientos cuando:\n\na) La reparación y reinicio de los sistemas de tratamiento requieran más de tres (3) horas diarias.\nb) El caudal medido sobre la fuente receptora aguas arriba del punto de vertimiento sea igual o inferior al caudal ambiental (cuando el caudal ambiental del cuerpo de agua donde se realiza la captación no se encuentre reglamentado por la autoridad regional, deberá tenerse en cuenta el calculado por el proyecto en el EIA). Para ello, el titular de la licencia ambiental, implementará un sistema que permita validar el nivel del caudal previo a la actividad del vertimiento. \n\nAsí mismo, informar a la autoridad ambiental competente y a la ANLA dentro de las 24 horas posteriores a la reactivación del vertimiento."},{"$f":"PPII_YNC!F50","v":"N/A"},{"$f":"PPII_YNC!G50","v":"Aplica"},{"$f":"PPII_YNC!H50","v":"Aplica"},{"$f":"PPII_YNC!I50","v":"N/A"},{"$f":"PPII_YNC!J50","v":"Aplica"},{"$f":"PPII_YNC!K50","v":"Permanente"}]
[{"$f":"PPII_YNC!D51","v":0},{"$f":"PPII_YNC!B51","v":"VERTIMIENTO EN AGUA SUPERFICIAL DE ARD y ARnD"},{"$f":"PPII_YNC!E51","v":"Realizar monitoreos de calidad del recurso hídrico en el cuerpo de agua donde se realiza el vertimiento, mediante la toma de muestras integradas en la sección transversal siguiendo los lineamientos establecidos en la Guía para el Monitoreo de Vertimientos, Aguas Superficiales y Subterráneas del 2002 del IDEAM, o cualquiera que la modifique o sustituya, dando cumplimiento a las siguientes condiciones:\n\na) Realizar las mediciones de caudal aguas arriba y aguas abajo del vertimiento de manera simultánea a la toma de muestras, teniendo en cuenta que no haya aportes o extracciones significativas de caudal (naturales o antrópicas) entre los puntos de medición y el punto de vertimiento. Presentar la base de datos en los respectivos Informes de Cumplimiento Ambiental - ICA.\nb) Realizar el monitoreo aguas arriba y aguas abajo siguiendo la masa de agua: 1) Aguas arriba del punto de vertimiento y 2) Aguas abajo del vertimiento, en un punto situado después de la distancia de mezcla completa estimada desde el sitio de la descarga. Estos puntos deberán coincidir con los definidos en el Estudio de Impacto Ambiental.\nc) Registrar en cada monitoreo los parámetros físico químicos establecidos en la Resolución 631 de 2015 o aquella que la modifique o sustituya. De igual manera, se deben contemplar los parámetros establecidos en los Planes de Ordenamiento y Manejo de Cuencas Hidrográficas - POMCAs y en los Planes de Ordenamiento del Recurso Hídrico - PORH. \nd) Monitorear las siguientes comunidades hidrobiológicas: perifiton, bentos y fauna íctica para cuerpos lóticos, y adicionalmente plancton y macrófitas para cuerpos lénticos. \ne) Registrar el estado del tiempo (nubosidad, temperatura del aire, velocidad del viento, humedad relativa, temperatura del punto de rocío) durante el monitoreo.\nf) Presentar en los Informes de Cumplimiento Ambiental - ICA, los reportes de laboratorio, las cadenas de custodia y el análisis de la tendencia de la calidad del medio afectado por el vertimiento, comparándola con la línea base presentada en el EIA.\ng) Georreferenciar el punto donde se realiza el vertimiento y los puntos donde se realiza el monitoreo, y almacenar la información obtenida de los monitoreos, de acuerdo con el modelo de almacenamiento geográfico establecido en la Resolución 2182 de 2016 del MADS, o la que la modifique o sustituya, y/o el modelo de almacenamiento geográfico complementario PPII - YNC publicado en el micrositio de esta autoridad destinado para los Proyectos Piloto de Investigación Integral de Yacimientos no Convencionales. \nh) Realizar los monitoreos a través de laboratorios acreditados por el IDEAM, tanto para la toma de la muestra, como para el análisis de los parámetros monitoreados, y presentar los certificados en los Informes de Cumplimiento Ambiental - ICA. Dichos laboratorios, deberán contar con las técnicas de medición que cuenten con los límites de detección de los diferentes parámetros que permitan verificar el cumplimiento normativo de los mismos.\ni) Cuando entre el punto de monitoreo y el punto de vertimiento se presenten aportes o extracciones, estas se monitorearán y cuantificarán (calidad y cantidad). Presentar los respectivos soportes en los Informes de Cumplimiento Ambiental - ICA. "},{"$f":"PPII_YNC!F51","v":"N/A"},{"$f":"PPII_YNC!G51","v":"Aplica"},{"$f":"PPII_YNC!H51","v":"Aplica"},{"$f":"PPII_YNC!I51","v":"N/A"},{"$f":"PPII_YNC!J51","v":"Aplica"},{"$f":"PPII_YNC!K51","v":"Permanente"}]
[{"$f":"PPII_YNC!D52","v":0},{"$f":"PPII_YNC!B52","v":"VERTIMIENTO EN AGUA SUPERFICIAL DE ARD y ARnD"},{"$f":"PPII_YNC!E52","v":"Realizar monitoreos del sedimento de fondo en el cuerpo de agua donde se realiza el vertimiento. Dichos monitoreos deberán cumplir con las siguientes condiciones:\n\na) Cada monitoreo de sedimento debe realizarse en los mismos puntos donde se realizan los monitoreos de calidad del recurso hídrico y de manera simultánea.\nb) Realizar caracterización física y química del sedimento de fondo evaluando los parámetros establecidos en Guía Nacional de Modelación del Recurso Hídrico para Aguas Superficiales Continentales, adoptada por la Resolución 959 de 2018 del Ministerio de Ambiente y Desarrollo Sostenible, o aquella que la modifique o sustituya, y aquellos adicionales asociados a la actividad del PPII. En caso de que por la naturaleza del proyecto, requiera de la exclusión de algún(nos) parámetros(s), se deberá justificar mediante balances de materia o de masa y/o con la realización de la respectiva caracterización que demuestre que estos no se encuentran presentes en sus aguas residuales. Dentro de la justificación, puede hacer uso de la información de las hojas técnicas de las materias primas e insumos empleados en el proceso. \nc) Presentar en los Informes de Cumplimiento Ambiental - ICA, los reportes de laboratorio, las cadenas de custodia y el análisis de la tendencia de la calidad del medio afectado por el vertimiento, comparándola con la línea base presentada en el EIA y con los estándares establecidos en el Protocolo Louisiana 29B.\nd) Realizar los monitoreos a través de laboratorios acreditados por el IDEAM, tanto para la toma de la muestra, como para el análisis de los parámetros monitoreados, y presentar los certificados en los Informes de Cumplimiento Ambiental - ICA. Dichos laboratorios, deberán contar con las técnicas de medición que cuenten con los límites de detección de los diferentes parámetros que permitan verificar el cumplimiento normativo de los mismos."},{"$f":"PPII_YNC!F52","v":"N/A"},{"$f":"PPII_YNC!G52","v":"Aplica"},{"$f":"PPII_YNC!H52","v":"Aplica"},{"$f":"PPII_YNC!I52","v":"N/A"},{"$f":"PPII_YNC!J52","v":"Aplica"},{"$f":"PPII_YNC!K52","v":"Permanente"}]
[{"$f":"PPII_YNC!D53","v":0},{"$f":"PPII_YNC!B53","v":"VERTIMIENTO EN AGUA SUPERFICIAL DE ARD y ARnD"},{"$f":"PPII_YNC!E53","v":"Realizar monitoreos de las aguas residuales domésticas y no domésticas a la entrada y salida del sistema de tratamiento, mediante un muestreo compuesto de 24 horas (o durante el tiempo en que se realice el vertimiento) con mediciones horarias, siguiendo lo establecido en la Guía para el Monitoreo de Vertimientos, Aguas Superficiales y Subterráneas del 2002 del IDEAM, o cualquiera que la modifique o sustituya, dando cumplimiento a las siguientes condiciones:\n\na) La fecha de realización del monitoreo del vertimiento debe coincidir con la fecha de realización del monitoreo de calidad del cuerpo receptor.\nb) Registrar en cada monitoreo del vertimiento los parámetros establecidos en la Resolución 631 de 2015 o aquella que la modifique o sustituya. \nc) Presentar en los Informes de Cumplimiento Ambiental - ICA, los reportes de laboratorio, las cadenas de custodia y el análisis de los resultados de los monitoreos, que incluya las correlaciones entre variaciones de proceso y variaciones en las mediciones, así como la comparación de los resultados con los límites establecidos en la normativa mencionada.\nd) Realizar los monitoreos a través de laboratorios acreditados por el IDEAM, tanto para la toma de la muestra, como para el análisis de los parámetros monitoreados, y presentar los certificados en los Informes de Cumplimiento Ambiental - ICA. Dichos laboratorios, deberán contar con las técnicas de medición que cuenten con los límites de detección de los diferentes parámetros que permitan verificar el cumplimiento normativo de los mismos.\ne) Presentar la información del vertimiento en los respectivos Informes de Cumplimiento Ambiental - ICA de acuerdo con el modelo de almacenamiento geográfico establecido en la Resolución 2182 del 2016 del MADS, o aquella norma que la modifique o sustituya, y/o el modelo de almacenamiento geográfico complementario para los PPII - YNC publicado en el micrositio de esta autoridad destinado para los Proyectos Piloto de Investigación Integral de Yacimientos no Convencionales."},{"$f":"PPII_YNC!F53","v":"N/A"},{"$f":"PPII_YNC!G53","v":"Aplica"},{"$f":"PPII_YNC!H53","v":"Aplica"},{"$f":"PPII_YNC!I53","v":"N/A"},{"$f":"PPII_YNC!J53","v":"Aplica"},{"$f":"PPII_YNC!K53","v":"Permanente"}]
[{"$f":"PPII_YNC!D54","v":0},{"$f":"PPII_YNC!B54","v":"VERTIMIENTO EN AGUA SUPERFICIAL DE ARD y ARnD"},{"$f":"PPII_YNC!E54","v":"Validar una vez al año y presentar en los respectivos Informes de Cumplimiento Ambiental - ICA el modelo de calidad del agua para los cuerpos de agua donde se autoriza el vertimiento, siguiendo lo establecido en la Guía Nacional de Modelación del Recurso Hídrico para Aguas Superficiales Continentales, adoptada por la Resolución 959 de 2018 del Ministerio de Ambiente y Desarrollo Sostenible, o aquella que la modifique o sustituya, dando cumplimiento a las siguientes condiciones:\n\na) Registrar en cada monitoreo los parámetros físicos, químicos, microbiológicos e hidrobiológicos establecidos en la Guía Nacional de Modelación del Recurso Hídrico para Aguas Superficiales Continentales. En caso de que por la naturaleza del proyecto, requiera de la exclusión de algún(nos) parámetros(s), justificar mediante balances de materia o de masa y/o con la realización de la respectiva caracterización que demuestre que estos no se encuentran presentes en sus aguas residuales. Dentro de la justificación, puede hacer uso de la información de las hojas técnicas de las materias primas e insumos empleados en el proceso. \nb) Presentar en los Informes de Cumplimiento Ambiental - ICA, los reportes de laboratorio, las cadenas de custodia y el análisis de la tendencia de la calidad del medio afectado por el vertimiento, comparándola con la línea base presentada en el EIA.\nc) La fecha de realización de los monitoreos insumo para la actualización del modelo, debe coincidir con la fecha de realización de los monitoreos de calidad del cuerpo receptor y serán complemento de los parámetros monitoreados en el cuerpo de agua receptor.\nd) Realizar el monitoreo aguas arriba y aguas abajo siguiendo la masa de agua: 1) Aguas arriba del punto de vertimiento y 2) Aguas abajo del vertimiento, en un punto situado después de la distancia de mezcla completa estimada desde el sitio de la descarga. Los puntos deberán coincidir con los definidos en el Estudio de Impacto Ambiental."},{"$f":"PPII_YNC!F54","v":"N/A"},{"$f":"PPII_YNC!G54","v":"Aplica"},{"$f":"PPII_YNC!H54","v":"Aplica"},{"$f":"PPII_YNC!I54","v":"N/A"},{"$f":"PPII_YNC!J54","v":"Aplica"},{"$f":"PPII_YNC!K54","v":"Permanente"}]
[{"$f":"PPII_YNC!D55","v":0},{"$f":"PPII_YNC!B55","v":"VERTIMIENTO EN AGUA SUPERFICIAL DE ARD y ARnD"},{"$f":"PPII_YNC!E55","v":"Presentar en los Informes de Cumplimiento Ambiental - ICA, los soportes que evidencien las actividades de mantenimiento preventivo o correctivo efectuadas al sistema de tratamiento de aguas residuales (minuta u hoja de vida del sistema de tratamiento e informes de disposición de lodos producto del mantenimiento), en cumplimiento del artículo 2.2.3.3.4.16 del Decreto 1076 de 2015, o la norma que lo modifique o sustituya."},{"$f":"PPII_YNC!F55","v":"N/A"},{"$f":"PPII_YNC!G55","v":"Aplica"},{"$f":"PPII_YNC!H55","v":"Aplica"},{"$f":"PPII_YNC!I55","v":"N/A"},{"$f":"PPII_YNC!J55","v":"Aplica"},{"$f":"PPII_YNC!K55","v":"Permanente"}]
[{"$f":"PPII_YNC!D56","v":0},{"$f":"PPII_YNC!B56","v":"VERTIMIENTO EN AGUA SUPERFICIAL DE ARD y ARnD"},{"$f":"PPII_YNC!E56","v":"Instalar un aviso informativo de fácil visibilidad en el lugar del vertimiento autorizado, el cual incluya la información de la licencia ambiental respecto al permiso de vertimiento: número y fecha de la resolución que autoriza el permiso de vertimiento, titular de la licencia, información de contacto, nombre de la fuente hídrica, coordenadas del punto de vertimiento autorizado en la resolución,  caudal del vertimiento autorizado (l/s), caudal ambiental de la fuente y el sitio web de la empresa donde la comunidad puede consultar los resultados de los monitoreos."},{"$f":"PPII_YNC!F56","v":"N/A"},{"$f":"PPII_YNC!G56","v":"Aplica"},{"$f":"PPII_YNC!H56","v":"Aplica"},{"$f":"PPII_YNC!I56","v":"N/A"},{"$f":"PPII_YNC!J56","v":"Aplica"},{"$f":"PPII_YNC!K56","v":"Temporal"}]
[{"$f":"PPII_YNC!D57","v":0},{"$f":"PPII_YNC!B57","v":"VERTIMIENTO EN \nSUELO DE ARD y ARnD"},{"$f":"PPII_YNC!E57","v":"Realizar la instalación de la red para monitoreo de aguas subterráneas en la zona de riego/aspersión autorizada antes de la puesta en marcha del sistema de vertimiento en suelos, dando cumplimiento a lo siguiente: \n \na) Contemplar un número representativo de piezómetros para lo cual presentará la justificación técnica del número de piezómetros a implementar en el primer Informe de Cumplimiento Ambiental de la fase de construcción. \nb) Localizarse aguas arriba y aguas abajo del área de vertimiento de acuerdo a la dirección del flujo local de las aguas subterráneas.  \nc)Georreferenciar los pozos de observación/piezómetros de acuerdo con el modelo de almacenamiento geográfico establecido en la Resolución 2182 de 2016 del MADS, o la que la modifique o sustituya, y/o el modelo de almacenamiento geográfico complementario PPII - YNC publicado en el micrositio de esta autoridad destinado para los Proyectos Piloto de Investigación Integral de Yacimientos no Convencionales. \nd) Los pozos de observación/piezómetros se deberán nivelar topográficamente. \ne) Los pozos deberán  contar con un mecanismo de protección que impida el ingreso de sustancias en su interior."},{"$f":"PPII_YNC!F57","v":"N/A"},{"$f":"PPII_YNC!G57","v":"Aplica"},{"$f":"PPII_YNC!H57","v":"Aplica"},{"$f":"PPII_YNC!I57","v":"N/A"},{"$f":"PPII_YNC!J57","v":"Aplica"},{"$f":"PPII_YNC!K57","v":"Temporal"}]
[{"$f":"PPII_YNC!D58","v":0},{"$f":"PPII_YNC!B58","v":"VERTIMIENTO EN \nSUELO DE ARD y ARnD"},{"$f":"PPII_YNC!E58","v":"Clausurar los pozos de observación/piezómetros, de acuerdo con los lineamientos establecidos en la NTC 5539:2007 -sección 4.10- y/o conforme a las actualizaciones que se hagan de esta una vez se finalicen los vertimientos en suelos y se compruebe de manera previa mediante un monitoreo de calidad de aguas subterráneas con base en la caracterización en la línea base, que no existen impactos residuales por la ejecución del vertimiento. Presentar los soportes que evidencien la no afectación al recurso agua, el informe de las actividades de clausura y el reporte de esta novedad en el \"Formato de Hoja de Vida de Pozo de Observación/Piezómetro - Aguas Subterráneas\" en los respectivos Informes de Cumplimiento Ambiental - ICA."},{"$f":"PPII_YNC!F58","v":"N/A"},{"$f":"PPII_YNC!G58","v":"N/A"},{"$f":"PPII_YNC!H58","v":"N/A"},{"$f":"PPII_YNC!I58","v":"N/A"},{"$f":"PPII_YNC!J58","v":"Aplica"},{"$f":"PPII_YNC!K58","v":"Temporal"}]
[{"$f":"PPII_YNC!D59","v":0},{"$f":"PPII_YNC!B59","v":"VERTIMIENTO EN \nSUELO DE ARD y ARnD"},{"$f":"PPII_YNC!E59","v":"Para aguas residuales no domésticas  - ARnD tratadas, realizar monitoreos fisicoquímicos y biológicos del suelo receptor, dando cumplimiento a las siguientes condiciones:\n\na) Realizar la toma de muestras puntuales y análisis de parámetros fisicoquímicos y biológicos establecidos en el artículo 2.2.3.3.4.9 del Decreto 1076 de 2015, o aquel que lo modifique o sustituya, en cada área de disposición. \nb) Realizar la toma de muestras con base en los criterios definidos en los TdR de PPII. \nc) Realizar los monitoreos a través de laboratorios acreditados por el IDEAM, tanto para la toma de la muestra, como para el análisis de los parámetros monitoreados. En caso de que no existan laboratorios nacionales acreditados para el análisis de algún(os) parámetro(s), los laboratorios acreditados por el IDEAM podrán enviar la muestra a un laboratorio internacional acreditado en su país de origen o por un estándar internacional, mientras se surte el proceso de acreditación en los laboratorios nacionales. Presentar dichos soportes en los Informes de Cumplimiento Ambiental - ICA.\nd) Presentar en los Informes de Cumplimiento Ambiental - ICA, los reportes de laboratorio, las cadenas de custodia y el análisis de resultados de monitoreos en una base temporal para cada variable, empleando gráficas de tendencia de concentración versus tiempo (actualizar las gráficas con la información recolectada en cada muestreo); el análisis estará orientado a medir el cambio en las propiedades iniciales del suelo (línea base) por efectos del vertimiento en cada sitio de muestra analizada.\ne) Presentar la información consolidada de los monitoreos en los respectivos Informes de Cumplimiento Ambiental - ICA de acuerdo con el modelo de almacenamiento geográfico establecido en la Resolución 2182 del 2016 del MADS, o aquella norma que la modifique o sustituya, y/o el modelo de almacenamiento geográfico complementario para los PPII - YNC publicado en el micrositio de esta autoridad destinado para los Proyectos Piloto de Investigación Integral de Yacimientos no Convencionales."},{"$f":"PPII_YNC!F59","v":"N/A"},{"$f":"PPII_YNC!G59","v":"Aplica"},{"$f":"PPII_YNC!H59","v":"Aplica"},{"$f":"PPII_YNC!I59","v":"N/A"},{"$f":"PPII_YNC!J59","v":"Aplica"},{"$f":"PPII_YNC!K59","v":"Permanente"}]
[{"$f":"PPII_YNC!D60","v":0},{"$f":"PPII_YNC!B60","v":"VERTIMIENTO EN \nSUELO DE ARD y ARnD"},{"$f":"PPII_YNC!E60","v":"Para aguas residuales domésticas - ARD tratadas, realizar monitoreos fisicoquímicos y biológicos del suelo receptor, dando cumplimiento a las siguientes condiciones:\n\na) Realizar la toma de muestras puntuales y análisis de parámetros: textura (porcentaje de arena, limo y arcilla), densidad real, densidad aparente, materia orgánica, pH, cloruros, conductividad eléctrica, capacidad de intercambio catiónico, grasas y aceites, bario, cadmio, mercurio, bacterias totales y HTP, en cada área de disposición. \nb) Realizar la toma de muestras con base en los criterios definidos en los TdR de PPII. \nc) Realizar los monitoreos a través de laboratorios acreditados por el IDEAM, tanto para la toma de la muestra, como para el análisis de los parámetros monitoreados. En caso de que no existan laboratorios nacionales acreditados para el análisis de algún(os) parámetro(s), los laboratorios acreditados por el IDEAM podrán enviar la muestra a un laboratorio internacional acreditado en su país de origen o por un estándar internacional, mientras se surte el proceso de acreditación en los laboratorios nacionales. Presentar dichos soportes en los Informes de Cumplimiento Ambiental - ICA.\nd) Presentar en los Informes de Cumplimiento Ambiental - ICA, los reportes de laboratorio, las cadenas de custodia y el análisis de resultados de monitoreos en una base temporal para cada variable, empleando gráficas de tendencia de concentración versus tiempo (actualizar las gráficas con la información recolectada en cada muestreo); el análisis estará orientado a medir el cambio en las propiedades iniciales del suelo (línea base) por efectos del vertimiento en cada sitio de muestra analizada, así como con los límites genéricos basados en riesgos (LGBR) de la EPA (https://www.epa.gov/risk/regional-screening-levels-rsls-generic-tables,  Niveles de Detección Regional (RSLs) - Niveles de Detección (TR = 1E-06 THQ = 1.0) - Tabla resumen - Suelo Industrial).\ne) Presentar la información consolidada de los monitoreos en los respectivos Informes de Cumplimiento Ambiental - ICA de acuerdo con el modelo de almacenamiento geográfico establecido en la Resolución 2182 del 2016 del MADS, o aquella norma que la modifique o sustituya, y/o el modelo de almacenamiento geográfico complementario para los PPII - YNC publicado en el micrositio de esta autoridad destinado para los Proyectos Piloto de Investigación Integral de Yacimientos no Convencionales."},{"$f":"PPII_YNC!F60","v":"N/A"},{"$f":"PPII_YNC!G60","v":"Aplica"},{"$f":"PPII_YNC!H60","v":"Aplica"},{"$f":"PPII_YNC!I60","v":"N/A"},{"$f":"PPII_YNC!J60","v":"Aplica"},{"$f":"PPII_YNC!K60","v":"Permanente"}]
[{"$f":"PPII_YNC!D61","v":0},{"$f":"PPII_YNC!B61","v":"VERTIMIENTO EN \nSUELO DE ARD y ARnD"},{"$f":"PPII_YNC!E61","v":"Para aguas residuales no domésticas - ARnD tratadas, realizar monitoreos fisicoquímicos y microbiológicos de las aguas subterráneas en cada uno de los pozos de observación/piezómetros instalados, dando cumplimento a las siguientes condiciones: \n \na) Realizar la toma de muestras puntuales y análisis de parámetros fisicoquímicos y biológicos establecidos en el artículo 2.2.3.3.4.9 del Decreto 1076 de 2015, o aquel que lo modifique o sustituya, y complementarlo con los parámetros adicionales incluidos en la Tabla 8 de los TdR de PPII. \nb) Calcular y presentar el valor del error analítico de las muestras en los Informes de Cumplimiento Ambiental – ICA. El error analítico de aceptación de las muestras será de ±15%. A su vez, deberá emplear relaciones interparamétricas justificando la validez de la muestra. \nc) Realizar la toma de muestras siguiendo la Guía para el Monitoreo de Vertimientos, Aguas Superficiales y Subterráneas del 2002 del IDEAM o aquella que lo modifique o sustituya. \nd) Realizar los monitoreos a través de laboratorios acreditados por el IDEAM, tanto para la toma de la muestra, como para el análisis de los parámetros monitoreados. Presentar los certificados en los Informes de Cumplimiento Ambiental - ICA. \ne) Llevar un registro del nivel freático de cada pozo de observación/piezómetro de la red instalada, con el fin de analizar la variación del nivel freático del área de vertimiento, teniendo en cuenta el caudal vertido y el régimen de precipitación. Presentar los soportes en los Informes de Cumplimiento Ambiental – ICA. \nf) Presentar en los Informes de Cumplimiento Ambiental - ICA, los reportes de laboratorio, las cadenas de custodia y el análisis de resultados de monitoreos en una base temporal para cada variable, empleando gráficas de tendencia de concentración versus tiempo (actualizar las gráficas con la información recolectada en cada muestreo).  \ng) Presentar la información consolidada de los monitoreos en los respectivos Informes de Cumplimiento Ambiental - ICA de acuerdo con el modelo de almacenamiento geográfico establecido en la Resolución 2182 del 2016 del MADS, o aquella norma que la modifique o sustituya, y/o el modelo de almacenamiento geográfico complementario para los PPII - YNC publicado en el micrositio de esta autoridad destinado para los Proyectos Piloto de Investigación Integral de Yacimientos no Convencionales."},{"$f":"PPII_YNC!F61","v":"N/A"},{"$f":"PPII_YNC!G61","v":"Aplica"},{"$f":"PPII_YNC!H61","v":"Aplica"},{"$f":"PPII_YNC!I61","v":"N/A"},{"$f":"PPII_YNC!J61","v":"Aplica"},{"$f":"PPII_YNC!K61","v":"Permanente"}]
[{"$f":"PPII_YNC!D62","v":0},{"$f":"PPII_YNC!B62","v":"VERTIMIENTO EN \nSUELO DE ARD y ARnD"},{"$f":"PPII_YNC!E62","v":"Para aguas residuales domésticas - ARD tratadas, realizar monitoreos fisicoquímicos y microbiológicos de las aguas subterráneas en cada uno de los pozos de observación/piezómetros instalados, dando cumplimento a las siguientes condiciones: \n \na) Realizar la toma de muestras puntuales y análisis de parámetros fisicoquímicos y biológicos establecidos en el artículo 2.2.3.3.4.9 del Decreto 1076 de 2015, o aquel que lo modifique o sustituya.  \nb) Calcular y presentar el valor del error analítico de las muestras en los Informes de Cumplimiento Ambiental – ICA. El error analítico de aceptación de las muestras será de ±15%. A su vez, deberá emplear relaciones interparamétricas justificando la validez de la muestra. \nc) Realizar la toma de muestras siguiendo la Guía para el Monitoreo de Vertimientos, Aguas Superficiales y Subterráneas del 2002 del IDEAM o aquella que lo modifique o sustituya. \nd) Realizar los monitoreos a través de laboratorios acreditados por el IDEAM, tanto para la toma de la muestra, como para el análisis de los parámetros monitoreados. Presentar los certificados en los Informes de Cumplimiento Ambiental - ICA. \ne) Llevar un registro del nivel freático de cada pozo de observación/piezómetro de la red instalada, con el fin de analizar la variación del nivel freático del área de vertimiento, teniendo en cuenta el caudal vertido y el régimen de precipitación. Presentar los soportes en los Informes de Cumplimiento Ambiental – ICA. \nf) Presentar en los Informes de Cumplimiento Ambiental - ICA, los reportes de laboratorio, las cadenas de custodia y el análisis de resultados de monitoreos en una base temporal para cada variable, empleando gráficas de tendencia de concentración versus tiempo (actualizar las gráficas con la información recolectada en cada muestreo). \ng) Presentar la información consolidada de los monitoreos en los respectivos Informes de Cumplimiento Ambiental - ICA de acuerdo con el modelo de almacenamiento geográfico establecido en la Resolución 2182 del 2016 del MADS, o aquella norma que la modifique o sustituya, y/o el modelo de almacenamiento geográfico complementario para los PPII - YNC publicado en el micrositio de esta autoridad destinado para los Proyectos Piloto de Investigación Integral de Yacimientos no Convencionales."},{"$f":"PPII_YNC!F62","v":"N/A"},{"$f":"PPII_YNC!G62","v":"Aplica"},{"$f":"PPII_YNC!H62","v":"Aplica"},{"$f":"PPII_YNC!I62","v":"N/A"},{"$f":"PPII_YNC!J62","v":"Aplica"},{"$f":"PPII_YNC!K62","v":"Permanente"}]
[{"$f":"PPII_YNC!D63","v":0},{"$f":"PPII_YNC!B63","v":"VERTIMIENTO EN \nSUELO DE ARD y ARnD"},{"$f":"PPII_YNC!E63","v":"Realizar monitoreos de las aguas residuales no domésticas - ARnD a la entrada y salida del sistema de tratamiento, mediante un muestreo compuesto de 24 horas (o durante el tiempo en que se realice el vertimiento) con mediciones horarias, dando cumplimiento a las siguientes condiciones:\n\na) Realizar el monitoreo del vertimiento de conformidad con lo establecido en la Guía para el Monitoreo de Vertimientos, Aguas Superficiales y Subterráneas del 2002 del IDEAM, o cualquiera que la modifique o sustituya.\nb) Realizar los monitoreos a través de laboratorios acreditados por el IDEAM, tanto para la toma de la muestra, como para el análisis de los parámetros monitoreados, y presentar los certificados en los Informes de Cumplimiento Ambiental - ICA.\nc) Presentar la información del vertimiento en los respectivos Informes de Cumplimiento Ambiental - ICA de acuerdo con el modelo de almacenamiento geográfico establecido en la Resolución 2182 del 2016 del MADS, o aquella norma que la modifique o sustituya, y/o el modelo de almacenamiento geográfico complementario para los PPII - YNC publicado en el micrositio de esta autoridad destinado para los Proyectos Piloto de Investigación Integral de Yacimientos no Convencionales."},{"$f":"PPII_YNC!F63","v":"N/A"},{"$f":"PPII_YNC!G63","v":"Aplica"},{"$f":"PPII_YNC!H63","v":"Aplica"},{"$f":"PPII_YNC!I63","v":"N/A"},{"$f":"PPII_YNC!J63","v":"Aplica"},{"$f":"PPII_YNC!K63","v":"Permanente"}]
[{"$f":"PPII_YNC!D64","v":0},{"$f":"PPII_YNC!B64","v":"VERTIMIENTO EN \nSUELO DE ARD y ARnD"},{"$f":"PPII_YNC!E64","v":"Realizar monitoreos de las aguas residuales domésticas - ARD a la entrada y salida del sistema de tratamiento, mediante un muestreo compuesto de 24 horas (o durante el tiempo en que se realice el vertimiento) con mediciones horarias, dando cumplimiento a las siguientes condiciones:\n\na) Realizar el monitoreo del vertimiento de conformidad con lo establecido en la Guía para el Monitoreo de Vertimientos, Aguas Superficiales y Subterráneas del 2002 del IDEAM, o cualquiera que la modifique o sustituya.\nb) Realizar la toma de muestras puntuales y análisis de parámetros establecidos en la Resolución 699 del 06 de julio de 2021, o aquel que lo modifique, derogue o sustituya, en cada área de disposición. \nc) Presentar la información del vertimiento en los respectivos Informes de Cumplimiento Ambiental - ICA de acuerdo con el modelo de almacenamiento geográfico establecido en la Resolución 2182 del 2016 del MADS, o aquella norma que la modifique o sustituya, y/o el modelo de almacenamiento geográfico complementario para los PPII - YNC publicado en el micrositio de esta autoridad destinado para los Proyectos Piloto de Investigación Integral de Yacimientos no Convencionales."},{"$f":"PPII_YNC!F64","v":"N/A"},{"$f":"PPII_YNC!G64","v":"Aplica"},{"$f":"PPII_YNC!H64","v":"Aplica"},{"$f":"PPII_YNC!I64","v":"N/A"},{"$f":"PPII_YNC!J64","v":"N/A"},{"$f":"PPII_YNC!K64","v":"Permanente"}]
[{"$f":"PPII_YNC!D65","v":0},{"$f":"PPII_YNC!B65","v":"VERTIMIENTO EN \nSUELO DE ARnD"},{"$f":"PPII_YNC!E65","v":"Actualizar y validar semestralmente el modelo numérico del flujo y transporte de solutos en el suelo para aguas residuales no domésticas del que trata el artículo 2.2.3.3.4.9 del Decreto 1076 de 2015, o la norma que lo modifique o sustituya, y presentar los respectivos soportes en los respectivos Informes de Cumplimiento Ambiental - ICA. "},{"$f":"PPII_YNC!F65","v":"N/A"},{"$f":"PPII_YNC!G65","v":"Aplica"},{"$f":"PPII_YNC!H65","v":"Aplica"},{"$f":"PPII_YNC!I65","v":"N/A"},{"$f":"PPII_YNC!J65","v":"Aplica"},{"$f":"PPII_YNC!K65","v":"Permanente"}]
[{"$f":"PPII_YNC!D66","v":0},{"$f":"PPII_YNC!B66","v":"VERTIMIENTO EN \nSUELO DE ARD y ARnD"},{"$f":"PPII_YNC!E66","v":"Mantener actualizado el \"Formato de Hoja de Vida de Pozo de Observación/Piezómetro - Aguas Subterráneas\" de cada pozo instalado, los cuales se presentarán en los respectivos Informes de Cumplimiento Ambiental - ICA."},{"$f":"PPII_YNC!F66","v":"N/A"},{"$f":"PPII_YNC!G66","v":"Aplica"},{"$f":"PPII_YNC!H66","v":"Aplica"},{"$f":"PPII_YNC!I66","v":"N/A"},{"$f":"PPII_YNC!J66","v":"Aplica"},{"$f":"PPII_YNC!K66","v":"Permanente"}]
[{"$f":"PPII_YNC!D67","v":0},{"$f":"PPII_YNC!B67","v":"VERTIMIENTO EN \nSUELO DE ARD y ARnD"},{"$f":"PPII_YNC!E67","v":"No desarrollar las actividades de vertimiento cuando se presenten las situaciones de las que trata el artículo 2.2.3.3.4.15 del Decreto 1076 de 2015, o la norma que lo modifique o sustituya, e informar a la autoridad ambiental regional y a la ANLA, dentro de las 24 h posteriores a la situación y por los medios legalmente establecidos, sobre la suspensión de actividades y/o la puesta en marcha del Plan de Gestión del Riesgo para el Manejo de Vertimientos, cuando la reparación y reinicio de los sistemas de tratamiento requieran más de tres (3) horas diarias."},{"$f":"PPII_YNC!F67","v":"N/A"},{"$f":"PPII_YNC!G67","v":"Aplica"},{"$f":"PPII_YNC!H67","v":"Aplica"},{"$f":"PPII_YNC!I67","v":"N/A"},{"$f":"PPII_YNC!J67","v":"Aplica"},{"$f":"PPII_YNC!K67","v":"Permanente"}]
[{"$f":"PPII_YNC!D68","v":0},{"$f":"PPII_YNC!B68","v":"VERTIMIENTO EN \nSUELO DE ARD y ARnD"},{"$f":"PPII_YNC!E68","v":"Presentar en los Informes de Cumplimiento Ambiental - ICA, los soportes que evidencien las actividades de mantenimiento preventivo o correctivo efectuadas al sistema de tratamiento de aguas residuales (minuta u hoja de vida del sistema de tratamiento e informes de disposición de lodos producto del mantenimiento), en cumplimiento del artículo 2.2.3.3.4.16 del Decreto 1076 de 2015, o la norma que lo modifique o sustituya."},{"$f":"PPII_YNC!F68","v":"N/A"},{"$f":"PPII_YNC!G68","v":"Aplica"},{"$f":"PPII_YNC!H68","v":"Aplica"},{"$f":"PPII_YNC!I68","v":"N/A"},{"$f":"PPII_YNC!J68","v":"Aplica"},{"$f":"PPII_YNC!K68","v":"Permanente"}]
[{"$f":"PPII_YNC!D69","v":0},{"$f":"PPII_YNC!B69","v":"VERTIMIENTO EN \nSUELO DE ARD y ARnD"},{"$f":"PPII_YNC!E69","v":"Instalar un aviso informativo de fácil visibilidad en el lugar del vertimiento autorizado, el cual incluya la información de la licencia ambiental respecto al permiso de vertimiento: número y fecha de la resolución que otorga el permiso de vertimiento, titular de la licencia, información de contacto, coordenadas del punto de vertimiento autorizado en la resolución y  caudal del vertimiento autorizado (l/s) y el sitio web de la empresa donde la comunidad puede consultar los resultados de los monitoreos."},{"$f":"PPII_YNC!F69","v":"N/A"},{"$f":"PPII_YNC!G69","v":"Aplica"},{"$f":"PPII_YNC!H69","v":"Aplica"},{"$f":"PPII_YNC!I69","v":"N/A"},{"$f":"PPII_YNC!J69","v":"Aplica"},{"$f":"PPII_YNC!K69","v":"Temporal"}]
[{"$f":"PPII_YNC!D70","v":0},{"$f":"PPII_YNC!B70","v":"SUELO"},{"$f":"PPII_YNC!E70","v":"Realizar monitoreo de los siguientes parámetros: textura (porcentaje de arena, limo y arcilla), densidad real, densidad aparente, materia orgánica, pH, cloruros, conductividad eléctrica, capacidad de intercambio catiónico, grasas y aceites, bario, cadmio, mercurio, bacterias totales, y HTP, en el recurso suelo en puntos próximos a la plataforma. La técnica de determinación con la cual se analicen los parámetros deberá realizarse con base en la técnica utilizada para el levantamiento de línea base. Presentar la información de los monitoreos en el recurso suelo conforme el modelo de almacenamiento geográfico establecido en la Resolución 2182 del 2016 del MADS, o aquella norma que la modifique o sustituya, y/o el modelo de almacenamiento geográfico complementario para los PPII - YNC publicado en el micrositio de esta autoridad destinado para los Proyectos Piloto de Investigación Integral de Yacimientos no Convencionales. Adicionalmente presentar en los Informes de Cumplimiento Ambiental - ICA los reportes de laboratorio, el análisis de resultados y la comparación con los datos de línea base y con los límites genéricos basados en riesgos (LGBR) de la EPA (https://www.epa.gov/risk/regional-screening-levels-rsls-generic-tables)."},{"$f":"PPII_YNC!F70","v":"N/A"},{"$f":"PPII_YNC!G70","v":"N/A"},{"$f":"PPII_YNC!H70","v":"Aplica"},{"$f":"PPII_YNC!I70","v":"Aplica"},{"$f":"PPII_YNC!J70","v":"N/A"},{"$f":"PPII_YNC!K70","v":"Permanente"}]
[{"$f":"PPII_YNC!D71","v":0},{"$f":"PPII_YNC!B71","v":"VIGILANCIA RADIOLÓGICA"},{"$f":"PPII_YNC!E71","v":"Realizar el seguimiento de las fuentes naturales de radiación ionizante bajo las siguientes condiciones:\n\na) El seguimiento de los radioisótopos debe realizarse en los mismos puntos y áreas en donde se determinó la línea base (fondo natural) en los componentes (aire, suelo, agua superficial y agua subterránea) y en donde habrá presencia de los fluidos de retorno o agua de producción (áreas de pozo, almacenamiento, tratamiento o disposición) o almacenamiento de tubería de perforación, así como otros elementos que puedan contener materiales radiactivos de origen natural.\nb) Caracterizar los elementos radiactivos establecidos en la Tabla 11 de los Términos de Referencia de PPII por componente de acuerdo con los \"Lineamientos técnicos para el procedimiento de muestreo y análisis de laboratorio de materiales radiactivos de origen natural en los PPII\" del SGC. En todos los puntos y áreas caracterizadas en literal a) de la presente obligación, se debe determinar y reportar el nivel de radiación (tasa de dosis) expresada en µSv/h.\nc) En todos los puntos y áreas caracterizadas en literal a) de la presente obligación, se debe calcular y reportar el nivel de radiación resultante expresada en µSv/h (Tasa de dosis actual – Tasa de Fondo Natural), comparando los resultados con los Criterios de vigilancia radiológica del Ministerio de Minas y Energía.\nd) Posterior al fracturamiento del primer pozo se debe reportar diariamente a través de correo electrónico centromonitoreo@anla.gov.co los niveles de radiación (tasa de dosis) expresada en µSv/h determinados bajo el programa de vigilancia radiológica.\ne) Presentar los resultados de la caracterización conforme al modelo de almacenamiento geográfico complementario PPII - YNC publicado en el micrositio de esta autoridad destinado para los Proyectos Piloto de Investigación Integral de Yacimientos no Convencionales. Adicionalmente, presentar en los Informes de Cumplimiento Ambiental - ICA el análisis de los resultados y su comparación con las concentraciones caracterizadas en la línea base para cada componente por pozo fracturado.\nf) Realizar los monitoreos a través de laboratorios acreditados por el IDEAM, tanto para la toma de la muestra, como para el análisis de los parámetros monitoreados. En caso de que no existan laboratorios nacionales acreditados para el análisis de algún(os) parámetro(s), los laboratorios acreditados por el IDEAM podrán enviar la muestra a un laboratorio internacional acreditado en su país de origen o por un estándar internacional, mientras se surte el proceso de acreditación en los laboratorios nacionales. Presentar dichos soportes en los Informes de Cumplimiento Ambiental - ICA.\ng) Reportar las acciones en torno al manejo y control de la radiactividad desde las fuentes contaminantes hacia los potenciales receptores a través de los medios de exposición.\n\nParágrafo: Las acciones de manejo y control relacionadas con la excedencia de los límites que establezca el Ministerio de Minas y Energía sobre los componentes, están sujetos a los criterios establecidos en el documento \"Criterios de vigilancia radiológica durante el desarrollo de los Proyectos Piloto de Investigación Integral, PPII, en Yacimientos no Convencionales de Hidrocarburos a través de la técnica de Fracturamiento Hidráulico Multietapa con Perforación Horizontal\" del Grupo de Energías no Convencionales y Asuntos Nucleares (GENCAN) de dicho Ministerio. "},{"$f":"PPII_YNC!F71","v":"N/A"},{"$f":"PPII_YNC!G71","v":"N/A"},{"$f":"PPII_YNC!H71","v":"Aplica"},{"$f":"PPII_YNC!I71","v":"Aplica"},{"$f":"PPII_YNC!J71","v":"N/A"},{"$f":"PPII_YNC!K71","v":"Permanente"}]
[{"$f":"PPII_YNC!D72","v":0},{"$f":"PPII_YNC!B72","v":"ISÓTOPOS"},{"$f":"PPII_YNC!E72","v":"Realizar el monitoreo y seguimiento isotópico bajo las siguientes condiciones:\n\t\na) Monitorear los isótopos 2H, 18O, 3H y/o CFC´s de manera mensual en el agua meteórica, superficial y subterránea. Para el agua subterránea monitorear todos los niveles acuíferos hasta la base hidrogeológica regional. En caso de que la base hidrogeológica regional no haya sido definida por parte del ente competente, se deberá realizar monitoreo hasta 100 m por debajo de los niveles acuíferos productivos.  \nb) Los isótopos 13C y 14C deben monitorearse previo al fracturamiento y finalizada la etapa concomitante en todos los niveles acuíferos hasta la formación objeto de fracturamiento.\nc) Para el fluido de fracturamiento muestrear los isótopos 2H y 18O previo a cada etapa de fracturamiento. Nota: En etapa de evaluación no aplica el muestreo de isótopos en el fluido de fracturamiento.\nd) Para cada etapa de fracturamiento para el fluido de retorno monitorear los isótopos 2H y 18O. Nota: En etapa de evaluación no aplica este monitoreo de isótopos.\ne) Para el agua de producción monitorear mensualmente los isótopos 2H y 18O.\nf) La información de los monitoreos isotópicos de todos los componentes deberá emplearse para actualizar el modelo hidrogeológico conceptual.\ng) Presentar un análisis comparativo e interpretación de la composición isotópica en la matriz hidrogeológica, así como del fluido de fracturamiento y de las aguas de producción y fluidos de retorno, a su vez para el análisis de los resultados de los isotopos estables se debe hacer una relación con la precipitación analizando los efectos latitudinales, continentales, estacionales y de intensidad. Como parte de la interpretación de los resultados isotópicos, se deberán construir curvas de 2H y O18 vs altura y realizar una interpretación conjunta de datos fisicoquímicos e isotópicos. La anterior información deberá ser presentada en los respectivos Informes de Cumplimiento Ambiental – ICA.\nh) Realizar los monitoreos a través de laboratorios acreditados por el IDEAM, tanto para la toma de la muestra, como para el análisis de los parámetros monitoreados. En caso de que no existan laboratorios nacionales acreditados para el análisis de algún(os) parámetro(s), los laboratorios acreditados por el IDEAM podrán enviar la muestra a un laboratorio internacional acreditado en su país de origen o por un estándar internacional, mientras se surte el proceso de acreditación en los laboratorios nacionales. Presentar dichos soportes en los Informes de Cumplimiento Ambiental - ICA.\ni) Almacenar la información obtenida de los monitoreos, de acuerdo con el modelo de almacenamiento geográfico establecido en la Resolución 2182 de 2016 del MADS, o la que la modifique o sustituya, y/o el modelo de almacenamiento geográfico complementario PPII - YNC publicado en el micrositio de esta autoridad destinado para los Proyectos Piloto de Investigación Integral de Yacimientos no Convencionales. "},{"$f":"PPII_YNC!F72","v":"N/A"},{"$f":"PPII_YNC!G72","v":"Aplica"},{"$f":"PPII_YNC!H72","v":"Aplica"},{"$f":"PPII_YNC!I72","v":"Aplica"},{"$f":"PPII_YNC!J72","v":"N/A"},{"$f":"PPII_YNC!K72","v":"Permanente"}]
[{"$f":"PPII_YNC!D73","v":0},{"$f":"PPII_YNC!B73","v":"APROVECHAMIENTO FORESTAL"},{"$f":"PPII_YNC!E73","v":"Reportar en los informes de cumplimiento ambiental - ICA - el inventario forestal e informe detallado del aprovechamiento forestal adelantado durante el periodo a ser reportado. Presentar la información documental conforme a los lineamientos establecidos en el Manual de Seguimiento Ambiental de Proyectos y bajo el modelo de almacenamiento geográfico adoptado en la Resolución 2182 del 23 de diciembre de 2016, o aquella que la modifique o sustituya. Detallar en cada informe volúmenes totales y comerciales de aprovechamiento forestal efectivamente removidos por tipo de obra y tipo de cobertura, volúmenes acumulados (Cuando el aprovechamiento forestal se reporta en varios ICA´s), individuos arbóreos aprovechados (nombre común, nombre científico y familia de la especie) con la respectiva ubicación en coordenadas planas con datum y origen, y el área de aprovechamiento (municipio, vereda, predio y polígono de aprovechamiento)."},{"$f":"PPII_YNC!F73","v":"N/A"},{"$f":"PPII_YNC!G73","v":"Aplica"},{"$f":"PPII_YNC!H73","v":"N/A"},{"$f":"PPII_YNC!I73","v":"N/A"},{"$f":"PPII_YNC!J73","v":"N/A"},{"$f":"PPII_YNC!K73","v":"Temporal"}]
[{"$f":"PPII_YNC!D74","v":0},{"$f":"PPII_YNC!B74","v":"APROVECHAMIENTO FORESTAL"},{"$f":"PPII_YNC!E74","v":"Cuando se requiera de la remoción de árboles aislados en un volumen igual o menor a veinte metros cúbicos (20 m³) de conformidad con el articulo 2.2.1.1.9.6. del Decreto 1076 de 2015, o la norma que lo modifique o sustituya, el titular de la licencia reportará las actividades adelantadas en el respectivo informe de cumplimiento ambiental y no podrá superar el volumen mencionado durante el desarrollo de todas las actividades contempladas en el proyecto."},{"$f":"PPII_YNC!F74","v":"N/A"},{"$f":"PPII_YNC!G74","v":"Aplica"},{"$f":"PPII_YNC!H74","v":"Aplica"},{"$f":"PPII_YNC!I74","v":"N/A"},{"$f":"PPII_YNC!J74","v":"N/A"},{"$f":"PPII_YNC!K74","v":"Temporal"}]
[{"$f":"PPII_YNC!D75","v":0},{"$f":"PPII_YNC!B75","v":"APROVECHAMIENTO FORESTAL"},{"$f":"PPII_YNC!E75","v":"Disponer los residuos vegetales resultantes de las actividades de aprovechamiento forestal (hojas, ramas, raíces) de tal forma que no se intervenga en la dinámica natural de ecosistemas estratégicos o drenajes naturales, dando cumplimiento a lo establecido en las medidas del Plan de Manejo Ambiental y documentando su implementación y georreferenciación en los Informes de Cumplimiento Ambiental - ICA respectivos."},{"$f":"PPII_YNC!F75","v":"N/A"},{"$f":"PPII_YNC!G75","v":"Aplica"},{"$f":"PPII_YNC!H75","v":"N/A"},{"$f":"PPII_YNC!I75","v":"N/A"},{"$f":"PPII_YNC!J75","v":"N/A"},{"$f":"PPII_YNC!K75","v":"Temporal"}]
[{"$f":"PPII_YNC!D76","v":0},{"$f":"PPII_YNC!B76","v":"APROVECHAMIENTO FORESTAL"},{"$f":"PPII_YNC!E76","v":"No realizar quemas a cielo abierto de los productos, subproductos y/o residuos vegetales resultantes del aprovechamiento forestal."},{"$f":"PPII_YNC!F76","v":"N/A"},{"$f":"PPII_YNC!G76","v":"Aplica"},{"$f":"PPII_YNC!H76","v":"N/A"},{"$f":"PPII_YNC!I76","v":"N/A"},{"$f":"PPII_YNC!J76","v":"N/A"},{"$f":"PPII_YNC!K76","v":"Permanente"}]
[{"$f":"PPII_YNC!D77","v":0},{"$f":"PPII_YNC!B77","v":"APROVECHAMIENTO FORESTAL"},{"$f":"PPII_YNC!E77","v":"Dar cumplimiento a lo establecido en las medidas de manejo aprobadas en el presente acto administrativo, tendientes a garantizar la protección y conservación, mediante las alternativas existentes para tal fin, de las especies endémicas o en alguna categoría de amenaza de acuerdo con la lista roja de la UICN, los libros rojos de los institutos de investigación Humboldt y SINCHI, la Resolución 1912 del 15 de septiembre de 2017 o aquellas que la modifiquen o sustituyan, o que se encuentren en algún apéndice del CITES (Convenio sobre el comercio internacional de especies amenazadas). Documentar y presentar su implementación en los informes de cumplimiento ambiental - ICA-, incluyendo la respectiva georreferenciación y registro fotográfico."},{"$f":"PPII_YNC!F77","v":"Aplica"},{"$f":"PPII_YNC!G77","v":"Aplica"},{"$f":"PPII_YNC!H77","v":"Aplica"},{"$f":"PPII_YNC!I77","v":"N/A"},{"$f":"PPII_YNC!J77","v":"N/A"},{"$f":"PPII_YNC!K77","v":"Permanente"}]
[{"$f":"PPII_YNC!D78","v":0},{"$f":"PPII_YNC!B78","v":"APROVECHAMIENTO FORESTAL"},{"$f":"PPII_YNC!E78","v":"Los productos obtenidos del aprovechamiento forestal no podrán ser comercializados y solo podrán ser utilizados en las actividades propias del proyecto y/o entregarse a titulo de donación, determinando de manera prevalente como titular al propietario del predio o a las comunidades, organizaciones sociales y/o autoridades territoriales del área de influencia. El destino de los productos (uso y/o donación) estará soportado mediante actas de donación o reportes de su uso en actividades del proyecto, según corresponda adjuntando registro fotográfico, los cuales serán incluidos  en los informes de cumplimiento ambiental - ICA- respectivos."},{"$f":"PPII_YNC!F78","v":"N/A"},{"$f":"PPII_YNC!G78","v":"Aplica"},{"$f":"PPII_YNC!H78","v":"N/A"},{"$f":"PPII_YNC!I78","v":"N/A"},{"$f":"PPII_YNC!J78","v":"N/A"},{"$f":"PPII_YNC!K78","v":"Temporal"}]
[{"$f":"PPII_YNC!D79","v":0},{"$f":"PPII_YNC!B79","v":"RECOLECCIÓN DE ESPECÍMENES DE ESPECIES SILVESTRES DE LA BIODIVERSIDAD"},{"$f":"PPII_YNC!E79","v":"Presentar en el respectivo informe de cumplimiento ambiental - ICA - las actividades realizadas de recolección, incluyendo la relación del material recolectado, removido o extraído temporal o definitivamente del medio silvestre y la metodología implementada. Presentar la información documental conforme a los lineamientos establecidos en el Manual de Seguimiento Ambiental de Proyectos y de acuerdo con el modelo de almacenamiento geográfico establecido en la Resolución 2182 de 2016 del MADS, o la que la modifique o sustituya, y/o el modelo de almacenamiento geográfico complementario para los PPII - YNC publicado en el micrositio de esta autoridad destinado para los Proyectos Piloto de Investigación Integral de Yacimientos no Convencionales. "},{"$f":"PPII_YNC!F79","v":"Aplica"},{"$f":"PPII_YNC!G79","v":"Aplica"},{"$f":"PPII_YNC!H79","v":"Aplica"},{"$f":"PPII_YNC!I79","v":"N/A"},{"$f":"PPII_YNC!J79","v":"Aplica"},{"$f":"PPII_YNC!K79","v":"Permanente"}]
[{"$f":"PPII_YNC!D80","v":0},{"$f":"PPII_YNC!B80","v":"BIODIVERSIDAD"},{"$f":"PPII_YNC!E80","v":"Monitorear los mismos niveles de organización (poblaciones, comunidades y ecosistemas) y grupos taxonómicos reportados en línea base, bajo las siguientes condiciones:\n\na) Los monitoreos deben realizarse desde la fase de construcción y/o adecuación de los pozos para los PPII de YNC bajo la misma escala espacial y temporal de los realizados en otros componentes (muestreo acústico, anfibios y entomofauna con monitoreos de ruido, comunidades hidrobiológicas y microorganismos con monitoreos de aguas superficiales, macroinvertebrados con sedimentos, microorganismos con monitoreos del recurso suelo) hasta como mínimo, haya finalizado la etapa de evaluación referida en el Decreto 328 del 2020.\nb) Los monitoreos deben hacerse en el área de influencia del medio biótico y en las zonas de referencia seleccionadas, las cuales deben contar con condiciones semejantes en cuanto a sus características socio-ecosistémicas.\nc) Presentar la información de los monitoreos de acuerdo con el modelo de almacenamiento geográfico establecido en la Resolución 2182 de 2016 del MADS, o la que la modifique o sustituya, y/o el modelo de almacenamiento geográfico complementario para los PPII - YNC publicado en el micrositio de esta autoridad destinado para los Proyectos Piloto de Investigación Integral de Yacimientos no Convencionales. \nd) Presentar los resultados de los monitoreos y análisis de la información obtenida relacionándola con las actividades desarrolladas por el proyecto en los respectivos Informes de Cumplimiento Ambiental - ICA."},{"$f":"PPII_YNC!F80","v":"N/A"},{"$f":"PPII_YNC!G80","v":"Aplica"},{"$f":"PPII_YNC!H80","v":"Aplica"},{"$f":"PPII_YNC!I80","v":"Aplica"},{"$f":"PPII_YNC!J80","v":"N/A"},{"$f":"PPII_YNC!K80","v":"Permanente"}]
[{"$f":"PPII_YNC!D81","v":0},{"$f":"PPII_YNC!B81","v":"FAUNA"},{"$f":"PPII_YNC!E81","v":"Presentar un estudio ecológico de los sitios de reubicación y ahuyentamiento de fauna, en el primer Informe de Cumplimiento Ambiental - ICA de la fase constructiva para que sea objeto de análisis y aprobación, el cual incluya:\n\ni) Oferta de hábitat.\nii) Tipo de cobertura vegetal.\niii) Rutas de fuga, corredores biológicos, área y accesibilidad.\niv) Análisis de la capacidad de carga de los ecosistemas que recibirán las especies de fauna. Se podrán emplear especies focales a partir de los impactos generados por el proyecto. \nv) Plan de seguimiento y monitoreo que incluya acciones e indicadores que permitan corroborar la efectividad y pertinencia a nivel de individuos reubicados, poblaciones y hábitat.\nvi) Dichas áreas deberán encontrarse dentro del área de influencia del proyecto, en caso de que no sea posible, justificar las razones de la selección en sitios fuera de la misma."},{"$f":"PPII_YNC!F81","v":"N/A"},{"$f":"PPII_YNC!G81","v":"Aplica"},{"$f":"PPII_YNC!H81","v":"N/A"},{"$f":"PPII_YNC!I81","v":"N/A"},{"$f":"PPII_YNC!J81","v":"N/A"},{"$f":"PPII_YNC!K81","v":"Temporal"}]
[{"$f":"PPII_YNC!D82","v":0},{"$f":"PPII_YNC!B82","v":"FAUNA"},{"$f":"PPII_YNC!E82","v":"Realizar actividades de ahuyentamiento, rescate y/o reubicación de los diferentes individuos de especies de fauna silvestre presentes en áreas intervenidas por el proyecto. Documentar la localización de los sitios de reubicación de fauna y actividades ejecutadas en cada Informe de Cumplimiento Ambiental - ICA, haciendo uso del modelo de almacenamiento geográfico establecido en la Resolución 2182 de 2016 del MADS, o aquella norma que la modifique o sustituya,  "},{"$f":"PPII_YNC!F82","v":"N/A"},{"$f":"PPII_YNC!G82","v":"Aplica"},{"$f":"PPII_YNC!H82","v":"Aplica"},{"$f":"PPII_YNC!I82","v":"Aplica"},{"$f":"PPII_YNC!J82","v":"Aplica"},{"$f":"PPII_YNC!K82","v":"Permanente"}]
[{"$f":"PPII_YNC!D83","v":0},{"$f":"PPII_YNC!B83","v":"FAUNA"},{"$f":"PPII_YNC!E83","v":"Realizar seguimiento a los grupos de fauna, con la periodicidad aprobada por esta Autoridad para el seguimiento y monitoreo descrito en el plan de compensación del medio biótico, en áreas en donde se adelanten actividades aprobadas en dicho plan, en cuanto a la composición, abundancia y estructura de los diferentes grupos taxonómicos, a partir de la implementación de metodologías y variables presentadas en el Estudio de Impacto Ambiental, considerando como mínimo las siguientes condiciones:\n\na) Establecer una red de monitoreo para los diferentes grupos taxonómicos referenciados en el EIA.\nb) Realizar análisis multitemporales y espaciales.\nc) Identificar posibles corredores de movilidad.\nd) Identificar posibles conflictos con las comunidades aledañas.\ne) Evaluar la pertinencia de complementar y/o modificar las medidas de manejo establecidas.\n\nReportar los resultados en los respectivos Informes de Cumplimiento Ambiental - ICA."},{"$f":"PPII_YNC!F83","v":"N/A"},{"$f":"PPII_YNC!G83","v":"Aplica"},{"$f":"PPII_YNC!H83","v":"Aplica"},{"$f":"PPII_YNC!I83","v":"Aplica"},{"$f":"PPII_YNC!J83","v":"Aplica"},{"$f":"PPII_YNC!K83","v":"Permanente"}]
[{"$f":"PPII_YNC!D84","v":0},{"$f":"PPII_YNC!B84","v":"FAUNA"},{"$f":"PPII_YNC!E84","v":"Realizar seguimiento a los grupos de fauna del área de influencia del proyecto, con una frecuencia (definir la frecuencia de acuerdo con el criterio de los evaluadores para el proyecto), respecto a composición, abundancia y estructura de los diferentes grupos taxonómicos, a partir de las metodologías y variables presentadas en el Estudio de Impacto Ambiental EIA, considerando como mínimo las siguientes condiciones:\n\na) Establecer una red de monitoreo para los diferentes grupos taxonómicos referenciados en el EIA.\nb) Realizar análisis multitemporales y espaciales.\nc) Identificar posibles corredores de movilidad.\nd) Identificar posibles conflictos con las comunidades aledañas.\ne) Evaluar la pertinencia de complementar y/o modificar las medidas de manejo establecidas.\n\nReportar los resultados en los respectivos Informes de Cumplimiento Ambiental - ICA."},{"$f":"PPII_YNC!F84","v":"N/A"},{"$f":"PPII_YNC!G84","v":"N/A"},{"$f":"PPII_YNC!H84","v":"Aplica"},{"$f":"PPII_YNC!I84","v":"N/A"},{"$f":"PPII_YNC!J84","v":"N/A"},{"$f":"PPII_YNC!K84","v":"Permanente"}]
[{"$f":"PPII_YNC!D85","v":0},{"$f":"PPII_YNC!B85","v":"FAUNA"},{"$f":"PPII_YNC!E85","v":"Incorporar en el Plan de Manejo Ambiental un sistema de pasos de fauna como una de las medidas de mitigación a los impactos de atropellamiento, mortalidad de fauna y efecto barrera para la dispersión, o su equivalente de acuerdo con el ejercicio de jerarquización de impactos ambientales. El sistema de pasos de fauna deberá ser objeto de diseño, construcción y mantenimiento con base en los análisis de conectividad funcional, las obras de drenaje adaptadas a la movilidad de las especies, estructuras disuasivas y de encauzamiento, y la cobertura vegetal existente asociada o por restaurar, y demás criterios contemplados en los lineamientos de Infraestructura Verde Vial para Colombia (MADS, FCDS & WWF, 2020), el documento \"Atropellamiento de fauna silvestre en Colombia. Guía para entender y diagnosticar este impacto\" (Jaramillo-Fayad et al. 2021) y otras fuentes que sirvan de orientación para el diseño de este tipo de estructuras. Dicha información, deberá ser presentada en el primer Informe de Cumplimiento Ambiental - ICA de la fase constructiva.\n\nParágrafo: Para las vías existentes que se encuentren dentro del área de influencia del proyecto y que vayan a ser empleadas por el proyecto, se deberá tener en cuenta para el diseño del sistema de pasos de fauna un análisis de puntos calientes - hotspot, para determinar la susceptibilidad frente a los impacto de atropellamiento, mortalidad de fauna y efecto barrera para la dispersión, o su equivalente de acuerdo con el ejercicio de jerarquización de impactos ambientales."},{"$f":"PPII_YNC!F85","v":"N/A"},{"$f":"PPII_YNC!G85","v":"Aplica"},{"$f":"PPII_YNC!H85","v":"N/A"},{"$f":"PPII_YNC!I85","v":"N/A"},{"$f":"PPII_YNC!J85","v":"N/A"},{"$f":"PPII_YNC!K85","v":"Temporal"}]
[{"$f":"PPII_YNC!D86","v":0},{"$f":"PPII_YNC!B86","v":"FAUNA"},{"$f":"PPII_YNC!E86","v":"Realizar un seguimiento sistemático, estandarizado, representativo y adaptativo al cumplimiento y efectividad del sistema de pasos de fauna como medida de mitigación frente a los impactos de atropellamiento, mortalidad de fauna y efecto barrera para la dispersión, o su equivalente de acuerdo con el ejercicio de jerarquización de impactos ambientales, teniendo en cuenta los lineamientos de Infraestructura Verde Vial para Colombia (MADS, FCDS & WWF, 2020) y otras fuentes que sirvan de orientación para el monitoreo. Documentar las actividades de monitoreo en cada Informe de Cumplimiento Ambiental - ICA, haciendo uso del modelo de almacenamiento geográfico establecido en la Resolución 2182 de 2016 del MADS, o aquella norma que la modifique o sustituya, y/o el modelo de almacenamiento geográfico complementario para los PPII - YNC publicado en el micrositio de esta autoridad destinado para los Proyectos Piloto de Investigación Integral de Yacimientos no Convencionales.\n\nParágrafo: La efectividad de la medida se evaluará en función de dos aspectos, el primero relacionado directamente con el uso o no uso de los pasos de fauna y el segundo con la disminución en el atropellamiento o mortalidad de fauna sobre la vía, con el propósito de identificar la pertinencia de complementar y/o modificar la medida de manejo establecida."},{"$f":"PPII_YNC!F86","v":"N/A"},{"$f":"PPII_YNC!G86","v":"Aplica"},{"$f":"PPII_YNC!H86","v":"Aplica"},{"$f":"PPII_YNC!I86","v":"Aplica"},{"$f":"PPII_YNC!J86","v":"Aplica"},{"$f":"PPII_YNC!K86","v":"Permanente"}]
[{"$f":"PPII_YNC!D87","v":0},{"$f":"PPII_YNC!B87","v":"VEDAS"},{"$f":"PPII_YNC!E87","v":"Rescatar las especies vasculares en veda nacional bajo la Resolución 0213 de 1977 del INDERENA (orquídeas y bromelias) y garantizar un rescate y sobrevivencia porcentual por especie de conformidad con lo establecido en la siguiente tabla. Dichos porcentajes responden a características intrínsecas de cada especie (botánicas, fisiológicas, ecológicas, de distribución, grado de amenaza, endemismo y/o usos locales).\n\n[Incluir tabla de porcentajes por especies]\n\nEn los casos cuya determinación se haya realizado a nivel de familia, género o “confertus” y “affín”, se debe rescatar el 100% de los individuos, aplicando el principio de precaución, dadas las condiciones de riqueza, endemismo y amenaza de estos grupos taxonómicos en el país y el desconoccimiento de la identidad taxonómica de la especie registrada en el proyecto; por lo tanto, el porcentaje de sobrevivencia será diferencial, dado que depende principalmente de la capacidad de adaptación del género específico y de los requerimientos de hábitat puntuales, se debe garantizar una sobrevivencia del [establecer el porcentaje, entre el 70% y 80%]."},{"$f":"PPII_YNC!F87","v":"N/A"},{"$f":"PPII_YNC!G87","v":"Aplica"},{"$f":"PPII_YNC!H87","v":"N/A"},{"$f":"PPII_YNC!I87","v":"N/A"},{"$f":"PPII_YNC!J87","v":"N/A"},{"$f":"PPII_YNC!K87","v":"Permanente"}]
[{"$f":"PPII_YNC!D88","v":0},{"$f":"PPII_YNC!B88","v":"VEDAS"},{"$f":"PPII_YNC!E88","v":"Reportar en los respectivos Informes de Cumplimiento Ambiental - ICA, las actividades de seguimiento de especies vasculares rescatadas bajo el “Modelo base de datos de rescate de especies vasculares en veda nacional y preferencia de forofitos”, disponible en el sitio web: https://www.anla.gov.co/01_anla/proyectos/nuevo-licenciamiento-ambiental/elaboracion-ica-y-control-y-seguimiento"},{"$f":"PPII_YNC!F88","v":"N/A"},{"$f":"PPII_YNC!G88","v":"Aplica"},{"$f":"PPII_YNC!H88","v":"Aplica"},{"$f":"PPII_YNC!I88","v":"N/A"},{"$f":"PPII_YNC!J88","v":"N/A"},{"$f":"PPII_YNC!K88","v":"Permanente"}]
[{"$f":"PPII_YNC!D89","v":0},{"$f":"PPII_YNC!B89","v":"VEDAS"},{"$f":"PPII_YNC!E89","v":"Reportar en los respectivos Informes de Cumplimiento Ambiental - ICA, las actividades de seguimiento de especies vasculares trasladadas y reubicadas bajo la \"Modelo base de datos consolidada de seguimiento, monitoreo y mantenimiento de especies vasculares trasladadas y reubicadas”, disponible en el sitio web: https://www.anla.gov.co/01_anla/proyectos/nuevo-licenciamiento-ambiental/elaboracion-ica-y-control-y-seguimiento"},{"$f":"PPII_YNC!F89","v":"N/A"},{"$f":"PPII_YNC!G89","v":"Aplica"},{"$f":"PPII_YNC!H89","v":"Aplica"},{"$f":"PPII_YNC!I89","v":"N/A"},{"$f":"PPII_YNC!J89","v":"N/A"},{"$f":"PPII_YNC!K89","v":"Permanente"}]
[{"$f":"PPII_YNC!D90","v":0},{"$f":"PPII_YNC!B90","v":"VEDAS"},{"$f":"PPII_YNC!E90","v":"Realizar el cálculo del área de retribución por afectación a especies no vasculares y líquenes en veda bajo el instrumento de “Cálculo del área de retribución por afectación a especies no vasculares y líquenes en veda y sus criterios de evaluación”, disponible en el sitio web: https://www.anla.gov.co/01_anla/proyectos/nuevo-licenciamiento-ambiental/elaboracion-ica-y-control-y-seguimiento Reportar dicha información en el respectivo Informe de Cumplimiento Ambiental - ICA para evaluación y aprobación de esta autoridad."},{"$f":"PPII_YNC!F90","v":"N/A"},{"$f":"PPII_YNC!G90","v":"Aplica"},{"$f":"PPII_YNC!H90","v":"Aplica"},{"$f":"PPII_YNC!I90","v":"N/A"},{"$f":"PPII_YNC!J90","v":"N/A"},{"$f":"PPII_YNC!K90","v":"Permanente"}]
[{"$f":"PPII_YNC!D91","v":0},{"$f":"PPII_YNC!B91","v":"ADECUACIÓN DE VÍAS EXISTENTES DE APOYO AL PROYECTO"},{"$f":"PPII_YNC!E91","v":"Entregar en los respectivos Informes de Cumplimiento Ambiental - ICA copia de las autorizaciones necesarias por parte del administrador o propietario de la vía para realizar las obras de mantenimiento, rehabilitación y/o mejoramiento de vías existentes públicas o privadas que servirán de apoyo al desarrollo del proyecto."},{"$f":"PPII_YNC!F91","v":"Aplica"},{"$f":"PPII_YNC!G91","v":"Aplica"},{"$f":"PPII_YNC!H91","v":"Aplica"},{"$f":"PPII_YNC!I91","v":"N/A"},{"$f":"PPII_YNC!J91","v":"Aplica"},{"$f":"PPII_YNC!K91","v":"Temporal"}]
[{"$f":"PPII_YNC!D92","v":0},{"$f":"PPII_YNC!B92","v":"ADECUACIÓN DE VÍAS EXISTENTES DE APOYO AL PROYECTO"},{"$f":"PPII_YNC!E92","v":"Remitir en los Informes de Cumplimiento Ambiental - ICA, un informe en el que se especifique y reporten las actividades de mantenimiento, rehabilitación y/o mejoramiento realizadas sobre las vías existentes que servirán de apoyo al proyecto y sus zonas aledañas incluidas en el derecho de vía - DDV, para cada periodo reportado, incluyendo los soportes técnicos y registros fílmicos y/o fotográficos en los que se evidencie fecha y coordenadas."},{"$f":"PPII_YNC!F92","v":"N/A"},{"$f":"PPII_YNC!G92","v":"Aplica"},{"$f":"PPII_YNC!H92","v":"Aplica"},{"$f":"PPII_YNC!I92","v":"N/A"},{"$f":"PPII_YNC!J92","v":"Aplica"},{"$f":"PPII_YNC!K92","v":"Permanente"}]
[{"$f":"PPII_YNC!D93","v":0},{"$f":"PPII_YNC!B93","v":"ADECUACIÓN DE VÍAS EXISTENTES DE APOYO AL PROYECTO"},{"$f":"PPII_YNC!E93","v":"Al final de la vida útil del proyecto, presentar en el respectivo Informe de Cumplimiento Ambiental - ICA, un informe que incluya el estado final de las vías existentes que sirvieron de apoyo al proyecto, y sus zonas aledañas incluidas en el derecho de vía - DDV, a las cuales se les realizó mantenimiento, rehabilitación y/o mejoramiento por parte del proyecto, garantizando que las mismas sean entregadas en iguales o mejores condiciones. Incluir en dicho informe un registro fílmico y/o fotográfico en el que se evidencie fecha y coordenadas, así como actas de conformidad por parte de las autoridades y comunidades locales."},{"$f":"PPII_YNC!F93","v":"N/A"},{"$f":"PPII_YNC!G93","v":"N/A"},{"$f":"PPII_YNC!H93","v":"N/A"},{"$f":"PPII_YNC!I93","v":"N/A"},{"$f":"PPII_YNC!J93","v":"Aplica"},{"$f":"PPII_YNC!K93","v":"Temporal"}]
[{"$f":"PPII_YNC!D94","v":0},{"$f":"PPII_YNC!B94","v":"CONSTRUCCIÓN DE VÍAS DE APOYO AL PROYECTO"},{"$f":"PPII_YNC!E94","v":"Realizar mantenimientos periódicos a las vías construidas para el desarrollo del proyecto, y presentar en los Informes de Cumplimiento Ambiental - ICA los soportes documentales y fotográficos respectivos de las actividades ejecutadas."},{"$f":"PPII_YNC!F94","v":"N/A"},{"$f":"PPII_YNC!G94","v":"Aplica"},{"$f":"PPII_YNC!H94","v":"Aplica"},{"$f":"PPII_YNC!I94","v":"N/A"},{"$f":"PPII_YNC!J94","v":"Aplica"},{"$f":"PPII_YNC!K94","v":"Permanente"}]
[{"$f":"PPII_YNC!D95","v":0},{"$f":"PPII_YNC!B95","v":"MATERIALES DE CONSTRUCCIÓN"},{"$f":"PPII_YNC!E95","v":"Para el desarrollo de las actividades del proyecto, realizar la adquisición de materiales de construcción con terceros que cuenten con los correspondientes permisos o autorizaciones otorgados por la autoridad minera y ambiental competente, y anexar en los respectivos Informes de Cumplimiento Ambiental - ICA lo siguiente:\n\na)  Copias de los títulos mineros y licencias y/o permisos ambientales vigentes para el periodo reportado de las empresas proveedoras de materiales de construcción utilizados durante el periodo. En caso de cambio de proveedores diferentes a los reportados en el EIA y/o modificación o renovación de las licencias y/o permisos ambientales de las empresas proveedoras, presentar los soportes correspondientes.\nb) Las certificaciones/facturas de compra de material en las que se discrimine la fuente u origen, tipo de material, cantidad adquirida (expresada en unidades de volumen o masa) y fecha o periodo de compra."},{"$f":"PPII_YNC!F95","v":"N/A"},{"$f":"PPII_YNC!G95","v":"Aplica"},{"$f":"PPII_YNC!H95","v":"Aplica"},{"$f":"PPII_YNC!I95","v":"N/A"},{"$f":"PPII_YNC!J95","v":"Aplica"},{"$f":"PPII_YNC!K95","v":"Permanente"}]
[{"$f":"PPII_YNC!D96","v":0},{"$f":"PPII_YNC!B96","v":"MATERIALES DE CONSTRUCCIÓN"},{"$f":"PPII_YNC!E96","v":"En relación con el uso de Zonas de Préstamo Lateral - ZPL para la construcción/adecuación de vías y/o locaciones autorizadas para el proyecto, el titular de la licencia presentará en los Informes de Cumplimiento Ambiental – ICA un reporte que contenga:\n\na) Volúmenes utilizados para las actividades propias del proyecto.\nb) Actividades para las que fue utilizado el material de préstamo lateral.\nc) Estado de las ZPL por cada periodo reportado."},{"$f":"PPII_YNC!F96","v":"N/A"},{"$f":"PPII_YNC!G96","v":"Aplica"},{"$f":"PPII_YNC!H96","v":"Aplica"},{"$f":"PPII_YNC!I96","v":"N/A"},{"$f":"PPII_YNC!J96","v":"Aplica"},{"$f":"PPII_YNC!K96","v":"Permanente"}]
[{"$f":"PPII_YNC!D97","v":0},{"$f":"PPII_YNC!B97","v":"ALMACENAMIENTO DE COMBUSTIBLES Y PRODUCTOS QUÍMICOS"},{"$f":"PPII_YNC!E97","v":"Instalar en los sitios donde se almacene, manipule y/o utilice crudo, aceites, combustibles, productos químicos, residuos aceitosos u otro material potencialmente contaminante, los elementos y/o la infraestructura necesaria que garantice la contención en caso de derrames y la no contaminación del suelo, de acuerdo al Título 6, Parte 2, Libro 2 del Decreto 1076 de 2015 y demás normativa vigente en la materia, tales como:\n\na) Diques de contención con base y muros impermeabilizados que permitan contener como mínimo el 110% del volumen almacenado.\nb) Sistema de cunetas perimetrales, que descolen en cajas de inspección o tanques ciegos para su contención, recolección y posterior tratamiento como residuo peligroso.\nc) Condiciones óptimas o sistemas que permitan la ventilación e iluminación.\nd) Sistemas de prevención y control de incendios.\ne) Kit antiderrames.\nf) Señalización.\ng) Hojas de seguridad de los productos químicos almacenados con la matriz de compatibilidad."},{"$f":"PPII_YNC!F97","v":"N/A"},{"$f":"PPII_YNC!G97","v":"Aplica"},{"$f":"PPII_YNC!H97","v":"Aplica"},{"$f":"PPII_YNC!I97","v":"Aplica"},{"$f":"PPII_YNC!J97","v":"Aplica"},{"$f":"PPII_YNC!K97","v":"Permanente"}]
[{"$f":"PPII_YNC!D98","v":0},{"$f":"PPII_YNC!B98","v":"ALMACENAMIENTO DE MATERIALES DE CONSTRUCCIÓN"},{"$f":"PPII_YNC!E98","v":"El almacenamiento de materiales de construcción cumplirá con las siguientes condiciones:\n\na) Ubicarse en áreas aptas de acuerdo con la zonificación de manejo ambiental establecida para el proyecto.\nb) Ubicarse en una zona libre, plana en lo posible y de fácil acceso.\nc) Realizar el descapote del área previo al almacenamiento del material.\nd) Implementar medidas de retención de sedimentos en la zona de acopio, que garanticen la no afectación de los cuerpos hídricos cercanos.\ne) Señalización.\nf) Todo material de construcción acopiado a cielo abierto dentro de los frentes de obra y que no pueda ser utilizado durante la jornada laboral, será cubierto."},{"$f":"PPII_YNC!F98","v":"N/A"},{"$f":"PPII_YNC!G98","v":"Aplica"},{"$f":"PPII_YNC!H98","v":"Aplica"},{"$f":"PPII_YNC!I98","v":"N/A"},{"$f":"PPII_YNC!J98","v":"Aplica"},{"$f":"PPII_YNC!K98","v":"Permanente"}]
[{"$f":"PPII_YNC!D99","v":0},{"$f":"PPII_YNC!B99","v":"COMPRA DE AGUA"},{"$f":"PPII_YNC!E99","v":"Para la actividad de compra de agua (uso industrial y/o consumo humano) con terceros debidamente autorizados, presentar en los Informes de Cumplimiento Ambiental - ICA:\n\na) Copia de los permisos y/o autorizaciones ambientales vigentes de los proveedores de agua que contenga de manera explícita la venta de agua para uso industrial.\nb) Facturas de compra del agua, que incluyan como mínimo: nombre y NIT del tercero, volúmenes de agua suministrados (uso industrial y/o consumo humano) y fecha de compra, por cada periodo reportado.\nc) Actividades en las que fue empleada el agua en el proyecto, según el periodo reportado.\nd) Copia de los contratos de suministro de agua."},{"$f":"PPII_YNC!F99","v":"N/A"},{"$f":"PPII_YNC!G99","v":"Aplica"},{"$f":"PPII_YNC!H99","v":"Aplica"},{"$f":"PPII_YNC!I99","v":"N/A"},{"$f":"PPII_YNC!J99","v":"Aplica"},{"$f":"PPII_YNC!K99","v":"Permanente"}]
[{"$f":"PPII_YNC!D100","v":0},{"$f":"PPII_YNC!B100","v":"DISPOSICIÓN DE AGUAS"},{"$f":"PPII_YNC!E100","v":"Presentar una vez realizadas las pruebas de inyectividad a través de los respectivos Informes de Cumplimiento Ambiental - ICA, el formato en que se autoriza por la entidad de fiscalización (Ministerio de Minas y Energía o Agencia Nacional de Hidrocarburos – ANH) la integridad del pozo, que incluya la información de pruebas de integridad, inyectividad, la presión de fractura, la capacidad volumétrica y evaluación hidráulica de las formaciones receptoras de la inyección."},{"$f":"PPII_YNC!F100","v":"N/A"},{"$f":"PPII_YNC!G100","v":"N/A"},{"$f":"PPII_YNC!H100","v":"Aplica"},{"$f":"PPII_YNC!I100","v":"N/A"},{"$f":"PPII_YNC!J100","v":"N/A"},{"$f":"PPII_YNC!K100","v":"Temporal"}]
[{"$f":"PPII_YNC!D101","v":0},{"$f":"PPII_YNC!B101","v":"DISPOSICIÓN DE AGUAS"},{"$f":"PPII_YNC!E101","v":"Realizar la evaluación de la integridad mecánica del pozo mediante técnicas como: registro de la temperatura, del ruido de inyección, inspección del estado de tuberías, registros electromagnéticos, caliper log, borehole televiewing, medidores de flujo, trazadores radiactivos, registro de oxígeno activo y cement bond logging, o la que apruebe el Minenergía o ANH como ente fiscalizadores. Presentar los soportes en los respectivos Informes de Cumplimiento Ambiental - ICA."},{"$f":"PPII_YNC!F101","v":"N/A"},{"$f":"PPII_YNC!G101","v":"N/A"},{"$f":"PPII_YNC!H101","v":"Aplica"},{"$f":"PPII_YNC!I101","v":"N/A"},{"$f":"PPII_YNC!J101","v":"N/A"},{"$f":"PPII_YNC!K101","v":"Temporal"}]
[{"$f":"PPII_YNC!D102","v":0},{"$f":"PPII_YNC!B102","v":"DISPOSICIÓN DE AGUAS"},{"$f":"PPII_YNC!E102","v":"Presentar la siguiente información para la disposición de aguas mediante reinyección:\n\na) Volúmenes diarios de aguas generadas objeto de inyección, volúmenes de agua inyectada en cada pozo inyector, registro continuo de la presión de inyección en la cabeza del pozo, origen de las aguas y pozo inyector. Dicha información será presentada de manera acumulada desde el inicio de la actividad y de manera diaria a través del correo electrónico centromonitoreo@anla.gov.co.\nb) Análisis de comportamiento en el tiempo de las presiones de inyección, caudal de disposición y tasa de inyección, soportado con valores y gráficos detallados, con el fin de conocer la respuesta de las formaciones receptoras ante la inyección y observar cambios en la distribución de la inyección con relación a las presiones en cabeza de pozo. La anterior información se presentará en los respectivos Informes de Cumplimiento Ambiental – ICA.\nc) Análisis comparativo entre las presiones alcanzadas en la operación de inyección y la presión de fractura de la formación receptora para cada pozo. La anterior información se presentará en los respectivos Informes de Cumplimiento Ambiental – ICA."},{"$f":"PPII_YNC!F102","v":"N/A"},{"$f":"PPII_YNC!G102","v":"N/A"},{"$f":"PPII_YNC!H102","v":"Aplica"},{"$f":"PPII_YNC!I102","v":"N/A"},{"$f":"PPII_YNC!J102","v":"N/A"},{"$f":"PPII_YNC!K102","v":"Permanente"}]
[{"$f":"PPII_YNC!D103","v":0},{"$f":"PPII_YNC!B103","v":"DISPOSICIÓN DE AGUAS"},{"$f":"PPII_YNC!E103","v":"Realizar la caracterización fisicoquímica e isotópica del agua de formación receptora previo al inicio de la disposición de las aguas mediante reinyección para los parámetros establecidos en la Tabla 8, 9 y 14 de los términos de referencia de los PPII. Presentar los resultados de la caracterización conforme al modelo de almacenamiento geográfico complementario PPII - YNC publicado en el micrositio de esta autoridad destinado para los Proyectos Piloto de Investigación Integral de Yacimientos no Convencionales. Adicionalmente, presentar el análisis de los resultados y los certificados de los laboratorios en el primer Informe de Cumplimiento Ambiental - ICA después de perforado el pozo inyector."},{"$f":"PPII_YNC!F103","v":"N/A"},{"$f":"PPII_YNC!G103","v":"N/A"},{"$f":"PPII_YNC!H103","v":"Aplica"},{"$f":"PPII_YNC!I103","v":"N/A"},{"$f":"PPII_YNC!J103","v":"N/A"},{"$f":"PPII_YNC!K103","v":"Temporal"}]
[{"$f":"PPII_YNC!D104","v":0},{"$f":"PPII_YNC!B104","v":"DISPOSICIÓN DE AGUAS"},{"$f":"PPII_YNC!E104","v":"Realizar monitoreos semanales de los fluidos a inyectar, las cuales deben cumplir con el análisis de compatibilidad de las aguas de formación receptora. Presentar los resultados de las caracterizaciones conforme al modelo de almacenamiento geográfico complementario PPII - YNC publicado en el micrositio de esta autoridad destinado para los Proyectos Piloto de Investigación Integral de Yacimientos no Convencionales, y adicionalmente, presentar el análisis y los certificados de los laboratorios en los Informes de Cumplimiento Ambiental - ICA."},{"$f":"PPII_YNC!F104","v":"N/A"},{"$f":"PPII_YNC!G104","v":"N/A"},{"$f":"PPII_YNC!H104","v":"Aplica"},{"$f":"PPII_YNC!I104","v":"N/A"},{"$f":"PPII_YNC!J104","v":"N/A"},{"$f":"PPII_YNC!K104","v":"Permanente"}]
[{"$f":"PPII_YNC!D105","v":0},{"$f":"PPII_YNC!B105","v":"DISPOSICIÓN DE AGUAS"},{"$f":"PPII_YNC!E105","v":"Los pozos inyectores contarán con cunetas perimetrales que permitan confinar las fluidos que están en la superficie de las plataformas, ya sea precipitaciones, fluidos operacionales, aguas residuales, vertidos incidentales y en casos eventuales un afloramiento del agua inyectada  y/o la combinación de todos. Su efluente deberá dirigirse a un sistema de almacenamiento temporal de agua para disponer de acuerdo con las actividades autorizadas en la presente licencia ambiental. Presentar los soportes en los respectivos Informes de Cumplimiento Ambiental - ICA."},{"$f":"PPII_YNC!F105","v":"N/A"},{"$f":"PPII_YNC!G105","v":"N/A"},{"$f":"PPII_YNC!H105","v":"Aplica"},{"$f":"PPII_YNC!I105","v":"N/A"},{"$f":"PPII_YNC!J105","v":"N/A"},{"$f":"PPII_YNC!K105","v":"Permanente"}]
[{"$f":"PPII_YNC!D106","v":0},{"$f":"PPII_YNC!B106","v":"DISPOSICIÓN DE AGUAS"},{"$f":"PPII_YNC!E106","v":"Teniendo en cuenta el modelo hidrogeológico numérico y conceptual requerido en el artículo [seleccionar artículo de la licencia ambiental en el cual se solicita la presentación del modelo numérico y conceptual, literales 1, 2 y 3] evaluar el comportamiento de la inyección de agua con condiciones reales y actuales, teniendo en cuenta el volumen a disponer y la cantidad de pozos, así como  evaluar la respuesta del sistema hidrogeológico al régimen de inyección establecido en este periodo, permitir la identificación de la extensión de la zona de mezcla, la distribución de presiones del sistema y la distribución espacial del fluido de inyección."},{"$f":"PPII_YNC!F106","v":"N/A"},{"$f":"PPII_YNC!G106","v":"N/A"},{"$f":"PPII_YNC!H106","v":"Aplica"},{"$f":"PPII_YNC!I106","v":"N/A"},{"$f":"PPII_YNC!J106","v":"N/A"},{"$f":"PPII_YNC!K106","v":"Permanente"}]
[{"$f":"PPII_YNC!D107","v":0},{"$f":"PPII_YNC!B107","v":"DISPOSICIÓN DE AGUAS"},{"$f":"PPII_YNC!E107","v":"No se autoriza la inyección de aguas residuales domésticas para su disposición final."},{"$f":"PPII_YNC!F107","v":"N/A"},{"$f":"PPII_YNC!G107","v":"N/A"},{"$f":"PPII_YNC!H107","v":"Aplica"},{"$f":"PPII_YNC!I107","v":"N/A"},{"$f":"PPII_YNC!J107","v":"N/A"},{"$f":"PPII_YNC!K107","v":"Permanente"}]
[{"$f":"PPII_YNC!D108","v":0},{"$f":"PPII_YNC!B108","v":"SUSPENSIÓN TEMPORAL DE POZOS"},{"$f":"PPII_YNC!E108","v":"Para la suspensión temporal de pozos productores e inyectores, tener en cuenta lo siguiente: \n \na) Notificar a la ANLA las intenciones de cierre de un pozo, mediante comunicación escrita, por lo menos 15 días antes de iniciar las actividades de cierre. \nb) Dentro de los 15 días siguientes al cierre de un pozo, el titular de la licencia ambiental debe presentar a la ANLA una copia de la forma de cierre conforme a lo establecido por la ANH, o quien haga sus veces en materia de fiscalización."},{"$f":"PPII_YNC!F108","v":"N/A"},{"$f":"PPII_YNC!G108","v":"N/A"},{"$f":"PPII_YNC!H108","v":"Aplica"},{"$f":"PPII_YNC!I108","v":"N/A"},{"$f":"PPII_YNC!J108","v":"N/A"},{"$f":"PPII_YNC!K108","v":"Temporal"}]
[{"$f":"PPII_YNC!D109","v":0},{"$f":"PPII_YNC!B109","v":"ENTREGA DE AGUAS RESIDUALES DOMÉSTICAS A TERCEROS"},{"$f":"PPII_YNC!E109","v":"Realizar la entrega de agua residual doméstica a un gestor externo autorizado, y presentar en los respectivos Informes de Cumplimiento Ambiental - ICA:\n\na) Copia de los permisos y/o licencias vigentes de las respectivas empresas que prestarán el servicio de recolección, transporte y disposición final de las aguas residuales, incluido el Plan de Contingencia aprobado y vigente.\nb) Certificados de recolección y transporte emitido por la empresa respectiva, que indiquen: nombre de empresa que recolectó y transportó las aguas residuales, fechas de entrega, volúmenes de entrega, tipo de agua residual, sitio de recolección y destino de las aguas. \nc) Actas de recibo, tratamiento y disposición final de las aguas residuales, que incluya: empresa que entrega, fecha, volumen, origen y tipo de agua residual."},{"$f":"PPII_YNC!F109","v":"N/A"},{"$f":"PPII_YNC!G109","v":"Aplica"},{"$f":"PPII_YNC!H109","v":"Aplica"},{"$f":"PPII_YNC!I109","v":"N/A"},{"$f":"PPII_YNC!J109","v":"Aplica"},{"$f":"PPII_YNC!K109","v":"Permanente"}]
[{"$f":"PPII_YNC!D110","v":0},{"$f":"PPII_YNC!B110","v":"ENTREGA DE AGUAS RESIDUALES  PARA REÚSO "},{"$f":"PPII_YNC!E110","v":"Realizar la entrega de las aguas residuales domésticas para reúso de conformidad con lo dispuesto en la  Resolución 1207 de 2014 expedida por el MADS o aquella que la modifique o sustituya, y presentar en los Informes de Cumplimiento Ambiental – ICA:\n\na) Reporte diario de las cantidades de agua residual entregada al usuario receptor.\nb) Reporte de los resultados del monitoreo realizado al agua objeto de reúso por parte del usuario receptor, de acuerdo a los criterios de calidad de agua establecidos en la Resolución 1207 de 2014, o aquella que la modifique o sustituya, y así mismo presentar los soportes en los que se evidencie el uso del agua por parte del usuario receptor.\nc) Concesión de aguas por parte del usuario receptor. Cuando la concesión de aguas del usuario receptor se haya vencido o su licencia ambiental (cuando esta incluya la concesión de aguas) se haya modificado en términos de este permiso, el titular del proyecto presentará una copia de la renovación del permiso o modificación de la licencia ambiental por parte del receptor."},{"$f":"PPII_YNC!F110","v":"N/A"},{"$f":"PPII_YNC!G110","v":"Aplica"},{"$f":"PPII_YNC!H110","v":"Aplica"},{"$f":"PPII_YNC!I110","v":"N/A"},{"$f":"PPII_YNC!J110","v":"Aplica"},{"$f":"PPII_YNC!K110","v":"Permanente"}]
[{"$f":"PPII_YNC!D111","v":0},{"$f":"PPII_YNC!B111","v":"REÚSO DE AGUA RESIDUAL"},{"$f":"PPII_YNC!E111","v":"Realizar el reúso de las aguas residuales generadas en el proyecto, dando cumplimiento a las siguientes condiciones:\n\na) Realizar monitoreos mensuales del agua residual que será objeto de reúso, en los cuales se analicen los criterios de calidad establecidos en la Resolución 1207 de 2014 expedida por el MADS, o aquella que la modifique o sustituya. \nb) Presentar en los respectivos Informes de Cumplimiento Ambiental - ICA los reportes de laboratorio, las cadenas de custodia y el análisis de los resultados en el que se contemple la comparación de las mediciones con los valores límite máximos permisibles establecidos en la Resolución 1207 de 2014.\nc) Realizar los monitoreos a través de laboratorios acreditados por el IDEAM, tanto para la toma de la muestra, como para el análisis de los parámetros monitoreados. Dichos laboratorios, deberán contar con las técnicas de medición que cuenten con los límites de detección de los diferentes parámetros que permitan verificar el cumplimiento normativo de los mismos. En caso de que no existan laboratorios nacionales acreditados para el análisis de algún(os) parámetro(s), los laboratorios acreditados por el IDEAM podrán enviar la muestra a un laboratorio internacional acreditado en su país de origen o por un estándar internacional, mientras se surte el proceso de acreditación en los laboratorios nacionales. Presentar dichos soportes en los Informes de Cumplimiento Ambiental - ICA.\nd) Presentar el reporte mensual de las cantidades de agua que son objeto de reúso, discriminando el origen y uso dado, en los Informes de Cumplimiento Ambiental - ICA."},{"$f":"PPII_YNC!F111","v":"N/A"},{"$f":"PPII_YNC!G111","v":"Aplica"},{"$f":"PPII_YNC!H111","v":"Aplica"},{"$f":"PPII_YNC!I111","v":"N/A"},{"$f":"PPII_YNC!J111","v":"Aplica"},{"$f":"PPII_YNC!K111","v":"Permanente"}]
[{"$f":"PPII_YNC!D112","v":0},{"$f":"PPII_YNC!B112","v":"EVAPORACIÓN FORZADA"},{"$f":"PPII_YNC!E112","v":"Realizar monitoreos mensuales de los fluidos de retorno y las aguas de producción que estén sujetas evaporación forzada, dando cumplimiento a las siguientes condiciones para lo cual se deberán presentar los respectivos soportes en los Informes de Cumplimiento Ambiental - ICA:\n\na) Volúmenes diarios de aguas sujetas a evaporación forzada y origen de las aguas. Dicha información será presentada de manera acumulada desde el inicio de la actividad y de manera diaria a través del correo electrónico centromonitoreo@anla.gov.co.\nb) Presentar el balance de masas de agua evaporada con los residuos sólidos y líquidos generados, y la estimación de eficiencia de la actividad de evaporación forzada.\nc) Atender lo establecido por esta autoridad en lo relacionado con los monitoreos de análisis fisicoquímicos de los fluidos de retorno y las aguas de producción a evaporar, incluyendo los contaminantes que puedan generar emisiones de Sulfuro de hidrógeno (H2S), Azufre total reducido (TRS), Amoniaco (NH3) e Hidrocarburos aromáticos policíclicos (HAP), Benceno, tolueno, etilbenceno y xileno (BTEX), precursores de ozono, ácidos grasos volátiles, metales, sales, minerales o materia orgánica que puedan generarse en forma de gases o aerosoles, y radionucleidos, entre otros compuestos específicos que se consideren relevantes a partir de la normativa vigente, normatividad internacional y la literatura sobre las aguas de producción a evaporar. \nd) Realizar la caracterización física y química de los sólidos producto de la evaporación forzada, de acuerdo con los parámetros establecidos en la Tabla 3 del Anexo III del Título 6, Parte 2, Libro 2 del Decreto 1076 de 2015 y el Protocolo Louisiana 29B, y realizar su disposición de acuerdo a lo establecido por esta autoridad para el manejo de residuos sólidos. Así mismo, llevar un control del volumen de residuos generados que se producirán en el proceso por unidad de volumen tratado.\ne) Dichos monitoreos se realizarán a través de laboratorios acreditados por el IDEAM, tanto para la toma de la muestra, como para el análisis de los parámetros monitoreados. Presentar los resultados de los monitoreos, el análisis y los certificados de los laboratorios en los Informes de Cumplimiento Ambiental - ICA."},{"$f":"PPII_YNC!F112","v":"N/A"},{"$f":"PPII_YNC!G112","v":"N/A"},{"$f":"PPII_YNC!H112","v":"Aplica"},{"$f":"PPII_YNC!I112","v":"N/A"},{"$f":"PPII_YNC!J112","v":"N/A"},{"$f":"PPII_YNC!K112","v":"Permanente"}]
[{"$f":"PPII_YNC!D113","v":0},{"$f":"PPII_YNC!B113","v":"EVAPORACIÓN FORZADA"},{"$f":"PPII_YNC!E113","v":"Realizar seguimiento y monitoreo a la actividad de evaporación forzada sobre el componente atmosférico, dando cumplimiento a las siguientes condiciones para lo cual se deberán presentar los respectivos soportes en los Informes de Cumplimiento Ambiental - ICA:\n\na) Atender lo establecido por esta autoridad en lo relacionado con en el inventario de emisiones atmosféricas, incluyendo como mínimo: Benceno, tolueno, etilbenceno y xileno (BTEX), Sulfuro de hidrógeno (H2S), Azufre total reducido (TRS), Amoniaco (NH3), Óxidos de nitrógeno (NOx), Compuestos Orgánicos Volátiles (COVs), Hidrocarburos aromáticos policíclicos (p.ej. benzo(a)pireno y naftaleno), hidrocarburos totales, formaldehido, metanol, clorobenceno y fenoles. Evaluar la inclusión de otros compuestos susceptibles a generar aerosoles y a evaporarse que se consideren relevantes a partir de la normativa vigente y la literatura sobre las aguas de producción a evaporar, así mismo, presentar el análisis de las sustancias que el proceso de evaporación forzada elimina por condiciones de proceso (temperatura, presión u otros). Incorporar los análisis mensuales de los fluidos de retorno dentro de la actualización anual del inventario de emisiones. Presentar con el balance de masas de agua evaporada la composición de gases, vapores y partículas-aerosoles generados, y la estimación de eficiencia de la actividad de evaporación forzada  mecánica.\nb) Atender lo establecido por esta autoridad en lo relacionado con los monitoreos de calidad de aire, incluyendo como mínimo: Benceno, tolueno, etilbenceno y xileno (BTEX), Compuestos orgánicos volátiles (COV), hidrocarburos aromáticos policíclicos (expresados como benzo(a)pireno) e hidrocarburos totales. De manera específica Benceno, Tolueno, formaldehido y Metanol, entre otros que se consideren relevantes a partir de la normativa vigente, normatividad internacional y la literatura sobre las aguas de producción a evaporar. \nc) Atender lo establecido por esta autoridad en lo relacionado con las mediciones de sustancias de olores ofensivos, incluyendo como mínimo Sulfuro de hidrógeno (H2S), Azufre total reducido (TRS), Amoniaco (NH3), entre otros que se consideren relevantes a partir de la normativa vigente, normatividad internacional y la literatura de las aguas de producción a evaporar, así como las mezclas de sustancias generadoras de olores ofensivos.\nd) Relacionar el objeto de la caracterización en los campos de observación de las respectivas capas del modelo de almacenamiento de datos geográficos establecido en la Resolución 2182 del 2016 del MADS, o aquella norma que la modifique o sustituya, y/o el modelo de almacenamiento geográfico complementario para los PPII - YNC publicado en el micrositio de esta autoridad destinado para los Proyectos Piloto de Investigación Integral de Yacimientos no Convencionales. \ne) Dichos monitoreos se realizarán a través de laboratorios acreditados por el IDEAM, tanto para la toma de la muestra, como para el análisis de los parámetros monitoreados. Presentar los resultados de los monitoreos, el análisis y los certificados de los laboratorios en los Informes de Cumplimiento Ambiental - ICA.\nf) De no existir niveles máximos permisibles establecidos en la normatividad nacional, el titular de la licencia ambiental podrá usar referentes internacionales debidamente avalados y soportados. En caso de identificar que durante la operación del proyecto no se emite a la atmósfera uno o varios de los contaminantes relacionados en los literales a), b), y c) y la obligación de Mediciones asociadas a la actividad de evaporación forzada, agua tratada, residuos sólidos y líquidos, que no se relacionen con los contaminantes establecidos en las Tablas 10 y 11 de los TdR para PPII, el titular de la licencia ambiental puede presentar el soporte técnico debidamente argumentado de su no inclusión en los monitoreos de calidad del aire, basado en herramientas como el inventario de emisiones atmosféricas, análisis fisicoquímicos de fluidos de entrada y salida del proceso, lo cual estará sujeto al seguimiento y concepto de esta Autoridad Nacional."},{"$f":"PPII_YNC!F113","v":"N/A"},{"$f":"PPII_YNC!G113","v":"N/A"},{"$f":"PPII_YNC!H113","v":"Aplica"},{"$f":"PPII_YNC!I113","v":"N/A"},{"$f":"PPII_YNC!J113","v":"N/A"},{"$f":"PPII_YNC!K113","v":"Permanente"}]
[{"$f":"PPII_YNC!D114","v":0},{"$f":"PPII_YNC!B114","v":"EVAPORACIÓN FORZADA"},{"$f":"PPII_YNC!E114","v":"Elaborar el informe de la modelación de la dispersión de contaminantes atmosféricos (radionucleidos) y presentarlo en los respectivos Informes de Cumplimiento Ambiental - ICA e incluir como mínimo la siguiente información:\n\na) Metodología del modelo de dispersión la cual debe ser justificada de acuerdo con la especiación física y química de los radionucleidos en los compuestos evaporados (en forma de gas o partículas-aerosoles).\nb) Análisis meteorológico adaptado al modelo de dispersión seleccionado.\nc) Datos de entrada de la modelación: descripción y ubicación de la región de impacto, identificación y ubicación georreferenciado de las fuentes de emisión y de los posibles receptores, archivo geográfico con la topografía de la región y tipo de uso del suelo, información y análisis de la meteorología y de la radioactividad natural en la región, contaminantes emitidos y descripción del método de cuantificación de las emisiones. \nd) Descripción del modelo empleado incluyendo los resultados de las concentraciones obtenidas en el modelo para los receptores sensibles y gráficas de isopletas georreferenciadas, donde se muestre la ubicación de las fuentes de emisión y de los receptores.\ne) Reporte de los criterios, características del modelo, alcances y tamaño de mallas empleados para la modelación. Anexar los archivos de entrada y salida empleados en la modelación, en los formatos originales de entrada y salida del modelo, y los archivos de meteorología.\nf) Técnicas de validación de la modelación y la concentración de fondo tenida en cuenta para el proceso de validación. Las mediciones de radionucleidos utilizadas para el proceso de validación del modelo.\ng) Validación y análisis de los resultados de la modelación. \nh) Conclusiones.\ni) Anexos.\n\nNota: El titular de la licencia ambiental puede presentar el soporte técnico debidamente argumentado de la no inclusión de modelos de radionucleidos que salen a la atmósfera por el proceso de evaporación forzada, basado en herramientas como el inventario de emisiones atmosféricas con el balance de masas incluyendo los análisis fisicoquímicos del fluido de entrada a tratar, y de los residuos líquidos y sólidos generados del sistema de evaporación, lo cual estará sujeto al seguimiento y concepto de esta Autoridad Nacional."},{"$f":"PPII_YNC!F114","v":"NA"},{"$f":"PPII_YNC!G114","v":"NA"},{"$f":"PPII_YNC!H114","v":"Aplica"},{"$f":"PPII_YNC!I114","v":"NA"},{"$f":"PPII_YNC!J114","v":"NA"},{"$f":"PPII_YNC!K114","v":"Permanente"}]
[{"$f":"PPII_YNC!D115","v":0},{"$f":"PPII_YNC!B115","v":"RESIDUOS"},{"$f":"PPII_YNC!E115","v":"Llevar un registro (base de datos) mensual acumulada de la cantidad de residuos sólidos convencionales (aprovechables y no aprovechables), residuos peligrosos (sólidos y líquidos), residuos posconsumo y residuos de construcción y demolición (RCD) generados, aprovechados, tratados y/o dispuestos, que indique como mínimo: tipo de residuo, cantidad de residuos generados, cantidad de residuos aprovechados, tratados y/o dispuestos por parte de terceros o del titular de la licencia, tipo de aprovechamiento, tratamiento y disposición. Presentar dicho registro, en los respectivos Informes de Cumplimiento Ambiental - ICA a través del formato \"Plantilla de Seguimiento a la Gestión de Residuos\"."},{"$f":"PPII_YNC!F115","v":"N/A"},{"$f":"PPII_YNC!G115","v":"Aplica"},{"$f":"PPII_YNC!H115","v":"Aplica"},{"$f":"PPII_YNC!I115","v":"N/A"},{"$f":"PPII_YNC!J115","v":"Aplica"},{"$f":"PPII_YNC!K115","v":"Permanente"}]
[{"$f":"PPII_YNC!D116","v":0},{"$f":"PPII_YNC!B116","v":"RESIDUOS"},{"$f":"PPII_YNC!E116","v":"Contar con sitios de almacenamiento temporal de residuos sólidos convencionales (aprovechables y no aprovechables) y de residuos peligrosos (líquidos y sólidos) generados durante la ejecución del proyecto, en cumplimiento del Decreto 1077 de 2015 (Compila Decreto 2981 de 2013 del Ministerio de Vivienda, Ciudad y Territorio) y del Reglamento Técnico del Sector de Agua Potable y Saneamiento Básico - RAS, los cuales deberán ser independientes y contar con:\n\na) Base impermeabilizada para evitar una posible contaminación del suelo.\nb) Cubierta para evitar el contacto con el agua.\nc) Sistema de diques y cunetas perimetrales para los residuos líquidos.\nd) Condiciones óptimas o sistemas que permitan la ventilación e iluminación.\ne) Sistemas de prevención y control de incendios.\nf) Kit antiderrames (para el almacenamiento de residuos líquidos peligrosos)\ng) Señalización.\nh) Los recipientes empleados para el almacenamiento de los residuos deberán ser identificados por tipo de residuo y permitir su fácil limpieza."},{"$f":"PPII_YNC!F116","v":"N/A"},{"$f":"PPII_YNC!G116","v":"Aplica"},{"$f":"PPII_YNC!H116","v":"Aplica"},{"$f":"PPII_YNC!I116","v":"N/A"},{"$f":"PPII_YNC!J116","v":"Aplica"},{"$f":"PPII_YNC!K116","v":"Permanente"}]
[{"$f":"PPII_YNC!D117","v":0},{"$f":"PPII_YNC!B117","v":"RESIDUOS"},{"$f":"PPII_YNC!E117","v":"Los residuos orgánicos provenientes de alimentos no podrán ser entregados a la comunidad para su aprovechamiento."},{"$f":"PPII_YNC!F117","v":"N/A"},{"$f":"PPII_YNC!G117","v":"Aplica"},{"$f":"PPII_YNC!H117","v":"Aplica"},{"$f":"PPII_YNC!I117","v":"N/A"},{"$f":"PPII_YNC!J117","v":"Aplica"},{"$f":"PPII_YNC!K117","v":"Permanente"}]
[{"$f":"PPII_YNC!D118","v":0},{"$f":"PPII_YNC!B118","v":"RESIDUOS"},{"$f":"PPII_YNC!E118","v":"Realizar el manejo de residuos sólidos convencionales (aprovechables y no aprovechables) a través de terceros debidamente autorizados para su transporte, almacenamiento, aprovechamiento, tratamiento y/o disposición final, y presentar en los respectivos Informes de Cumplimiento Ambiental – ICA:\n\na) Copia de las autorizaciones, permisos y/o licencias de las respectivas empresas encargadas de la gestión de los residuos.\nb) Actas de entrega para el transporte, almacenamiento, aprovechamiento, tratamiento y/o disposición final, que indiquen: nombre de empresa, fecha de entrega, sitio de entrega, tipo de residuos, cantidad, tratamiento y/o aprovechamiento a implementar y certificados de aprovechamiento, tratamiento y/o disposición final (para el caso de residuos aprovechables).\nc) Relacionar los volúmenes generados, aprovechados, tratados y/o dispuestos en el registro (base de datos) solicitada por esta Autoridad."},{"$f":"PPII_YNC!F118","v":"N/A"},{"$f":"PPII_YNC!G118","v":"Aplica"},{"$f":"PPII_YNC!H118","v":"Aplica"},{"$f":"PPII_YNC!I118","v":"N/A"},{"$f":"PPII_YNC!J118","v":"Aplica"},{"$f":"PPII_YNC!K118","v":"Permanente"}]
[{"$f":"PPII_YNC!D119","v":0},{"$f":"PPII_YNC!B119","v":"RESIDUOS"},{"$f":"PPII_YNC!E119","v":"Integrar la gestión de los residuos posconsumo, como: pilas y/o acumuladores, bombillas, llantas usadas, computadores y/o periféricos, baterías plomo ácido, fármacos o medicamentos vencidos, envases y empaques y demás residuos posconsumo considerados por la normativa actual vigente, a las corrientes posconsumo reglamentadas y presentar en los respectivos Informes de Cumplimiento Ambiental – ICA los certificados de entrega de estos residuos al Plan de Gestión de Devolución de Productos Posconsumo y/o al Sistema de Recolección Selectiva y Gestión Ambiental de Residuos aprobados por esta Autoridad, indicando por cada periodo reportado:\n\na) El volumen y/o peso de residuos posconsumo entregados, discriminando tipo de residuo y el manejo que se le otorgará por parte del Plan de Gestión de Devolución de Productos Posconsumo y/o Sistema de Recolección Selectiva y Gestión Ambiental de Residuos a los residuos posconsumo entregados.\nb) Relacionar los volúmenes generados, aprovechados, tratados y/o dispuestos en el registro (base de datos) solicitada por esta Autoridad."},{"$f":"PPII_YNC!F119","v":"N/A"},{"$f":"PPII_YNC!G119","v":"Aplica"},{"$f":"PPII_YNC!H119","v":"Aplica"},{"$f":"PPII_YNC!I119","v":"N/A"},{"$f":"PPII_YNC!J119","v":"Aplica"},{"$f":"PPII_YNC!K119","v":"Permanente"}]
[{"$f":"PPII_YNC!D120","v":0},{"$f":"PPII_YNC!B120","v":"RESIDUOS"},{"$f":"PPII_YNC!E120","v":"Realizar el manejo de residuos peligrosos (líquidos y sólidos) a través de terceros debidamente autorizados para su transporte, almacenamiento, aprovechamiento, tratamiento y/o disposición final, y presentar en los respectivos Informes de Cumplimiento Ambiental – ICA:\n\na) Copia de las autorizaciones, permisos y/o licencias de las respectivas empresas encargadas de la gestión de los residuos.\nb) Actas de entrega para el transporte, almacenamiento, aprovechamiento, tratamiento y/o disposición final, que indiquen: nombre de empresa, fecha de entrega, sitio de entrega, tipo de residuos y cantidad.\nc) Certificados de tratamiento, aprovechamiento y/o disposición final, que indiquen: nombre de empresa que gestionó los residuos, nombre de empresa que entregó los residuos, fechas de recepción y gestión de residuos, tipo de residuo, cantidad, tipo de tratamiento realizado  y/o alternativa de disposición final y sitio donde se gestionó el residuo.\nd) Relacionar los volúmenes generados, aprovechados, tratados y/o dispuestos en el registro (base de datos) solicitada por esta Autoridad."},{"$f":"PPII_YNC!F120","v":"N/A"},{"$f":"PPII_YNC!G120","v":"Aplica"},{"$f":"PPII_YNC!H120","v":"Aplica"},{"$f":"PPII_YNC!I120","v":"N/A"},{"$f":"PPII_YNC!J120","v":"Aplica"},{"$f":"PPII_YNC!K120","v":"Permanente"}]
[{"$f":"PPII_YNC!D121","v":0},{"$f":"PPII_YNC!B121","v":"RESIDUOS"},{"$f":"PPII_YNC!E121","v":"Para cantidades iguales o superiores a 10 kg/mes de residuos sólidos peligrosos, dar cumplimiento a lo establecido en la Resolución 1362 del 2007 del Ministerio de Ambiente, Vivienda y Desarrollo Territorial, o aquella que la modifique o sustituya, por la cual se establecen los requisitos y el procedimiento para el Registro de Generadores de Residuos o Desechos Peligrosos, a que hacen referencia los artículos 2.2.6.1.6.1 y 2.2.6.1.6.2 del Decreto 1076 de 2015, o la norma que la modifique o sustituya. "},{"$f":"PPII_YNC!F121","v":"N/A"},{"$f":"PPII_YNC!G121","v":"Aplica"},{"$f":"PPII_YNC!H121","v":"Aplica"},{"$f":"PPII_YNC!I121","v":"N/A"},{"$f":"PPII_YNC!J121","v":"Aplica"},{"$f":"PPII_YNC!K121","v":"Permanente"}]
[{"$f":"PPII_YNC!D122","v":0},{"$f":"PPII_YNC!B122","v":"RESIDUOS"},{"$f":"PPII_YNC!E122","v":"De conformidad con el establecido en el artículo 2.2.6.1.3.1. del Título 6, Parte 2, Libro 2 del Decreto 1076 de 2015 o aquella que la modifique o sustituya, no se podrá realizar el almacenamiento temporal de residuos peligrosos por más de doce (12) meses; en los casos debidamente sustentados y justificados, se podrá solicitar ante esta autoridad, una extensión de dicho periodo. "},{"$f":"PPII_YNC!F122","v":"N/A"},{"$f":"PPII_YNC!G122","v":"Aplica"},{"$f":"PPII_YNC!H122","v":"Aplica"},{"$f":"PPII_YNC!I122","v":"N/A"},{"$f":"PPII_YNC!J122","v":"Aplica"},{"$f":"PPII_YNC!K122","v":"Permanente"}]
[{"$f":"PPII_YNC!D123","v":0},{"$f":"PPII_YNC!B123","v":"RESIDUOS"},{"$f":"PPII_YNC!E123","v":"Presentar la gestión de los residuos hospitalarios y similares generados en el proyecto en los Informes de Cumplimiento Ambiental - ICA, dando cumplimiento a las siguientes condiciones:\n\na) Copia de las autorizaciones, permisos y/o licencias de las respectivas empresas encargadas de la gestión de los residuos.\nb) Actas de entrega para el transporte, almacenamiento, aprovechamiento, tratamiento y/o disposición final, que indiquen: nombre de empresa, fecha de entrega, sitio de entrega, tipo de residuos y cantidad.\nc) Certificados de tratamiento, aprovechamiento y/o disposición final, que indiquen: nombre de empresa que gestionó los residuos, nombre de empresa que entregó los residuos, fechas de recepción y gestión de residuos, tipo de residuo, cantidad, tipo de tratamiento realizado  y/o alternativa de disposición final y sitio donde se gestionó el residuo.\nd) Almacenarse de acuerdo al código de colores y las características y condiciones específicas establecidas en el Manual de Procedimientos para la Gestión Integral de Residuos Hospitalarios y Similares, adoptado por la Resolución 1164 de 2002 del Ministerio de Ambiente y Ministerio de Salud, o aquella que la modifique o sustituya.\ne) Relacionar los volúmenes generados, tratados y/o dispuestos en el registro (base de datos) solicitada por esta Autoridad."},{"$f":"PPII_YNC!F123","v":"N/A"},{"$f":"PPII_YNC!G123","v":"Aplica"},{"$f":"PPII_YNC!H123","v":"Aplica"},{"$f":"PPII_YNC!I123","v":"N/A"},{"$f":"PPII_YNC!J123","v":"Aplica"},{"$f":"PPII_YNC!K123","v":"Permanente"}]
[{"$f":"PPII_YNC!D124","v":0},{"$f":"PPII_YNC!B124","v":"RESIDUOS"},{"$f":"PPII_YNC!E124","v":"Presentar la gestión de los lodos y cortes de perforación en los Informes de Cumplimiento Ambiental - ICA según el periodo reportado, y cumplir con las siguientes condiciones:\n\na) Almacenarse en un tanque/ piscina impermeabilizada con geomembrana cercana al sitio de perforación, la cual contará con cunetas perimetrales de recolección y conducción de aguas lluvias hacia el medio natural. \nb) Realizar los análisis físico-químicos de los lodos y cortes previo a su disposición, de acuerdo con los con los parámetros establecidos en la Tabla 3 del Anexo III del Título 6, Parte 2, Libro 2 del Decreto 1076 de 2015 y el Protocolo Louisiana 29B. \nc) Estabilizar los lodos y cortes de perforación antes de su disposición final."},{"$f":"PPII_YNC!F124","v":"N/A"},{"$f":"PPII_YNC!G124","v":"Aplica"},{"$f":"PPII_YNC!H124","v":"Aplica"},{"$f":"PPII_YNC!I124","v":"N/A"},{"$f":"PPII_YNC!J124","v":"Aplica"},{"$f":"PPII_YNC!K124","v":"Permanente"}]
[{"$f":"PPII_YNC!D125","v":0},{"$f":"PPII_YNC!B125","v":"RESIDUOS"},{"$f":"PPII_YNC!E125","v":"En caso de realizar movimientos transfronterizos para disposición de desechos peligrosos, el titular de la presente licencia ambiental deberá dar cumplimiento a lo dispuesto en el Convenio de Basilea, ratificado por la Ley 253 del 9 de enero de 1996, sobre el control de los movimientos transfronterizos de los desechos peligrosos y su eliminación, así como el Decreto 1076 de 2015 y demás normas reglamentarias."},{"$f":"PPII_YNC!F125","v":"N/A"},{"$f":"PPII_YNC!G125","v":"Aplica"},{"$f":"PPII_YNC!H125","v":"Aplica"},{"$f":"PPII_YNC!I125","v":"N/A"},{"$f":"PPII_YNC!J125","v":"Aplica"},{"$f":"PPII_YNC!K125","v":"Permanente"}]
[{"$f":"PPII_YNC!D126","v":0},{"$f":"PPII_YNC!B126","v":"RESIDUOS"},{"$f":"PPII_YNC!E126","v":"Dar cumplimiento a lo establecido en el artículo 20 de la Resolución 472 de 2017 del Ministerio de Ambiente y Desarrollo Sostenible, o aquella que la modifique o sustituya, en cuanto a las prohibiciones establecidas para el almacenamiento, mezcla, abandono y disposición de residuos de construcción y demolición - RCD."},{"$f":"PPII_YNC!F126","v":"N/A"},{"$f":"PPII_YNC!G126","v":"Aplica"},{"$f":"PPII_YNC!H126","v":"N/A"},{"$f":"PPII_YNC!I126","v":"N/A"},{"$f":"PPII_YNC!J126","v":"Aplica"},{"$f":"PPII_YNC!K126","v":"Permanente"}]
[{"$f":"PPII_YNC!D127","v":0},{"$f":"PPII_YNC!B127","v":"RESIDUOS"},{"$f":"PPII_YNC!E127","v":"Dar cumplimiento al parágrafo del artículo 19 de la Resolución 472 de 2017 del Ministerio de Ambiente y Desarrollo Sostenible, o aquella que la modifique o sustituya, en lo relacionado con las metas de aprovechamiento (reutilización, tratamiento y reciclaje) de residuos de construcción y demolición – RCD  para proyectos, obras o actividades sujetos a licenciamiento ambiental, y presentar en los respectivos Informes de Cumplimiento Ambiental - ICA:\n\na) Reporte en el que se indique: porcentaje de material aprovechado, respecto del total utilizado en la obra, tipo de material aprovechado, volumen de material aprovechado, sectores de donde proviene el material, actividades/sectores en los que fue aprovechado, periodo en los que fue realizado.\nb) En caso de que los materiales provengan de terceros, se presentarán los soportes de la adquisición, nombre del tercero, fechas de recepción, tipo de RCD y cantidad. "},{"$f":"PPII_YNC!F127","v":"N/A"},{"$f":"PPII_YNC!G127","v":"Aplica"},{"$f":"PPII_YNC!H127","v":"N/A"},{"$f":"PPII_YNC!I127","v":"N/A"},{"$f":"PPII_YNC!J127","v":"Aplica"},{"$f":"PPII_YNC!K127","v":"Permanente"}]
[{"$f":"PPII_YNC!D128","v":0},{"$f":"PPII_YNC!B128","v":"RESIDUOS"},{"$f":"PPII_YNC!E128","v":"Disponer los residuos de construcción y demolición – RCD no susceptibles de aprovechamiento de acuerdo con lo establecido en la Resolución 472 de 2017 del Ministerio de Ambiente y Desarrollo Sostenible, o aquella que la modifique o sustituya, en los sitios de disposición final de RCD legalmente autorizados, para lo cual el titular del proyecto entregará en los respectivos Informes de Cumplimiento Ambiental – ICA:\n\na) Copia de las autorizaciones, permisos y/o licencias del sitio de disposición final de RCD.\nb) Actas de entrega, que indiquen: nombre de empresa, fecha de entrega, sitio de entrega, tipo de residuo y cantidad.\nc) Certificados de disposición final, que indiquen: nombre de empresa que gestionó los residuos, nombre de empresa que entregó los residuos, fechas de recepción y gestión de residuos, tipo de residuo, cantidad y sitio donde se gestionó el residuo.\nd) Relacionar los volúmenes de RCD generados, aprovechados, tratados y/o dispuestos por tipo de residuo en el registro (base de datos) solicitada por esta Autoridad."},{"$f":"PPII_YNC!F128","v":"N/A"},{"$f":"PPII_YNC!G128","v":"Aplica"},{"$f":"PPII_YNC!H128","v":"N/A"},{"$f":"PPII_YNC!I128","v":"N/A"},{"$f":"PPII_YNC!J128","v":"Aplica"},{"$f":"PPII_YNC!K128","v":"Permanente"}]
[{"$f":"PPII_YNC!D129","v":0},{"$f":"PPII_YNC!B129","v":"ZONAS DE DISPOSICIÓN DE MATERIAL SOBRANTE DE EXCAVACIONES"},{"$f":"PPII_YNC!E129","v":"Dar cumplimiento a las siguientes condiciones relacionadas con el manejo de las ZODMEs:\n\na) Implementar sistemas de manejo de aguas de escorrentía y sistemas de control de sólidos a la salida de los drenajes del depósito, de tal manera que no se vean afectados cuerpos de aguas, estabilidad del relleno y/o los predios vecinos.\nb) No se podrá disponer en las ZODMEs residuos sólidos convencionales y peligrosos, tales como: orgánicos, chatarra, madera, papel, lodos, combustibles, entre otros no autorizados.\nc) Realizar la compactación y cubrimiento del material mientras se realice la disposición del mismo.\nd) Presentar en los Informes de Cumplimiento Ambiental – ICA el avance para el respectivo periodo reportado de acuerdo con el modelo de almacenamiento geográfico establecido en la Resolución 2182 de 2016 del MADS, o la que la modifique o sustituya, y/o el modelo de almacenamiento geográfico complementario PPII - YNC publicado en el micrositio de esta autoridad destinado para los Proyectos Piloto de Investigación Integral de Yacimientos no Convencionales. \ne) Presentar el origen, volúmenes y tipo de material dispuesto a la fecha de corte de los Informes de Cumplimiento Ambiental – ICA, discriminando el volumen acumulado y dispuesto en el periodo.\nf) Implementar sistemas de medición de la estabilidad del lleno para identificar oportunamente una posible falla debida al asentamiento generado en el relleno de manera [definir la frecuencia, la cual estará en función de la estabilidad del terreno de acuerdo con el estudio geotécnico que presente el proyecto] y al finalizar la conformación del mismo. Presentar los soportes correspondientes en los Informes de Cumplimiento Ambiental – ICA.\ng) Al finalizar el lleno de la ZODME realizar su revegetalización con especies nativas, o aquella otra actividad pactada con los propietarios de los predios de acuerdo con el uso final que se le vaya a dar al área, cuando estas se encuentren localizadas en predios privados. El titular de la licencia ambiental acreditará documentalmente a la ANLA a través del respecto Informe de Cumplimiento Ambiental - ICA la conformación final de la ZODME.\nh) Luego de la etapa de clausura de la ZODME y mientras el proyecto esté en operación, continuar con el mantenimiento rutinario de los sistemas de manejo de aguas de escorrentía, sólidos y revegetalización establecidos en la misma, en caso de que esta última aplique. De lo anterior, presentar las actividades adelantadas con registro fotográfico en el respectivo Informe de Cumplimiento Ambiental ICA del periodo reportado."},{"$f":"PPII_YNC!F129","v":"N/A"},{"$f":"PPII_YNC!G129","v":"Aplica"},{"$f":"PPII_YNC!H129","v":"Aplica"},{"$f":"PPII_YNC!I129","v":"N/A"},{"$f":"PPII_YNC!J129","v":"Aplica"},{"$f":"PPII_YNC!K129","v":"Permanente"}]
[{"$f":"PPII_YNC!D130","v":0},{"$f":"PPII_YNC!B130","v":"SISMICIDAD"},{"$f":"PPII_YNC!E130","v":"En caso de que por requerimiento del Ministerio de Minas y Energía (o quien este delegue) se suspendan las actividades debido a la sismicidad que en el semáforo sísmico se identifique como rojo, se deberá informar de manera escrita e inmediatamente a la ANLA sobre la suspensión, medidas requeridas por dichas autoridades y medidas implementadas, así como las actividades desarrolladas en cumplimiento de lo ordenado por el Ministerio de Minas y Energía (o quien este delegue). Esta información será utilizada por la autoridad ambiental para su evaluación y seguimiento en el marco de sus competencias."},{"$f":"PPII_YNC!F130","v":"N/A"},{"$f":"PPII_YNC!G130","v":"N/A"},{"$f":"PPII_YNC!H130","v":"Aplica"},{"$f":"PPII_YNC!I130","v":"Aplica"},{"$f":"PPII_YNC!J130","v":"N/A"},{"$f":"PPII_YNC!K130","v":"Permanente"}]
[{"$f":"PPII_YNC!D131","v":0},{"$f":"PPII_YNC!B131","v":"HIDROGEOLOGÍA"},{"$f":"PPII_YNC!E131","v":"Presentar en el primer Informe de Cumplimiento Ambiental – ICA de la fase constructiva el modelo hidrogeológico numérico estacionario de acuerdo con el modelo hidrogeológico conceptual y la hoja del modelo numérico. "},{"$f":"PPII_YNC!F131","v":"N/A"},{"$f":"PPII_YNC!G131","v":"Aplica"},{"$f":"PPII_YNC!H131","v":"N/A"},{"$f":"PPII_YNC!I131","v":"N/A"},{"$f":"PPII_YNC!J131","v":"N/A"},{"$f":"PPII_YNC!K131","v":"Temporal"}]
[{"$f":"PPII_YNC!D132","v":0},{"$f":"PPII_YNC!B132","v":"HIDROGEOLOGÍA"},{"$f":"PPII_YNC!E132","v":"Presentar en el respectivo Informe de Cumplimiento Ambiental – ICA una vez perforado el primero pozo de FFHH, la actualización del modelo hidrogeológico conceptual con todos los componentes (geológico, geofísico, unidades hidrogeológicas, hidrológico, inventario de puntos de agua subterránea, usos del agua subterránea, sistemas de flujo subterráneo, hidráulica, hidrogeoquímica, isotópica, calidad del agua subterránea y vulnerabilidad intrínseca a la contaminación) empleando la información obtenida de los monitoreos efectuados hasta ese momento, así como la información obtenida de la perforación del pozo FFHH, incluyendo interpretación litológica, registros geofísicos de pozo, etc. "},{"$f":"PPII_YNC!F132","v":"N/A"},{"$f":"PPII_YNC!G132","v":"N/A"},{"$f":"PPII_YNC!H132","v":"Aplica"},{"$f":"PPII_YNC!I132","v":"N/A"},{"$f":"PPII_YNC!J132","v":"N/A"},{"$f":"PPII_YNC!K132","v":"Temporal"}]
[{"$f":"PPII_YNC!D133","v":0},{"$f":"PPII_YNC!B133","v":"HIDROGEOLOGÍA"},{"$f":"PPII_YNC!E133","v":"Actualizar el modelo numérico estacionario con base en la actualización del modelo conceptual. Luego, correr el modelo en estado transitorio para los diferentes escenarios de acuerdo con la actividad. Presentar dicha información en los Informes de Cumplimiento Ambiental – ICA una vez perforado el primer pozo de FFHH."},{"$f":"PPII_YNC!F133","v":"N/A"},{"$f":"PPII_YNC!G133","v":"N/A"},{"$f":"PPII_YNC!H133","v":"Aplica"},{"$f":"PPII_YNC!I133","v":"N/A"},{"$f":"PPII_YNC!J133","v":"N/A"},{"$f":"PPII_YNC!K133","v":"Temporal"}]
[{"$f":"PPII_YNC!D134","v":0},{"$f":"PPII_YNC!B134","v":"HIDROGEOLOGÍA"},{"$f":"PPII_YNC!E134","v":"Presentar en el respectivo Informe de Cumplimiento Ambiental – ICA el modelo conceptual final a la terminación de la etapa concomitante teniendo en cuenta los componentes (geológico, geofísico, unidades hidrogeológicas, hidrológico, inventario de puntos de agua subterránea, usos del agua subterránea, sistemas de flujo subterráneo, hidráulica, hidrogeoquímica, isotópica, calidad del agua subterránea y vulnerabilidad intrínseca a la contaminación) empleando la información obtenida de los monitoreos efectuados hasta ese momento, así como la información obtenida de la perforación de todos los pozos, incluyendo interpretación litológica, registros geofísicos de los pozos, etc. "},{"$f":"PPII_YNC!F134","v":"N/A"},{"$f":"PPII_YNC!G134","v":"N/A"},{"$f":"PPII_YNC!H134","v":"Aplica"},{"$f":"PPII_YNC!I134","v":"N/A"},{"$f":"PPII_YNC!J134","v":"N/A"},{"$f":"PPII_YNC!K134","v":"Temporal"}]
[{"$f":"PPII_YNC!D135","v":0},{"$f":"PPII_YNC!B135","v":"FLUIDOS DE RETORNO Y AGUAS DE PRODUCCIÓN"},{"$f":"PPII_YNC!E135","v":"Para el monitoreo y seguimiento a la gestión de los fluidos de retorno y de agua de producción, se debe:\n\na) Reportar de manera diaria a través del correo electrónico centromonitoreo@anla.gov.co el registro del volumen diario del fluido de retorno y aguas de producción generadas durante la actividad del PPII.\nb) Reportar mensualmente a través de los respectivos Informes de Cumplimiento Ambiental - ICA:\ni. Análisis geoquímicos de iones del fluido de fracturamiento combinados con información de la mineralogía del reservorio, modelamiento e interpretaciones termodinámicas que justifiquen la representatividad, con el fin de explicar la composición del fluido de retorno o de agua de producción posterior a todas las etapas de fracturamiento hidráulico del pozo.\nii. Composición del fluido recuperado según: los parámetros establecidos en la Tablas 8. Parámetros fisicoquímicos y microbiológicos a caracterizar en las fuentes de agua subterránea asociadas al área de influencia, y Tabla 16. Parámetros adicionales para caracterizar los fluidos de retorno y de agua de producción de los Términos de Referencia de PPII, los compuestos asociados al fluido de fracturamiento, los que se prevén resulten de la reacción del fluido de fracturamiento al relacionarse con el yacimiento y los que surgen como aguas connatas del yacimiento mismo.\niii. Tabla y análisis comparativo entre volumen de fluido de fracturamiento hidráulico inyectado y de fluido de retorno o de agua de producción generado para cada pozo. Incluir el porcentaje aproximado del fluido de fracturación inyectado que retorna a superficie como fluido de retorno y el volumen de las aguas producidas.\niv. Tabla y análisis comparativo con las diferencias de la composición fisicoquímica entre el fluido de fracturamiento hidráulico utilizado y el fluido de retorno generado, resaltando elementos químicos no presentes en el fluido de fracturamiento que pudieran ser naturalmente ocurrentes en el yacimiento y pudieran estar siendo arrastradas por el mismo yacimiento o como resultado de reacciones químicas. Para el monitoreo de los radionucleidos de origen natural se deben observar los lineamientos técnicos para el muestreo y análisis de laboratorio suministrados por el SGC.\nv. En caso de reutilización de fluido de retorno o de agua de producción como fluido de fracturamiento hidráulico, reportar el porcentaje y volumen reutilizado."},{"$f":"PPII_YNC!F135","v":"N/A"},{"$f":"PPII_YNC!G135","v":"N/A"},{"$f":"PPII_YNC!H135","v":"Aplica"},{"$f":"PPII_YNC!I135","v":"N/A"},{"$f":"PPII_YNC!J135","v":"N/A"},{"$f":"PPII_YNC!K135","v":"Permanente"}]
[{"$f":"PPII_YNC!D136","v":0},{"$f":"PPII_YNC!B136","v":"FLUIDOS DE RETORNO Y AGUAS DE PRODUCCIÓN"},{"$f":"PPII_YNC!E136","v":"No se podrán mezclar o almacenar componentes del fluido de retorno y aguas de producción en piscinas al aire libre, únicamente en tanques cerrados (frac tanks u otros similares) con tapa y ventilación de seguridad, o tanques abiertos con las medidas establecidas en esta sección y mientras se garantice que los niveles de COVs no superen la normatividad vigente o las referencias internacionales seleccionadas por sustancia específica."},{"$f":"PPII_YNC!F136","v":"N/A"},{"$f":"PPII_YNC!G136","v":"N/A"},{"$f":"PPII_YNC!H136","v":"Aplica"},{"$f":"PPII_YNC!I136","v":"N/A"},{"$f":"PPII_YNC!J136","v":"N/A"},{"$f":"PPII_YNC!K136","v":"Permanente"}]
[{"$f":"PPII_YNC!D137","v":0},{"$f":"PPII_YNC!B137","v":"FRACTURAMIENTO HIDRÁULICO"},{"$f":"PPII_YNC!E137","v":"Reportar en los respectivos Informes de Cumplimiento Ambiental – ICA: cantidades, concentraciones de los aditivos que componen el fluido de fracturamiento en cada etapa de fracturamiento, nombre químico y común, incluidos los cambios en las características físico químicas de estos fluidos, en caso de presentarse. Dicha información también deberá estar disponible en el sitio web de la empresa.   "},{"$f":"PPII_YNC!F137","v":"N/A"},{"$f":"PPII_YNC!G137","v":"N/A"},{"$f":"PPII_YNC!H137","v":"Aplica"},{"$f":"PPII_YNC!I137","v":"N/A"},{"$f":"PPII_YNC!J137","v":"N/A"},{"$f":"PPII_YNC!K137","v":"Permanente"}]
[{"$f":"PPII_YNC!D138","v":0},{"$f":"PPII_YNC!B138","v":"GESTIÓN INTEGRAL DE AGUAS"},{"$f":"PPII_YNC!E138","v":"Llevar un registro (base de datos) mensual y acumulado de los volúmenes y caudales de las aguas gestionadas en el proyecto, indicando las diferentes actividades en las que fueron utilizadas (perforación, fracturamiento hidráulico, riego en vías, mantenimiento de equipos, domésticas, entre otras) asociadas a [Espacio para indicar los permisos/autorizaciones respectivas que se hayan autorizado al proyecto: vertimientos, concesión de aguas, compra de agua, reúso, entrega de aguas residuales para reúso, entrega de aguas residuales a terceros, inyección para disposición final, evaporación forzada, entre otras], lo cual se soportará mediante un balance de masa, en términos de volumen, que se presentará en cada Informe de Cumplimiento Ambiental - ICA, según el periodo reportado. Así mismo, este registro deberá estar disponible en la página web de la empresa y en el Centro de Transparencia de que trata el Decreto 0328 del 2020 de Minminas."},{"$f":"PPII_YNC!F138","v":"N/A"},{"$f":"PPII_YNC!G138","v":"Aplica"},{"$f":"PPII_YNC!H138","v":"Aplica"},{"$f":"PPII_YNC!I138","v":"Aplica"},{"$f":"PPII_YNC!J138","v":"Aplica"},{"$f":"PPII_YNC!K138","v":"Permanente"}]
[{"$f":"PPII_YNC!D139","v":0},{"$f":"PPII_YNC!B139","v":"TERMINACIÓN DE ACTIVIDADES DE FRACTURAMIENTO"},{"$f":"PPII_YNC!E139","v":"Dentro de los diez (10) días previos a la terminación de las actividades de la aplicación de la técnica de Fracturamiento Hidráulico Multietapa con Perforación Horizontal - FH-PH en yacimientos no convencionales - YNC, actividad que finaliza con el dimensionamiento del yacimiento (terminación de etapa concomitante de acuerdo al Decreto 328 del 2020), el titular de la presente licencia ambiental informará a la ANLA, mediante oficio dirigido a la Subdirección de Seguimiento de Licencias Ambientales, la fecha de terminación de actividades y presentará para pronunciamiento de esta autoridad las medidas de mantenimiento de las instalaciones, las medidas de manejo y seguimiento a implementar desde los medios abiótico, biótico y socioeconómico durante la etapa de evaluación, así como un balance del estado de los recursos naturales en comparación con la línea base."},{"$f":"PPII_YNC!F139","v":"N/A"},{"$f":"PPII_YNC!G139","v":"N/A"},{"$f":"PPII_YNC!H139","v":"Aplica"},{"$f":"PPII_YNC!I139","v":"N/A"},{"$f":"PPII_YNC!J139","v":"N/A"},{"$f":"PPII_YNC!K139","v":"Temporal"}]
[{"$f":"PPII_YNC!D140","v":0},{"$f":"PPII_YNC!B140","v":"SUSPENSIÓN TEMPORAL"},{"$f":"PPII_YNC!E140","v":"Realizar la suspensión de actividades del PPII cuando se presenten las situaciones de las que trata el artículo 17 y 28 de la Resolución 40185 del 2020 del Minminas, o la norma que la modifique o sustituya, para lo cual deberá implementar las acciones allí mencionadas, dar cumplimiento a las obligaciones relacionadas con el Plan de Contingencia aprobadas por esta autoridad en el presente acto administrativo e informar mediante oficio dirigido a la Subdirección de Seguimiento de Licencias Ambientales dentro de las 24 h posteriores a la suspensión."},{"$f":"PPII_YNC!F140","v":"N/A"},{"$f":"PPII_YNC!G140","v":"N/A"},{"$f":"PPII_YNC!H140","v":"N/A"},{"$f":"PPII_YNC!I140","v":"N/A"},{"$f":"PPII_YNC!J140","v":"Aplica"},{"$f":"PPII_YNC!K140","v":"Temporal"}]
[{"$f":"PPII_YNC!D141","v":0},{"$f":"PPII_YNC!B141","v":"DESMANTELAMIENTO Y ABANDONO"},{"$f":"PPII_YNC!E141","v":"Una vez surtida la etapa de evaluación del PPII de acuerdo con el artículo 2.2.1.1.1A.2.14 del Decreto 328 de 2020 y en el evento en que no sea viable continuar con la etapa de exploración comercial, el titular de la licencia ambiental deberá dar cumplimiento al artículo 2.2.2.3.9.2 del Decreto 1076 del 2015, o la norma que lo modifique y/o sustituya, y a las obligaciones establecidas en la licencia ambiental relacionadas con desmantelamiento y abandono."},{"$f":"PPII_YNC!F141","v":"N/A"},{"$f":"PPII_YNC!G141","v":"N/A"},{"$f":"PPII_YNC!H141","v":"N/A"},{"$f":"PPII_YNC!I141","v":"N/A"},{"$f":"PPII_YNC!J141","v":"Aplica"},{"$f":"PPII_YNC!K141","v":"Temporal"}]
[{"$f":"PPII_YNC!D142","v":0},{"$f":"PPII_YNC!B142","v":"DESMANTELAMIENTO Y ABANDONO"},{"$f":"PPII_YNC!E142","v":"Previo al inicio de la fase de desmantelamiento y abandono, el titular de la licencia ambiental allegará  a la ANLA, copia de la forma 10ACR diligenciada y aprobada por la ANH, certificando el Taponamiento y Abandono de la totalidad de los pozos perforados en la locación, conforme al parágrafo 2 del artículo 2.2.2.3.9.2 del Decreto 1076 del 2015, o la norma que lo modifique y/o sustituya."},{"$f":"PPII_YNC!F142","v":"N/A"},{"$f":"PPII_YNC!G142","v":"N/A"},{"$f":"PPII_YNC!H142","v":"N/A"},{"$f":"PPII_YNC!I142","v":"N/A"},{"$f":"PPII_YNC!J142","v":"Aplica"},{"$f":"PPII_YNC!K142","v":"Temporal"}]
[{"$f":"PPII_YNC!D143","v":0},{"$f":"PPII_YNC!B143","v":"COMPENSACIONES DEL MEDIO BIÓTICO"},{"$f":"PPII_YNC!E143","v":"En ningún caso las actividades de compensación podrán generar impactos adicionales a los ya identificados por el proyecto; en este sentido, para la implementación de las actividades de compensación no se podrá hacer uso y/o aprovechamiento de recursos naturales adicionales a los ya aprobados para las actividades en el presente acto administrativo."},{"$f":"PPII_YNC!F143","v":"N/A"},{"$f":"PPII_YNC!G143","v":"Aplica"},{"$f":"PPII_YNC!H143","v":"Aplica"},{"$f":"PPII_YNC!I143","v":"N/A"},{"$f":"PPII_YNC!J143","v":"Aplica"},{"$f":"PPII_YNC!K143","v":"Permanente"}]
[{"$f":"PPII_YNC!D144","v":0},{"$f":"PPII_YNC!B144","v":"COMPENSACIONES DEL MEDIO BIÓTICO"},{"$f":"PPII_YNC!E144","v":"Dar inicio a las actividades de compensación en un periodo máximo de 6 meses una vez iniciada la actividad que da origen al impacto y a la respectiva compensación, incluyendo las consideraciones de adicionalidad y/u obligaciones específicas del acto administrativo, de conformidad con el articulo 3 de la Resolución 256 del 22 de febrero de 2018, o aquella norma que la modifique, derogue o sustituya, e informar a esta autoridad mediante oficio dirigido a la Subdirección de Seguimiento de Licencias Ambientales el inicio de las  actividades de compensación."},{"$f":"PPII_YNC!F144","v":"N/A"},{"$f":"PPII_YNC!G144","v":"Aplica"},{"$f":"PPII_YNC!H144","v":"Aplica"},{"$f":"PPII_YNC!I144","v":"N/A"},{"$f":"PPII_YNC!J144","v":"N/A"},{"$f":"PPII_YNC!K144","v":"Temporal"}]
[{"$f":"PPII_YNC!D145","v":0},{"$f":"PPII_YNC!B145","v":"COMPENSACIONES DEL MEDIO BIÓTICO"},{"$f":"PPII_YNC!E145","v":"Parágrafo 1: El cumplimiento de objetivos y obligaciones asociadas a las formas agrupadas de implementación de los planes de compensación del medio biótico e inversión forzosa de no menos del 1% a las que se refiere el Manual de Compensaciones del Componente Biótico y el Articulo  2.2.9.3.1.12. del Decreto 1076 de 2015, o aquella norma que la modifique o sustituya, se presentarán de manera independiente en los Informes de Cumplimiento Ambiental de cada proyecto y de cada obligación correspondiente, bajo el modelo de almacenamiento geográfico establecido en la Resolución 2182 de 2016 del MADS, o la que la modifique o sustituya."},{"$f":"PPII_YNC!F145","v":" -"},{"$f":"PPII_YNC!G145","v":" -"},{"$f":"PPII_YNC!H145","v":" -"},{"$f":"PPII_YNC!I145","v":" -"},{"$f":"PPII_YNC!J145","v":" -"},{"$f":"PPII_YNC!K145","v":" -"}]
[{"$f":"PPII_YNC!D146","v":0},{"$f":"PPII_YNC!B146","v":"COMPENSACIONES DEL MEDIO BIÓTICO"},{"$f":"PPII_YNC!E146","v":"Parágrafo 2: No se deberán presentar superposiciones entre las áreas destinadas para el cumplimiento de las obligaciones de compensación o de inversión forzosa de no menos del 1%, así como tampoco con áreas destinadas al cumplimiento de obligaciones impuestas a cualquier otro expediente, máxime cuando se trate de la misma actividad propuesta para el cumplimiento de la obligación."},{"$f":"PPII_YNC!F146","v":" -"},{"$f":"PPII_YNC!G146","v":" -"},{"$f":"PPII_YNC!H146","v":" -"},{"$f":"PPII_YNC!I146","v":" -"},{"$f":"PPII_YNC!J146","v":" -"},{"$f":"PPII_YNC!K146","v":" -"}]
[{"$f":"PPII_YNC!D147","v":0},{"$f":"PPII_YNC!B147","v":"COMPENSACIONES DEL MEDIO BIÓTICO"},{"$f":"PPII_YNC!E147","v":"Entregar mediante oficio dirigido a la Subdirección de Seguimiento de Licencias Ambientales - SSLA, el cronograma con las fechas de presentación de las áreas definitivas de compensación a esta Autoridad para su aprobación, previo al inicio de las actividades que generan el impacto, contemplando la condición del inicio de la implementación de las acciones de compensación en un máximo de seis meses después del inicio de las actividades que generan el impacto. Cualquier modificación deberá ser informada y autorizada por la autoridad, quien se pronunciará sobre la pertinencia de las modificaciones solicitadas."},{"$f":"PPII_YNC!F147","v":"N/A"},{"$f":"PPII_YNC!G147","v":"Aplica"},{"$f":"PPII_YNC!H147","v":"N/A"},{"$f":"PPII_YNC!I147","v":"N/A"},{"$f":"PPII_YNC!J147","v":"N/A"},{"$f":"PPII_YNC!K147","v":"Puntual"}]
[{"$f":"PPII_YNC!D148","v":0},{"$f":"PPII_YNC!B148","v":"COMPENSACIONES DEL MEDIO BIÓTICO"},{"$f":"PPII_YNC!E148","v":"En caso de identificar que, una vez finalizada la actividad que genera la compensación, se incurre en una compensación de menor o mayor área a la aprobada mediante el presente acto administrativo, el titular de la licencia informará a esta autoridad los ajustes al plan de compensación para que en el marco del seguimiento ambiental sea objeto de análisis y aprobación."},{"$f":"PPII_YNC!F148","v":"N/A"},{"$f":"PPII_YNC!G148","v":"Aplica"},{"$f":"PPII_YNC!H148","v":"Aplica"},{"$f":"PPII_YNC!I148","v":"N/A"},{"$f":"PPII_YNC!J148","v":"N/A"},{"$f":"PPII_YNC!K148","v":"Permanente"}]
[{"$f":"PPII_YNC!D149","v":0},{"$f":"PPII_YNC!B149","v":"COMPENSACIONES DEL MEDIO BIÓTICO"},{"$f":"PPII_YNC!E149","v":"Las áreas definitivas para el desarrollo de las actividades aprobadas de compensación deberán estar inmersas en las áreas preliminares aprobadas mediante el presente acto administrativo, en caso contrario, deberán ser debidamente justificadas garantizando la adicionalidad y las mismas condiciones de modo, tiempo y lugar que fueron objeto de aprobación, con el fin de ser presentadas a esta autoridad para que en el marco del seguimiento ambiental sea objeto de análisis y aprobación de conformidad con lo dispuesto en el articulo 4 de la resolución 256 del 22 de febrero de 2018 o aquella norma que la modifique o sustituya."},{"$f":"PPII_YNC!F149","v":"N/A"},{"$f":"PPII_YNC!G149","v":"Aplica"},{"$f":"PPII_YNC!H149","v":"Aplica"},{"$f":"PPII_YNC!I149","v":"N/A"},{"$f":"PPII_YNC!J149","v":"Aplica"},{"$f":"PPII_YNC!K149","v":"Permanente"}]
[{"$f":"PPII_YNC!D150","v":0},{"$f":"PPII_YNC!B150","v":"COMPENSACIONES DEL MEDIO BIÓTICO"},{"$f":"PPII_YNC!E150","v":"En caso de cambio en las acciones, sitios, modos, mecanismos y/o formas de compensación aprobadas, presentarlos a esta autoridad para que en el marco del seguimiento ambiental sea objeto de análisis y aprobación, de conformidad con lo dispuesto en el articulo 4 de la resolución 256 del 22 de febrero de 2018 o aquella norma que la modifique o sustituya."},{"$f":"PPII_YNC!F150","v":"N/A"},{"$f":"PPII_YNC!G150","v":"Aplica"},{"$f":"PPII_YNC!H150","v":"Aplica"},{"$f":"PPII_YNC!I150","v":"N/A"},{"$f":"PPII_YNC!J150","v":"Aplica"},{"$f":"PPII_YNC!K150","v":"Permanente"}]
[{"$f":"PPII_YNC!D151","v":0},{"$f":"PPII_YNC!B151","v":"COMPENSACIONES DEL MEDIO BIÓTICO"},{"$f":"PPII_YNC!E151","v":"El titular de la licencia ambiental, deberá presentar en los respectivos Informes de Cumplimiento Ambiental - ICA, un informe de avance, el cual debe contener como mínimo: \n\na) Comparación de la caracterización detallada de los polígonos elegidos para llevar a cabo las acciones de compensación del medio biótico, respecto a los resultados obtenidos durante el seguimiento y monitoreo propuesto, para cada uno de los indicadores y realizar el análisis de efectividad respectivo, así como la propuesta de ajuste en caso de resultados desfavorables. \nb) Información geográfica del área compensada a la fecha de presentación del informe de avance, incluyendo la respectiva discriminación por acción de compensación, y porcentaje de avance con respecto al área total a compensar. \nc) Estado de los ecosistemas del área de compensación propuestas para las acciones de restauración, preservación y/o uso sostenible, las cuales deberán ser coherentes con las necesidades del territorio frente a procesos de conservación y restauración ecológica, así como los instrumentos de planificación y ordenamiento territorial.\nd) Descripción de las actividades ejecutadas, que incluya los soportes y registro fotográfico que evidencien cada una de las actividades propuestas en la fase de implementación, seguimiento y monitoreo para las acciones aprobadas.\ne) Porcentaje de avance de acuerdo al cronograma.\n\nParágrafo: La compensación se dará por cumplida una vez se logre el cumplimiento de los objetivos y metas propuestos por la sociedad en términos ecológicos, biológicos y/o ecosistémicos. "},{"$f":"PPII_YNC!F151","v":"N/A"},{"$f":"PPII_YNC!G151","v":"Aplica"},{"$f":"PPII_YNC!H151","v":"Aplica"},{"$f":"PPII_YNC!I151","v":"N/A"},{"$f":"PPII_YNC!J151","v":"Aplica"},{"$f":"PPII_YNC!K151","v":"Permanente"}]
[{"$f":"PPII_YNC!D152","v":0},{"$f":"PPII_YNC!B152","v":"COMPENSACIONES DEL MEDIO BIÓTICO"},{"$f":"PPII_YNC!E152","v":"El titular de la licencia ambiental evidenciará y cuantificará la no pérdida neta de biodiversidad de la que trata el \"Manual de compensaciones del componente biótico\", utilizando como ecosistema de referencia las áreas de afectación que generan las obligaciones de compensación, para lo cual deberá presentar en el primer Informe de Cumplimiento Ambiental - ICA de la fase constructiva, con base en los datos de línea base del estudio de impacto ambiental: \n\na) El cálculo de los indicadores contenidos en el documento \"Indicadores de impacto para el seguimiento de las obligaciones de compensación y planes de inversión del 1%\" para los ecosistemas de referencia. \nb) Las metas actualizadas del plan de compensación en términos de composición, estructura y función de las acciones a implementar, de acuerdo con los resultados de los atributos ecológicos obtenidos de la aplicación de los indicadores en los ecosistemas de referencia.\n\nEn los siguientes Informes de Cumplimiento Ambiental - ICA se deberá presentar el cálculo de los indicadores de impacto para las áreas de compensación, con el fin de establecer el cumplimiento de las metas en términos de la efectividad de las medidas de compensación asociadas a la no pérdida neta de biodiversidad. \n\nParágrafo: En caso de cambios en las áreas u acciones de compensación, las metas deberán ser actualizadas de acuerdo con el resultados de los indicadores de impacto para la composición, estructura y función de los ecosistemas de referencia."},{"$f":"PPII_YNC!F152","v":"N/A"},{"$f":"PPII_YNC!G152","v":"Aplica"},{"$f":"PPII_YNC!H152","v":"Aplica"},{"$f":"PPII_YNC!I152","v":"N/A"},{"$f":"PPII_YNC!J152","v":"Aplica"},{"$f":"PPII_YNC!K152","v":"Permanente"}]
[{"$f":"PPII_YNC!D153","v":0},{"$f":"PPII_YNC!B153","v":"COMPENSACIONES DEL MEDIO BIÓTICO"},{"$f":"PPII_YNC!E153","v":"Al titular de la licencia en ningún caso le será posible atribuir el cumplimiento de los objetivos de compensación a un tercero."},{"$f":"PPII_YNC!F153","v":"N/A"},{"$f":"PPII_YNC!G153","v":"Aplica"},{"$f":"PPII_YNC!H153","v":"Aplica"},{"$f":"PPII_YNC!I153","v":"N/A"},{"$f":"PPII_YNC!J153","v":"Aplica"},{"$f":"PPII_YNC!K153","v":"Permanente"}]
[{"$f":"PPII_YNC!D154","v":0},{"$f":"PPII_YNC!B154","v":"INVERSIÓN DEL 1%"},{"$f":"PPII_YNC!E154","v":"Informar a la ANLA por medio de oficio dirigido a la Subdirección de Seguimiento de Licencias Ambientales, la fecha de finalización de las actividades de construcción y montaje del proyecto."},{"$f":"PPII_YNC!F154","v":"N/A"},{"$f":"PPII_YNC!G154","v":"Aplica"},{"$f":"PPII_YNC!H154","v":"N/A"},{"$f":"PPII_YNC!I154","v":"N/A"},{"$f":"PPII_YNC!J154","v":"N/A"},{"$f":"PPII_YNC!K154","v":"Temporal"}]
[{"$f":"PPII_YNC!D155","v":0},{"$f":"PPII_YNC!B155","v":"INVERSIÓN DEL 1%"},{"$f":"PPII_YNC!E155","v":"Presentar e iniciar la ejecución del Plan de inversión detallado con la liquidación de las inversiones efectivamente realizadas en pesos colombianos y debidamente discriminada en términos contables, certificada por contador, revisor fiscal o representante legal, conforme al articulo 321 de la ley 1955 del 2019, o la ley que la modifique o sustituya, y las acciones específicas de destinación de los recursos en el marco de las líneas generales y ámbito geográfico aprobado dentro de los seis (6) meses siguientes a la finalización de las actividades de construcción y montaje del proyecto. Como parte integral de este plan, presentar el anexo geográfico con la información detallada en los términos y condiciones que exige el Modelo de Almacenamiento Geográfico adoptado a través de la Resolución 2182 de 2016 del Ministerio de Ambiente y Desarrollo Sostenible, o la que la modifique o sustituya, y/o el modelo de almacenamiento geográfico complementario PPII - YNC publicado en el micrositio de esta autoridad destinado para los Proyectos Piloto de Investigación Integral de Yacimientos no Convencionales. "},{"$f":"PPII_YNC!F155","v":"N/A"},{"$f":"PPII_YNC!G155","v":"N/A"},{"$f":"PPII_YNC!H155","v":"Aplica"},{"$f":"PPII_YNC!I155","v":"N/A"},{"$f":"PPII_YNC!J155","v":"N/A"},{"$f":"PPII_YNC!K155","v":"Temporal"}]
[{"$f":"PPII_YNC!D156","v":0},{"$f":"PPII_YNC!B156","v":"INVERSIÓN DEL 1%"},{"$f":"PPII_YNC!E156","v":"Parágrafo: El cumplimiento de objetivos y obligaciones asociadas a las formas agrupadas de implementación de los planes de compensación del medio biótico e inversión de no menos del 1% a las que se refiere el Manual de Compensaciones del Componente Biótico y el Articulo  2.2.9.3.1.12. del Decreto 1076 de 2015, o aquella norma que la modifique o sustituya, se presentarán de manera independiente en los Informes de Cumplimiento Ambiental de cada proyecto y de cada obligación correspondiente, bajo el modelo de almacenamiento geográfico establecido en la Resolución 2182 de 2016 del MADS, o la que la modifique o sustituya, y/o el modelo de almacenamiento geográfico complementario PPII - YNC publicado en el micrositio de esta autoridad destinado para los Proyectos Piloto de Investigación Integral de Yacimientos no Convencionales. "},{"$f":"PPII_YNC!F156","v":" -"},{"$f":"PPII_YNC!G156","v":" -"},{"$f":"PPII_YNC!H156","v":" -"},{"$f":"PPII_YNC!I156","v":" -"},{"$f":"PPII_YNC!J156","v":" -"},{"$f":"PPII_YNC!K156","v":" -"}]
[{"$f":"PPII_YNC!D157","v":0},{"$f":"PPII_YNC!B157","v":"INVERSIÓN DEL 1%"},{"$f":"PPII_YNC!E157","v":"Presentar por medio de oficio dirigido a la Subdirección de Seguimiento de Licencias Ambientales de esta autoridad, la actualización del valor de la liquidación de la inversión en relación con los valores no ejecutados con corte a 31 de diciembre de cada año fiscal, de acuerdo con la fórmula señalada en el parágrafo 1 del artículo 321 de la ley 1955 del 25 de mayo de 2019, con plazo máximo de 31 de marzo del año siguiente."},{"$f":"PPII_YNC!F157","v":"N/A"},{"$f":"PPII_YNC!G157","v":"N/A"},{"$f":"PPII_YNC!H157","v":"Aplica"},{"$f":"PPII_YNC!I157","v":"Aplica"},{"$f":"PPII_YNC!J157","v":"Aplica"},{"$f":"PPII_YNC!K157","v":"Permanente"}]
[{"$f":"PPII_YNC!D158","v":0},{"$f":"PPII_YNC!B158","v":"INVERSIÓN DEL 1%"},{"$f":"PPII_YNC!E158","v":"Dar cumplimiento al Plan de Inversión del 1% de conformidad con el cronograma propuesto y presentar los respectivos soportes de las actividades ejecutadas en los Informes de Cumplimiento Ambiental - ICA y en el modelo de almacenamiento geográfico establecido en la Resolución 2182 de 2016 del MADS, o la que la modifique o sustituya, y/o el modelo de almacenamiento geográfico complementario PPII - YNC publicado en el micrositio de esta autoridad destinado para los Proyectos Piloto de Investigación Integral de Yacimientos no Convencionales. "},{"$f":"PPII_YNC!F158","v":"N/A"},{"$f":"PPII_YNC!G158","v":"N/A"},{"$f":"PPII_YNC!H158","v":"Aplica"},{"$f":"PPII_YNC!I158","v":"Aplica"},{"$f":"PPII_YNC!J158","v":"Aplica"},{"$f":"PPII_YNC!K158","v":"Permanente"}]
[{"$f":"PPII_YNC!D159","v":0},{"$f":"PPII_YNC!B159","v":"MICROORGANISMOS "},{"$f":"PPII_YNC!E159","v":"Monitorear los mismos microorganismos (bacterias, hongos y microorganismos eucariotas) reportados en la línea base y en todas las matrices caracterizadas (agua subterránea, agua superficial, suelo y sedimento), así como en el agua de inyección y en el agua de los intervalos a inyectar en la formación receptora, bajo las siguientes condiciones:                \n\na) Monitorear de manera simultánea al muestreo de microorganismos, los parámetros fisicoquímicos (pH, conductividad eléctrica, oxígeno disuelto, potencial redox, sólidos disueltos totales y temperatura).\nb) Los monitoreos en la matriz de agua subterránea deben realizarse antes, durante (en una etapa intermedia) y después de la etapa de fracturamiento (durante la etapa de limpieza o flowback). \nc) Para las matrices de agua superficial, suelo y sedimento, los monitoreos deben hacerse finalizada la etapa de fracturamiento (durante la etapa de limpieza o flowback) y durante la etapa de dimensionamiento (en una etapa intermedia). \nd) Los monitoreos del agua de los intervalos a inyectar en la formación receptora deben realizarse una vez durante el completamiento del pozo inyector (previo a las pruebas de inyectividad) y los monitoreos del agua de inyección, después del periodo de limpieza o flowback (a la salida del sistema de tratamiento del agua de producción).  \ne) Los monitoreos deben realizarse en los mismos puntos definidos para la caracterización de la línea base. En agua subterránea se deben considerar adicionalmente, los piezómetros aledaños a los pozos de investigación, captación e inyección.\nf) Utilizar la misma metodología descrita en el Estudio de impacto ambiental y conforme a lo establecido en los Términos de Referencia para PPII. Adicionalmente, se deben considerar aspectos como: incluir réplicas de PCR (réplicas técnicas) y controles positivos y negativos de extracción, depositar las secuencias crudas en una base de datos de dominio público (National Center for Biotechnology Information-NCBI, European Nucleotide Archive-ENA, DNA Data Bank of Japan-DDBJ, etc), e indicar a esta Autoridad el respectivo número de acceso.\ng) Presentar en los Informes de Cumplimiento Ambiental- ICA, los resultados de los monitoreos y los análisis de los mismos, correlacionados con la información fisicoquímica, detallando los procedimientos realizados para la toma de muestras, extracción del ADN, secuenciación, depuración y procesamiento bioinformático de las secuencias obtenidas, agrupamiento de las secuencias por similitud y asignación taxonómica. Además de incluir todos los anexos generados durante el procesamiento de la información (archivos resultantes del análisis bioinformático, análisis estadísticos, gráficos y secuencias crudas). \nh) Documentar los resultados y la información de los muestreos haciendo uso del modelo de almacenamiento geográfico establecido en la Resolución 2182 de 2016 del MADS, o aquella norma que la modifique o sustituya, y/o el modelo de almacenamiento geográfico complementario para los PPII – YNC."},{"$f":"PPII_YNC!F159","v":"N/A"},{"$f":"PPII_YNC!G159","v":"N/A"},{"$f":"PPII_YNC!H159","v":"Aplica"},{"$f":"PPII_YNC!I159","v":"N/A"},{"$f":"PPII_YNC!J159","v":"N/A"},{"$f":"PPII_YNC!K159","v":"Permanente"}]
[{"$f":"PPII_YNC!D160","v":0},{"$f":"PPII_YNC!B160","v":"PLAN DE GESTIÓN DEL RIESGO"},{"$f":"PPII_YNC!E160","v":"Presentar en los Informes de Cumplimiento Ambiental – ICA, la revisión y/o complemento del Plan de Contingencia siguiendo los lineamientos descritos en el Decreto 1081 del 2015 adicionado por el Decreto 2157 de 2017 en el Artículo 2.3.1.5.2.1.1, Numeral 3.1.2, Literal f y el Decreto 1076 de 2015 en el Artículo 2.2.2.3.5.1, Numeral 9 y el Artículo 2.2.2.3.9.3 o aquellos que los modifiquen o sustituyan y en caso de no presentarse un ajuste en el documento, indicar las razones por las cuales no se realiza:\n\na. Ante nuevas exigencias o cambios en la legislación nacional referente al plan de contingencia, en los plazos establecidos en las mismas.\nb. Cuando se introduzcan cambios en los procesos que aumenten la probabilidad de ocurrencia de una contingencia ambiental y/o consecuencia de la materialización del riesgo.  \nc. Ante cambios en las valoraciones de los escenarios de riesgo presentes en el proyecto.\nd. Ante la ocurrencia de una contingencia que evidencie la necesidad de ajuste del plan.\ne. Ante evidencias producto del proceso de seguimiento y control efectuado por la Autoridad Ambiental Competente."},{"$f":"PPII_YNC!F160","v":"N/A"},{"$f":"PPII_YNC!G160","v":"Aplica"},{"$f":"PPII_YNC!H160","v":"Aplica"},{"$f":"PPII_YNC!I160","v":"Aplica"},{"$f":"PPII_YNC!J160","v":"Aplica"},{"$f":"PPII_YNC!K160","v":"Permanente"}]
[{"$f":"PPII_YNC!D161","v":0},{"$f":"PPII_YNC!B161","v":"PLAN DE GESTIÓN DEL RIESGO"},{"$f":"PPII_YNC!E161","v":"Reportar los eventos de contingencia a través de la plataforma VITAL diligenciando los Formatos Únicos de Contingencia, de conformidad con los tiempos establecidos en el artículo 2do de la Resolución 1767 de 2016 o aquellos que los modifiquen o sustituyan, ya sea para los eventos que se generen del proyecto hacia el medio o del medio hacia el proyecto. Teniendo en cuenta lo dispuesto en los campos del formato único de reporte de contingencia y de manera adicional, desarrollar las siguientes actividades:\n\na) Realizar el monitoreo de suelo, aguas superficiales o subterráneas teniendo en cuenta los Parámetros adicionales para caracterizar los fluidos de retorno y de agua de producción, Parámetros fisicoquímicos y biológicos a caracterizar en suelos de soporte de la infraestructura requerida, parámetros fisicoquímicos a monitorear para caracterizar los cuerpos de agua superficiales, Parámetros fisicoquímicos y microbiológicos a caracterizar en las fuentes de agua subterránea (incluyendo el monitoreo de microorganismos empleando la metodología de metabarcoding) y Elementos radiactivos de interés de origen natural por componente, que hacen parte de la caracterización de linea base ambiental, según aplique.\nb) Si existe una pérdida de integridad del pozo o potencial interconexión de pozos (sean abandonados, activos o inactivos) se deberán suspender las operaciones de manera inmediata y reportar las afectaciones generadas, así mismo adicional al reporte de contingencia, se deberá presentar un informe a la Autoridad Nacional de Licencias Ambientales -ANLA de las acciones correctivas ejecutadas para controlar y mitigar el riesgo materializado, en donde se incluya el tipo de actividad realizada y los resultados de los monitoreos de los Parámetros fisicoquímicos y microbiológicos a caracterizar en las fuentes de agua subterránea y Parámetros adicionales para caracterizar los fluidos de retorno y de agua de producción (en caso de involucrar fluido de retorno o agua de producción) definidos en la caracterización de linea base ambiental, según aplique.\nc) En caso de afectación a fuentes hídricas, se deberá registrar de manera continua parámetros de pH, Conductividad Eléctrica, Oxígeno disuelto y Temperatura. Los informes de laboratorio que se puedan realizar en Colombia se deben entregar máximo en los tres (3) meses siguientes a la toma de muestra, los que no en los cuatro (4) meses siguientes a la toma de muestra. Toda toma de muestra deberá estar acompañada de aforo líquido.\nd) Si el monitoreo operacional de suelos detecta la liberación acumulativa de sustancias, deben tomarse medidas de mitigación incluyendo, como mínimo, el control de la fuente incluso cuando la concentración de contaminantes esté por debajo de un estándar de calidad del suelo aplicable."},{"$f":"PPII_YNC!F161","v":"N/A"},{"$f":"PPII_YNC!G161","v":"Aplica"},{"$f":"PPII_YNC!H161","v":"Aplica"},{"$f":"PPII_YNC!I161","v":"Aplica"},{"$f":"PPII_YNC!J161","v":"Aplica"},{"$f":"PPII_YNC!K161","v":"Temporal"}]
[{"$f":"PPII_YNC!D162","v":0},{"$f":"PPII_YNC!B162","v":"PLAN DE GESTIÓN DEL RIESGO"},{"$f":"PPII_YNC!E162","v":"Retroalimentar y presentar los análisis de riesgos, incluyendo los cambios que puedan presentarse en el modelo Shale Oil Risk Based Corrective-Action (SO-RBCA) y demás asociados a la metodología implementada, de acuerdo con los resultados presentados posterior a la fase de dimensionamiento del yacimiento, a través de la actualización del proceso de conocimiento del riesgo, según aplique."},{"$f":"PPII_YNC!F162","v":"N/A"},{"$f":"PPII_YNC!G162","v":"N/A"},{"$f":"PPII_YNC!H162","v":"Aplica"},{"$f":"PPII_YNC!I162","v":"N/A"},{"$f":"PPII_YNC!J162","v":"N/A"},{"$f":"PPII_YNC!K162","v":"Temporal"}]
[{"$f":"PPII_YNC!D163","v":0},{"$f":"PPII_YNC!B163","v":"PLAN DE GESTIÓN DEL RIESGO"},{"$f":"PPII_YNC!E163","v":"Realizar en cada fase el seguimiento de las siguientes variables, como parte de las actividades de monitoreo del riesgo:\n\nPerforación y completamiento: Análisis del monitoreo de los niveles de tanques de lodos donde se puedan evidenciar potenciales pérdidas de circulación e influjos para los pozos de desarrollo, inyector y captación, según aplique.\n\nFracturamiento hidraulico y dimensionamiento del yacimiento: Análisis del monitoreo de la variación de la presión en anulares que permita identificar conectividad en las formaciones subyacentes y suprayacentes con la formación objetivo.\n\nDesmantelamiento y abandono: Análisis del monitoreo en las condiciones del pozo definiendo método, variables y frecuencias, con el fin de identificar y prevenir posibles eventos de contingencia en superficie.\n\nLos soportes en la ejecución de dichas actividades deberán remitirse en los Informes de Cumplimiento Ambiental - ICA correspondientes."},{"$f":"PPII_YNC!F163","v":"N/A"},{"$f":"PPII_YNC!G163","v":"N/A"},{"$f":"PPII_YNC!H163","v":"Aplica"},{"$f":"PPII_YNC!I163","v":"Aplica"},{"$f":"PPII_YNC!J163","v":"Aplica"},{"$f":"PPII_YNC!K163","v":"Permanente"}]
[{"$f":"PPII_YNC!D164","v":0},{"$f":"PPII_YNC!B164","v":"PLAN DE GESTIÓN DEL RIESGO"},{"$f":"PPII_YNC!E164","v":"Implementar las medidas de monitoreo asociado a las actividades de atención y seguimiento de los eventos de contingencia que sean necesarias, con el objeto de identificar cambios o afectaciones sobre los medios abiótico, biótico y socioeconómico. "},{"$f":"PPII_YNC!F164","v":"N/A"},{"$f":"PPII_YNC!G164","v":"Aplica"},{"$f":"PPII_YNC!H164","v":"Aplica"},{"$f":"PPII_YNC!I164","v":"Aplica"},{"$f":"PPII_YNC!J164","v":"Aplica"},{"$f":"PPII_YNC!K164","v":"Temporal"}]
[{"$f":"PPII_YNC!D165","v":0},{"$f":"PPII_YNC!B165","v":"PLAN DE GESTIÓN DEL RIESGO"},{"$f":"PPII_YNC!E165","v":"Presentar en los Informes de Cumplimiento Ambiental – ICA, los soportes de la ejecución de las actividades definidas para las intervenciones correctivas y prospectivas de las medidas de reducción del riesgo. En caso de no presentarse, remitir las razones de la no ejecución y soportarlo con evidencias correspondientes a través de informes, cronogramas, actas, registros fotográficos, entre otros. "},{"$f":"PPII_YNC!F165","v":"N/A"},{"$f":"PPII_YNC!G165","v":"Aplica"},{"$f":"PPII_YNC!H165","v":"Aplica"},{"$f":"PPII_YNC!I165","v":"Aplica"},{"$f":"PPII_YNC!J165","v":"N/A"},{"$f":"PPII_YNC!K165","v":"Permanente"}]
[{"$f":"PPII_YNC!D166","v":0},{"$f":"PPII_YNC!B166","v":"PLAN DE GESTIÓN DEL RIESGO"},{"$f":"PPII_YNC!E166","v":"Presentar en los Informes de Cumplimiento Ambiental – ICA, los soportes de las capacitaciones dirigidas al personal del proyecto y las divulgaciones, socializaciones, simulaciones y simulacros sobre el plan de contingencia involucrando las entidades de los Consejos Municipales de Gestión de Riesgo de Desastres (CMGRD) y los Consejos Departamentales de Gestión de Riesgo de Desastres (CDGRD) y las comunidades del área de influencia, según corresponda. En caso de no presentarse algunos de los convocados, remitir las razones de la no ejecución y soportarlo con las evidencias correspondientes a través de oficios, informes, actas, registros fotográficos, entre otros."},{"$f":"PPII_YNC!F166","v":"N/A"},{"$f":"PPII_YNC!G166","v":"Aplica"},{"$f":"PPII_YNC!H166","v":"Aplica"},{"$f":"PPII_YNC!I166","v":"N/A"},{"$f":"PPII_YNC!J166","v":"N/A"},{"$f":"PPII_YNC!K166","v":"Permanente"}]
[{"$f":"PPII_YNC!D167","v":0},{"$f":"PPII_YNC!B167","v":"PLAN DE GESTIÓN DEL RIESGO"},{"$f":"PPII_YNC!E167","v":"Presentar el análisis de los escenarios de riesgo especificos identificados durante las actividades de desmantelamiento y abandono parcial o definitivo, incluyendo las medidas de reducción del riesgo específicas y la definición de los componentes de preparación y ejecución para la respuesta ante contingencias, según aplique."},{"$f":"PPII_YNC!F167","v":"N/A"},{"$f":"PPII_YNC!G167","v":"N/A"},{"$f":"PPII_YNC!H167","v":"N/A"},{"$f":"PPII_YNC!I167","v":"N/A"},{"$f":"PPII_YNC!J167","v":"Aplica"},{"$f":"PPII_YNC!K167","v":"Temporal"}]
[{"$f":"PPII_YNC!D168","v":0},{"$f":"PPII_YNC!B168","v":"PLAN DE GESTIÓN DEL RIESGO"},{"$f":"PPII_YNC!E168","v":"Presentar los soportes de la verificación del estado de los puntos de control en los Informes de Cumplimiento Ambiental (ICA), en donde se describa la siguiente información:\n\na) Nombre de los posibles escenarios de riesgos contemplados en el establecimiento del punto de control.\nb) Nombre de las sustancias involucradas\nc) Descripción y estado de las vias de acceso al punto de control\nd)  Ubicación y georreferenciación del punto de control (origen único nacional)\ne) Estimación de la cantidad de sustancia involucrada de acuerdo al volumen critico y recuperable en el punto de control.\nf) Inventario de recursos disponibles para la primera respuesta"},{"$f":"PPII_YNC!F168","v":"N/A"},{"$f":"PPII_YNC!G168","v":"Aplica"},{"$f":"PPII_YNC!H168","v":"Aplica"},{"$f":"PPII_YNC!I168","v":"Aplica"},{"$f":"PPII_YNC!J168","v":"Aplica"},{"$f":"PPII_YNC!K168","v":"Temporal"}]
[{"$f":"PPII_YNC!D169","v":0},{"$f":"PPII_YNC!B169","v":"GESTIÓN SOCIAL"},{"$f":"PPII_YNC!E169","v":"\nEl titular de la Licencia Ambiental comunicará a través de canales idóneos a las autoridades municipales, comunidades y demás grupos de interés presentes en el área de Influencia, una vez sea notificada la presente resolución: i) los datos del proyecto, obra  o actividad incluyendo el número de contrato, acto administrativo que otorga licencia para el desarrollo del proyecto especificando las actividades que autoriza, datos de contacto; ii) las entidades ​que ejercen funciones de control y seguimiento sobre el proyecto, obra o actividad y sus competencias, tanto en temas ambientales como como administrativos. Las evidencias del cumplimiento de esta obligación se presentarán en el primer Informe de Cumplimiento Ambiental ICA. Lo anterior en el marco de los mecanismos establecidos por el Decreto 328 del 2020 y la Resolución 904 de 2020, o la norma que lo modifique o sustituya, en cuanto a la Transparencia y Participación Ciudadana.\n"},{"$f":"PPII_YNC!F169","v":"Aplica"},{"$f":"PPII_YNC!G169","v":"N/A"},{"$f":"PPII_YNC!H169","v":"N/A"},{"$f":"PPII_YNC!I169","v":"N/A"},{"$f":"PPII_YNC!J169","v":"N/A"},{"$f":"PPII_YNC!K169","v":"Temporal"}]
[{"$f":"PPII_YNC!D170","v":0},{"$f":"PPII_YNC!B170","v":"GESTIÓN SOCIAL"},{"$f":"PPII_YNC!E170","v":"Previo al inicio de actividades y de manera permanente, informar a todos sus contratistas y a todo el personal del proyecto sobre las obligaciones, prohibiciones y medidas de control de la presente resolución, el Estudio de Impacto Ambiental, el Plan de Manejo Ambiental y la normativa vigente, y exigir el estricto cumplimiento de las mismas. Presentar en los Informes de Cumplimiento Ambiental - ICA, los soportes que evidencien las actividades de información adelantadas, en los que deberá quedar explícito el contenido de las actividades de información al personal del proyecto, y demás soportes correspondientes. Lo anterior sin perjuicio a lo establecido en la medidas de manejo ambiental del PMA aprobado."},{"$f":"PPII_YNC!F170","v":"N/A"},{"$f":"PPII_YNC!G170","v":"Aplica"},{"$f":"PPII_YNC!H170","v":"Aplica"},{"$f":"PPII_YNC!I170","v":"N/A"},{"$f":"PPII_YNC!J170","v":"Aplica"},{"$f":"PPII_YNC!K170","v":"Permanente"}]
[{"$f":"PPII_YNC!D171","v":0},{"$f":"PPII_YNC!B171","v":"GESTIÓN SOCIAL"},{"$f":"PPII_YNC!E171","v":"Divulgar la información relacionada con el cumplimiento de las obligaciones ambientales establecidas en la presente resolución a través del Centro de Transparencia sobre el desarrollo de los Proyectos Piloto de Investigación Integral -PPII de acuerdo con lo establecido en el Decreto 0328 del 2020 del MinMinas, o la norma que lo modifique o sustituya. La información divulgada a través de este medio deberá ser de fácil acceso y estar disponible al público en general. Esta información deberá ser entregada al Centro de Transparencia con la periodicidad de cada informe de cumplimiento ambiental ICA."},{"$f":"PPII_YNC!F171","v":"N/A"},{"$f":"PPII_YNC!G171","v":"Aplica"},{"$f":"PPII_YNC!H171","v":"Aplica"},{"$f":"PPII_YNC!I171","v":"N/A"},{"$f":"PPII_YNC!J171","v":"Aplica"},{"$f":"PPII_YNC!K171","v":"Permanente"}]
[{"$f":"PPII_YNC!D172","v":0},{"$f":"PPII_YNC!B172","v":"GESTIÓN SOCIAL"},{"$f":"PPII_YNC!E172","v":"Previo al inicio de cada una de las fases operativas del proyecto el titular de la licencia ambiental deberá realizar reuniones con cada una de las comunidades del área de influencia del proyecto, con el fin de dar a conocer la presente resolución, las obras que en ella se autorizan, los principales impactos, medidas de manejo, medidas de seguimiento y monitoreo, las redes de monitoreo de los diferentes recursos naturales dispuestas para el PPII (en donde se explique claramente la ubicación geográfica, tipo de red, alcance, funcionamiento, toma de datos, obtención de resultados y análisis, sistemas de alertamiento ante resultados, etc.) y resolver las dudas que se puedan presentar al respecto; de igual manera, se deberán realizar reuniones en los casos de autoridades locales y dignatarios de las JAC que asuman funciones en razón de períodos de cambio de administración. Las convocatorias a estas reuniones se deberán efectuar con suficiente antelación y realizarse de manera pública. Se deberá presentar a esta Autoridad mediante los respectivos Informes de Cumplimiento Ambiental - ICA, las constancias de recibido de las convocatorias y las copias de los soportes de estas reuniones en las que se evidencie el proceso, incluyendo listados de asistencia, temáticas desarrolladas, registro fílmico y/o fotográfico, entre otros."},{"$f":"PPII_YNC!F172","v":"Aplica"},{"$f":"PPII_YNC!G172","v":"Aplica"},{"$f":"PPII_YNC!H172","v":"Aplica"},{"$f":"PPII_YNC!I172","v":"N/A"},{"$f":"PPII_YNC!J172","v":"Aplica"},{"$f":"PPII_YNC!K172","v":"Permanente"}]
[{"$f":"PPII_YNC!D173","v":0},{"$f":"PPII_YNC!B173","v":"GESTIÓN SOCIAL"},{"$f":"PPII_YNC!E173","v":"Previo al inicio de las actividades del proyecto, el titular de la presente licencia ambiental deberá informar a las comunidades y autoridades del área de influencia del proyecto, los canales de recepción de PQRS. De lo anterior se deberán entregar los respectivos soportes en el primer Informe de Cumplimiento Ambiental - ICA."},{"$f":"PPII_YNC!F173","v":"N/A"},{"$f":"PPII_YNC!G173","v":"Aplica"},{"$f":"PPII_YNC!H173","v":"Aplica"},{"$f":"PPII_YNC!I173","v":"N/A"},{"$f":"PPII_YNC!J173","v":"Aplica"},{"$f":"PPII_YNC!K173","v":"Permanente"}]
[{"$f":"PPII_YNC!D174","v":0},{"$f":"PPII_YNC!B174","v":"GESTIÓN SOCIAL"},{"$f":"PPII_YNC!E174","v":"El titular de la presente licencia ambiental contará con un formato de recepción de PQRS y elaborará un informe donde se reporten las quejas e inquietudes presentadas, especificando: municipio, vereda, nombre o comunidad que la interpone, datos de contacto del peticionario, descripción del caso, a qué tipo de actividad está asociada respecto a la Licencia Ambiental, tipo de queja y zona(s) donde se concentra el mayor número de casos. Además, se georreferenciará el sitio o lugar en donde se reporta la PQRS. Presentar en los Informes de Cumplimiento Ambiental - ICA, este informe en formato de excel, o que sea compatible con Sistemas de Información Geográfica, así como los soportes que evidencien el registro, atención y seguimiento del caso."},{"$f":"PPII_YNC!F174","v":"N/A"},{"$f":"PPII_YNC!G174","v":"Aplica"},{"$f":"PPII_YNC!H174","v":"Aplica"},{"$f":"PPII_YNC!I174","v":"N/A"},{"$f":"PPII_YNC!J174","v":"Aplica"},{"$f":"PPII_YNC!K174","v":"Permanente"}]
[{"$f":"PPII_YNC!D175","v":0},{"$f":"PPII_YNC!B175","v":"VALORACIÓN ECONÓMICA"},{"$f":"PPII_YNC!E175","v":"Presentar en cada ICA el seguimiento al análisis de internalización de los impactos ambientales reportando el estado de avance en los indicadores (eficiencia y eficacia) y la medida de manejo propuesta para dicho análisis."},{"$f":"PPII_YNC!F175","v":"Aplica"},{"$f":"PPII_YNC!G175","v":"Aplica"},{"$f":"PPII_YNC!H175","v":"Aplica"},{"$f":"PPII_YNC!I175","v":"Aplica"},{"$f":"PPII_YNC!J175","v":"Aplica"},{"$f":"PPII_YNC!K175","v":"Permanente"}]
[{"$f":"PPII_YNC!D176","v":0},{"$f":"PPII_YNC!B176","v":"OBLIGACIONES GENERALES "},{"$f":"PPII_YNC!E176","v":"Para el desarrollo de los Proyectos Piloto de Investigación Integral – PPII, se deberá reportar la información del resultado de los monitoreos del uso y aprovechamiento de los recursos naturales, de conformidad con las condiciones que se describen:\n\n1. La información geográfica y alfanumérica, cuya frecuencia de presentación y/o entrega se haya definido en el respectivo acto administrativo con una temporalidad superior a la diaria (semanal, quincenal, mensual, bimensual, semestral, etc.), deberá ser radicada a través del aplicativo web denominado ÁGIL, el cual permitirá el almacenamiento directo en la Base de Datos Corporativa de acuerdo con el modelo de almacenamiento de datos geográficos establecido en la Resolución 2182 del 2016 de Minambiente y en la Circular 002 del 2021 de ANLA. \n2. La información del resultado de los monitoreos, sobre el uso y aprovechamiento de recursos naturales, cuya frecuencia de presentación y/o entrega se haya definido en el respectivo acto administrativo con una temporalidad igual o menor a la diaria (diaria, horaria o minutal), deberá radicarse diariamente de forma consolidada a través de las plantillas de textos plano tipo .txt o .csv (disponibles en la página web de la entidad) por medio del correo electrónico licencias@anla.gov.co con copia a centromonitoreo@anla.gov.co, indicando el asunto del correo, conforme con la siguiente tabla:\n\n(Ver tabla en pestaña 3. Asuntos de radicación_Oblig. 159)\n\n3. La información que requiera la transmisión continua de datos, cuya frecuencia esté definida en el respectivo acto administrativo en tiempo real o cuasi real, se reportará a través de VPN Site to Site, API REST, o según sea definido conforme con los lineamientos de la Oficina de Tecnologías de la Información - OTI de la Entidad y las posibilidades tecnológicas del titular de la Licencia Ambiental. \n\nPARÁGRAFO: La demás información generada por los proyectos deberá entregarse a través del instrumento de seguimiento ambiental habitual (Informe de Cumplimiento Ambiental - ICA) y el mecanismo de recepción disponible (Ventanilla Integral de Trámites Ambientales en Línea - VITAL). "},{"$f":"PPII_YNC!F176","v":"N/A"},{"$f":"PPII_YNC!G176","v":"Aplica"},{"$f":"PPII_YNC!H176","v":"Aplica"},{"$f":"PPII_YNC!I176","v":"Aplica"},{"$f":"PPII_YNC!J176","v":"Aplica"},{"$f":"PPII_YNC!K176","v":"Permanente"}]
[{"$f":"PPII_YNC!D177","v":0},{"$f":"PPII_YNC!B177","v":"OBLIGACIONES GENERALES "},{"$f":"PPII_YNC!E177","v":"Utilizar la codificación de la ANLA (campo \"ID ANLA\") asignada a los permisos de uso y aprovechamiento de recursos naturales y a las obligaciones impuestas en el presente acto administrativo para la presentación de la información asociada al seguimiento del proyecto."},{"$f":"PPII_YNC!F177","v":"N/A"},{"$f":"PPII_YNC!G177","v":"Aplica"},{"$f":"PPII_YNC!H177","v":"Aplica"},{"$f":"PPII_YNC!I177","v":"Aplica"},{"$f":"PPII_YNC!J177","v":"Aplica"},{"$f":"PPII_YNC!K177","v":"Permanente"}]
[{"$f":"PPII_YNC!D178","v":0},{"$f":"PPII_YNC!B178","v":"OBLIGACIONES GENERALES "},{"$f":"PPII_YNC!E178","v":"El titular de la presente licencia ambiental será responsable durante la etapa de evaluación de acuerdo con el Decreto 328 del 2020 del Ministerio de Minas y Energía de continuar monitoreando las condiciones ambientales asociadas a aguas subterráneas, aguas superficiales, biodiversidad, sismicidad, suelos y materiales radiactivos de origen natural y reportarlas a través los Informes de Cumplimiento Ambiental - ICA en el marco del seguimiento que realiza esta Autoridad."},{"$f":"PPII_YNC!F178","v":"N/A"},{"$f":"PPII_YNC!G178","v":"N/A"},{"$f":"PPII_YNC!H178","v":"N/A"},{"$f":"PPII_YNC!I178","v":"Aplica"},{"$f":"PPII_YNC!J178","v":"N/A"},{"$f":"PPII_YNC!K178","v":"Temporal"}]
[{"$f":"PPII_YNC!D179","v":0},{"$f":"PPII_YNC!B179","v":"OBLIGACIONES GENERALES "},{"$f":"PPII_YNC!E179","v":"Presentar en el primer Informe de Cumplimiento Ambiental - ICA copia del documento donde conste la conformación del Departamento de Gestión Ambiental, que incluya funciones y responsabilidades asignadas, en cumplimiento al artículo 2.2.8.11.1.7. del Decreto 1076 de 2015, o aquella que la modifique o sustituya."},{"$f":"PPII_YNC!F179","v":"N/A"},{"$f":"PPII_YNC!G179","v":"Aplica"},{"$f":"PPII_YNC!H179","v":"N/A"},{"$f":"PPII_YNC!I179","v":"N/A"},{"$f":"PPII_YNC!J179","v":"N/A"},{"$f":"PPII_YNC!K179","v":"Temporal"}]
[{"$f":"PPII_YNC!D180","v":0},{"$f":"PPII_YNC!B180","v":"OBLIGACIONES GENERALES "},{"$f":"PPII_YNC!E180","v":"El titular de la presente licencia ambiental, será responsable por cualquier deterioro y/o daño ambiental causado por él o por los contratistas a su cargo, que se genere en desarrollo de las actividades autorizadas, frente a las cuales deberá realizar las acciones necesarias para corregir los efectos causados."},{"$f":"PPII_YNC!F180","v":"N/A"},{"$f":"PPII_YNC!G180","v":"Aplica"},{"$f":"PPII_YNC!H180","v":"Aplica"},{"$f":"PPII_YNC!I180","v":"Aplica"},{"$f":"PPII_YNC!J180","v":"Aplica"},{"$f":"PPII_YNC!K180","v":"Permanente"}]
[{"$f":"PPII_YNC!D181","v":0},{"$f":"PPII_YNC!B181","v":"OBLIGACIONES GENERALES "},{"$f":"PPII_YNC!E181","v":"La licencia ambiental que se otorga mediante la presente resolución no ampara ningún tipo de actividad diferente a las descritas en el presente acto administrativo."},{"$f":"PPII_YNC!F181","v":"N/A"},{"$f":"PPII_YNC!G181","v":"Aplica"},{"$f":"PPII_YNC!H181","v":"Aplica"},{"$f":"PPII_YNC!I181","v":"Aplica"},{"$f":"PPII_YNC!J181","v":"Aplica"},{"$f":"PPII_YNC!K181","v":"Permanente"}]
[{"$f":"PPII_YNC!D182","v":0},{"$f":"PPII_YNC!B182","v":"OBLIGACIONES GENERALES "},{"$f":"PPII_YNC!E182","v":"Previo a la ejecución de actividades que configuren alguna de las causales de modificación de la Licencia Ambiental mencionadas en el Artículo 2.2.2.3.7.1. del Decreto 1076 de 2015, o aquellas normas que lo modifiquen, deroguen o sustituyan, el titular de la presente Licencia Ambiental solicitará a la ANLA la modificación de licencia."},{"$f":"PPII_YNC!F182","v":"N/A"},{"$f":"PPII_YNC!G182","v":"Aplica"},{"$f":"PPII_YNC!H182","v":"Aplica"},{"$f":"PPII_YNC!I182","v":"N/A"},{"$f":"PPII_YNC!J182","v":"Aplica"},{"$f":"PPII_YNC!K182","v":"Permanente"}]
[{"$f":"PPII_YNC!D183","v":0},{"$f":"PPII_YNC!B183","v":"OBLIGACIONES GENERALES "},{"$f":"PPII_YNC!E183","v":"El titular de la licencia solicitará por escrito pronunciamiento de esta autoridad, sobre la viabilidad de si alguna de las obras o actividades desarrolladas en el PPII puede ser considerada como cambio menor de acuerdo con lo establecido en el parágrafo 1 del artículo 2.2.2.3.7.1. del Decreto 1076 del 2015, o la norma que lo modifique o sustituya, concepto que se remitirá con destino al expediente."},{"$f":"PPII_YNC!F183","v":"N/A"},{"$f":"PPII_YNC!G183","v":"Aplica"},{"$f":"PPII_YNC!H183","v":"Aplica"},{"$f":"PPII_YNC!I183","v":"N/A"},{"$f":"PPII_YNC!J183","v":"Aplica"},{"$f":"PPII_YNC!K183","v":"Permanente"}]
[{"$f":"PPII_YNC!D184","v":0},{"$f":"PPII_YNC!B184","v":"OBLIGACIONES GENERALES "},{"$f":"PPII_YNC!E184","v":"Una vez finalizados los trabajos propios de cada obra o actividad parcial, el titular de la presente licencia ambiental retirará y/o dispondrá todas las evidencias de los elementos y materiales sobrantes, en todas las áreas intervenidas por el proyecto, de manera que no se generen impactos ambientales adicionales, se altere el paisaje ni se contribuya al deterioro ambiental."},{"$f":"PPII_YNC!F184","v":"N/A"},{"$f":"PPII_YNC!G184","v":"Aplica"},{"$f":"PPII_YNC!H184","v":"Aplica"},{"$f":"PPII_YNC!I184","v":"N/A"},{"$f":"PPII_YNC!J184","v":"Aplica"},{"$f":"PPII_YNC!K184","v":"Permanente"}]
[{"$f":"PPII_YNC!D185","v":0},{"$f":"PPII_YNC!B185","v":"OBLIGACIONES GENERALES "},{"$f":"PPII_YNC!E185","v":"Siempre que sea técnicamente viable, hacer uso de fibras naturales para las actividades establecidas en la Resolución 1083 de 1996, o aquella que la modifique o sustituya. Cuando se haga uso de las mismas, presentar dentro de los Informes de Cumplimiento Ambiental - ICA, como mínimo lo siguiente: \n\na) La localización de la actividad, obra o proyecto en la que se hizo uso de las fibras.\nb) La fibra natural utilizada, el tipo de actividad en la que fue usada y la cantidad utilizada en Kg.\nc) Cuando no sea técnicamente viable el uso de fibras para las actividades especificadas, incluir la justificación.\nd) Indicar el estado de integridad física y de funcionamiento de las obras con este tipo de fibras."},{"$f":"PPII_YNC!F185","v":"N/A"},{"$f":"PPII_YNC!G185","v":"Aplica"},{"$f":"PPII_YNC!H185","v":"Aplica"},{"$f":"PPII_YNC!I185","v":"N/A"},{"$f":"PPII_YNC!J185","v":"Aplica"},{"$f":"PPII_YNC!K185","v":"Permanente"}]
[{"$f":"PPII_YNC!D186","v":0},{"$f":"PPII_YNC!B186","v":"OBLIGACIONES GENERALES "},{"$f":"PPII_YNC!E186","v":"Dentro de los diez (10) días calendario previos al inicio de cada una de las fases del proyecto (construcción, operación y mantenimiento y desmantelamiento y abandono) y la actividad de fracturamiento hidráulico, el titular de la presente licencia ambiental informará a la ANLA, mediante oficio dirigido a la Subdirección de Seguimiento de Licencias Ambientales, y a las demás Autoridades Ambientales regionales y locales en la jurisdicción del proyecto, la fecha de inicio de actividades. En caso de que no se pueda dar inicio al proyecto en la fecha previamente informada, se notificará inmediatamente a esta Autoridad la justificación, así como la nueva fecha de inicio. Enviar a la ANLA copia de los oficios radicados ante las demás autoridades ambientales competentes."},{"$f":"PPII_YNC!F186","v":"N/A"},{"$f":"PPII_YNC!G186","v":"Aplica"},{"$f":"PPII_YNC!H186","v":"Aplica"},{"$f":"PPII_YNC!I186","v":"N/A"},{"$f":"PPII_YNC!J186","v":"Aplica"},{"$f":"PPII_YNC!K186","v":"Permanente"}]
[{"$f":"PPII_YNC!D187","v":0},{"$f":"PPII_YNC!B187","v":"OBLIGACIONES GENERALES "},{"$f":"PPII_YNC!E187","v":"Informar a las comunidades y autoridades ambientales regionales y locales del área de influencia del proyecto la fecha de realización de los monitoreos de los recursos naturales programados para el PPII, con el fin de que realicen el acompañamiento en la ejecución de los mismos. Presentar en los respectivos Informes de Cumplimiento Ambiental - ICA los soportes de la estrategia de comunicación / invitación implementada, así como los soportes del acompañamiento de estos actores."},{"$f":"PPII_YNC!F187","v":"N/A"},{"$f":"PPII_YNC!G187","v":"Aplica"},{"$f":"PPII_YNC!H187","v":"Aplica"},{"$f":"PPII_YNC!I187","v":"Aplica"},{"$f":"PPII_YNC!J187","v":"Aplica"},{"$f":"PPII_YNC!K187","v":"Permanente"}]
[{"$f":"PPII_YNC!D188","v":0},{"$f":"PPII_YNC!B188","v":"OBLIGACIONES GENERALES "},{"$f":"PPII_YNC!E188","v":"Mantener actualizada en una base de datos publicada en el sitio web de la empresa las mediciones en tiempo real, los resultados reportados por los laboratorios, y los respectivo análisis de los recursos naturales conforme se vayan obteniendo, en cumplimiento del principio de transparencia. La información divulgada a través de este medio deberá ser de fácil acceso y estar disponible al público en general."},{"$f":"PPII_YNC!F188","v":"N/A"},{"$f":"PPII_YNC!G188","v":"Aplica"},{"$f":"PPII_YNC!H188","v":"Aplica"},{"$f":"PPII_YNC!I188","v":"Aplica"},{"$f":"PPII_YNC!J188","v":"Aplica"},{"$f":"PPII_YNC!K188","v":"Permanente"}]
[{"$f":"PPII_YNC!D189","v":0},{"$f":"PPII_YNC!B189","v":"OBLIGACIONES GENERALES "},{"$f":"PPII_YNC!E189","v":"El titular de la presente licencia ambiental presentará los Informes de Cumplimiento Ambiental - ICA cada dos meses de acuerdo con lo establecido en los Términos de Referencia de los PPII, expedidos por la Resolución 821 de 2020 del Minambiente."},{"$f":"PPII_YNC!F189","v":"N/A"},{"$f":"PPII_YNC!G189","v":"Aplica"},{"$f":"PPII_YNC!H189","v":"Aplica"},{"$f":"PPII_YNC!I189","v":"Aplica"},{"$f":"PPII_YNC!J189","v":"Aplica"},{"$f":"PPII_YNC!K189","v":"Permanente"}]
[{"$f":"PPII_YNC!D190","v":0},{"$f":"PPII_YNC!B190","v":"OBLIGACIONES GENERALES "},{"$f":"PPII_YNC!E190","v":"Será responsabilidad del titular de la Licencia Ambiental, informar a la Dirección de la Autoridad Nacional de Consulta Previa del Ministerio del Interior, cuando, durante la ejecución del proyecto, obra o actividad,  identifique la presencia de comunidades étnicas en el área del proyecto, distintas a las identificadas y consultadas para el proceso de licenciamiento ambiental. "},{"$f":"PPII_YNC!F190","v":"N/A"},{"$f":"PPII_YNC!G190","v":"Aplica"},{"$f":"PPII_YNC!H190","v":"Aplica"},{"$f":"PPII_YNC!I190","v":"Aplica"},{"$f":"PPII_YNC!J190","v":"Aplica"},{"$f":"PPII_YNC!K190","v":"Permanente"}]
[{"$f":"PPII_YNC!D191","v":0},{"$f":"PPII_YNC!B191","v":"REQUISITOS DEL ACTO ADMINISTRATIVO"},{"$f":"PPII_YNC!E191","v":"La Licencia Ambiental se otorga sin perjuicio del cumplimiento a las disposiciones previstas en el Decreto 138 del 06 de febrero de 2019, o la norma que lo modifique o sustituya en lo relacionado al patrimonio arqueológico. \n\nLa Licencia Ambiental se otorga sin perjuicio del cumplimiento a las disposiciones previstas en la Ley 397 de 1997, Ley 1185 de 2008, Decreto 833 de 2002 y Decreto 763 de 2009, o las normas que los modifiquen o sustituyan, en lo relacionado con la protección del patrimonio arqueológico. "},{"$f":"PPII_YNC!F191","v":" -"},{"$f":"PPII_YNC!G191","v":" -"},{"$f":"PPII_YNC!H191","v":" -"},{"$f":"PPII_YNC!I191","v":" -"},{"$f":"PPII_YNC!J191","v":" -"},{"$f":"PPII_YNC!K191","v":" -"}]
[{"$f":"PPII_YNC!D192","v":0},{"$f":"PPII_YNC!B192","v":"REQUISITOS DEL ACTO ADMINISTRATIVO"},{"$f":"PPII_YNC!E192","v":"Parágrafo: La Licencia Ambiental no autoriza la intervención de áreas arqueológicas protegidas, de sitios arqueológicos u otras categorías establecidas en la normatividad que protege el patrimonio cultural de la Nación."},{"$f":"PPII_YNC!F192","v":" -"},{"$f":"PPII_YNC!G192","v":" -"},{"$f":"PPII_YNC!H192","v":" -"},{"$f":"PPII_YNC!I192","v":" -"},{"$f":"PPII_YNC!J192","v":" -"},{"$f":"PPII_YNC!K192","v":" -"}]
[{"$f":"PPII_YNC!D193","v":0},{"$f":"PPII_YNC!B193","v":"REQUISITOS DEL ACTO ADMINISTRATIVO"},{"$f":"PPII_YNC!E193","v":"La Autoridad Nacional de Licencias Ambientales hará control y seguimiento ambiental a la ejecución de las obras en cada una de las locaciones y podrá verificar en tiempo real y permanente el cumplimiento de lo dispuesto en la presente Resolución, el Estudio de Impacto Ambiental y el Plan de Manejo Ambiental. Cualquier incumplimiento de los mismos podrá dar lugar a la aplicación de las medidas legales correspondientes."},{"$f":"PPII_YNC!F193","v":" -"},{"$f":"PPII_YNC!G193","v":" -"},{"$f":"PPII_YNC!H193","v":" -"},{"$f":"PPII_YNC!I193","v":" -"},{"$f":"PPII_YNC!J193","v":" -"},{"$f":"PPII_YNC!K193","v":" -"}]
[{"$f":"PPII_YNC!D194","v":0},{"$f":"PPII_YNC!B194","v":"REQUISITOS DEL ACTO ADMINISTRATIVO"},{"$f":"PPII_YNC!E194","v":"Parágrafo: La Licencia Ambiental que se otorga, no confiere derechos reales sobre los bienes inmuebles que puedan llegarse a intervenir o afectar en la ejecución del proyecto, obra o actividad, por lo que los acuerdos contractuales que se adelanten con respecto de los mismos, deberán ser acordados con los titulares de los derechos reales y/o los terceros que pretendan derechos sobre los mismos en los casos que corresponda, lo anterior, sin perjuicio a lo dispuesto por la Ley 1448 de 2011 o aquella norma que la modifique o sustituya, en lo relacionado con restitución de tierras."},{"$f":"PPII_YNC!F194","v":" -"},{"$f":"PPII_YNC!G194","v":" -"},{"$f":"PPII_YNC!H194","v":" -"},{"$f":"PPII_YNC!I194","v":" -"},{"$f":"PPII_YNC!J194","v":" -"},{"$f":"PPII_YNC!K194","v":" -"}]
[{"$f":"PPII_YNC!D195","v":0},{"$f":"PPII_YNC!B195","v":"REQUISITOS DEL ACTO ADMINISTRATIVO"},{"$f":"PPII_YNC!E195","v":"Por la Autoridad Nacional de Licencias Ambientales - ANLA, notificar personalmente o por aviso, cuando a ello hubiere lugar, el contenido del presente acto administrativo al representante legal, apoderado debidamente constituido y/o a la persona debidamente autorizada por la sociedad XXXXX, identificada con NIT. XXX.XXX.XXX-0, de conformidad con los artículos 67 y siguientes del Código de Procedimiento Administrativo y de lo Contencioso Administrativo."},{"$f":"PPII_YNC!F195","v":" -"},{"$f":"PPII_YNC!G195","v":" -"},{"$f":"PPII_YNC!H195","v":" -"},{"$f":"PPII_YNC!I195","v":" -"},{"$f":"PPII_YNC!J195","v":" -"},{"$f":"PPII_YNC!K195","v":" -"}]
[{"$f":"PPII_YNC!D196","v":0},{"$f":"PPII_YNC!B196","v":"REQUISITOS DEL ACTO ADMINISTRATIVO"},{"$f":"PPII_YNC!E196","v":"Por la Autoridad Nacional de Licencias Ambientales - ANLA, notificar personalmente o por aviso, el contenido del presente acto administrativo al representante legal, apoderado debidamente constituido y/o a la persona debidamente autorizada por el (los) señor(es): XXXXXX, reconocido(s) como tercer(os) interviniente(s) dentro de la presente actuación, de conformidad con el artículo 71 de la Ley 99 de 1993 y los artículos 67 y siguientes del Código de Procedimiento Administrativo y de lo Contencioso Administrativo."},{"$f":"PPII_YNC!F196","v":" -"},{"$f":"PPII_YNC!G196","v":" -"},{"$f":"PPII_YNC!H196","v":" -"},{"$f":"PPII_YNC!I196","v":" -"},{"$f":"PPII_YNC!J196","v":" -"},{"$f":"PPII_YNC!K196","v":" -"}]
[{"$f":"PPII_YNC!D197","v":0},{"$f":"PPII_YNC!B197","v":"REQUISITOS DEL ACTO ADMINISTRATIVO"},{"$f":"PPII_YNC!E197","v":"Por la Autoridad Nacional de Licencias Ambientales - ANLA, comunicar el contenido del presente acto administrativo al representante legal, apoderado debidamente constituido y/o a la persona debidamente autorizada por el (los) señor(es): XXXXXX, reconocido(s) como tercer(os) interviniente(s) dentro de la presente actuación, de conformidad con el artículo 71 de la Ley 99 de 1993."},{"$f":"PPII_YNC!F197","v":" -"},{"$f":"PPII_YNC!G197","v":" -"},{"$f":"PPII_YNC!H197","v":" -"},{"$f":"PPII_YNC!I197","v":" -"},{"$f":"PPII_YNC!J197","v":" -"},{"$f":"PPII_YNC!K197","v":" -"}]
[{"$f":"PPII_YNC!D198","v":0},{"$f":"PPII_YNC!B198","v":"REQUISITOS DEL ACTO ADMINISTRATIVO"},{"$f":"PPII_YNC!E198","v":"Por la Autoridad Nacional de Licencias Ambientales - ANLA, comunicar el contenido del presente acto administrativo a [Espacio para listar entidades que deban recibir copia de la presente resolución tales como: alcaldías municipales, autoridades ambientales de orden regional y/o local, gobernaciones, procuradurías delegadas para asuntos ambientales, personerías municipales, Centro de Transparencia del que trata el Decreto 328 de 2020, entre otros]. "},{"$f":"PPII_YNC!F198","v":" -"},{"$f":"PPII_YNC!G198","v":" -"},{"$f":"PPII_YNC!H198","v":" -"},{"$f":"PPII_YNC!I198","v":" -"},{"$f":"PPII_YNC!J198","v":" -"},{"$f":"PPII_YNC!K198","v":" -"}]
[{"$f":"PPII_YNC!D199","v":0},{"$f":"PPII_YNC!B199","v":"REQUISITOS DEL ACTO ADMINISTRATIVO"},{"$f":"PPII_YNC!E199","v":"Por la Autoridad Nacional de Licencias Ambientales - ANLA, disponer una copia del presente acto administrativo en el micrositio de esta autoridad destinado para los Proyectos Piloto de Investigación Integral de Yacimientos no Convencionales. "},{"$f":"PPII_YNC!F199","v":" -"},{"$f":"PPII_YNC!G199","v":" -"},{"$f":"PPII_YNC!H199","v":" -"},{"$f":"PPII_YNC!I199","v":" -"},{"$f":"PPII_YNC!J199","v":" -"},{"$f":"PPII_YNC!K199","v":" -"}]
[{"$f":"PPII_YNC!D200","v":0},{"$f":"PPII_YNC!B200","v":"REQUISITOS DEL ACTO ADMINISTRATIVO"},{"$f":"PPII_YNC!E200","v":"Por la Autoridad Nacional de Licencias Ambientales - ANLA publicar  la presente Resolución en la Gaceta Ambiental de esta Entidad, de conformidad con el artículo 71 de la Ley 99 de 1993."},{"$f":"PPII_YNC!F200","v":" -"},{"$f":"PPII_YNC!G200","v":" -"},{"$f":"PPII_YNC!H200","v":" -"},{"$f":"PPII_YNC!I200","v":" -"},{"$f":"PPII_YNC!J200","v":" -"},{"$f":"PPII_YNC!K200","v":" -"}]
[{"$f":"PPII_YNC!D201","v":0},{"$f":"PPII_YNC!B201","v":"REQUISITOS DEL ACTO ADMINISTRATIVO"},{"$f":"PPII_YNC!E201","v":"Contra la presente Resolución procede el recurso de reposición, de conformidad con lo señalado en los artículos 74 y siguientes del Código de Procedimiento Administrativo y Contencioso Administrativo o la norma que lo modifique o sustituya, dentro de los diez (10) días siguientes a la notificación personal,  o a la notificación por aviso, o al vencimiento del término de publicación, según sea el caso."},{"$f":"PPII_YNC!F201","v":" -"},{"$f":"PPII_YNC!G201","v":" -"},{"$f":"PPII_YNC!H201","v":" -"},{"$f":"PPII_YNC!I201","v":" -"},{"$f":"PPII_YNC!J201","v":" -"},{"$f":"PPII_YNC!K201","v":" -"}]
[{"$f":"PPII_YNC!D202","v":0},{"$f":"PPII_YNC!B202","v":"REQUISITOS DEL ACTO ADMINISTRATIVO"},{"$f":"PPII_YNC!E202","v":"La presente Licencia Ambiental, se otorga por el tiempo de duración del PPII, en concordancia con las etapas establecidas en el Decreto 328 del 2020 del Ministerio de Minas y Energía."},{"$f":"PPII_YNC!F202","v":" -"},{"$f":"PPII_YNC!G202","v":" -"},{"$f":"PPII_YNC!H202","v":" -"},{"$f":"PPII_YNC!I202","v":" -"},{"$f":"PPII_YNC!J202","v":" -"},{"$f":"PPII_YNC!K202","v":" -"}]
[{"$f":"PPII_YNC!D203","v":0},{"$f":"PPII_YNC!B203","v":"REQUISITOS DEL ACTO ADMINISTRATIVO"},{"$f":"PPII_YNC!E203","v":"La ANLA podrá mediante resolución motivada declarar la pérdida de vigencia de la presente Licencia Ambiental si, transcurrido cinco (5) años a partir su firmeza, no se ha iniciado las actividades objeto de la misma, para lo cual esta autoridad observará el procedimiento previsto en el artículo 2.2.2.3.8.7. del Decreto 1076 del 2015."},{"$f":"PPII_YNC!F203","v":" -"},{"$f":"PPII_YNC!G203","v":" -"},{"$f":"PPII_YNC!H203","v":" -"},{"$f":"PPII_YNC!I203","v":" -"},{"$f":"PPII_YNC!J203","v":" -"},{"$f":"PPII_YNC!K203","v":" -"}]
[{"$f":"PPII_YNC!D204","v":0},{"$f":"PPII_YNC!B204","v":"REQUISITOS DEL ACTO ADMINISTRATIVO"},{"$f":"PPII_YNC!E204","v":"El incumplimiento de las obligaciones contenidas en el presente acto administrativo y en las normas ambientales vigentes dará lugar a la imposición y ejecución de las medidas preventivas y sanciones que sean aplicables según el caso, de conformidad con lo establecido en la Ley 1333 del 21 de julio de 2009, o la que modifique o sustituya."},{"$f":"PPII_YNC!F204","v":" -"},{"$f":"PPII_YNC!G204","v":" -"},{"$f":"PPII_YNC!H204","v":" -"},{"$f":"PPII_YNC!I204","v":" -"},{"$f":"PPII_YNC!J204","v":" -"},{"$f":"PPII_YNC!K204","v":" -"}]
[{"$f":"PPII_YNC!D205","v":0},{"$f":"PPII_YNC!B205","v":"REQUISITOS DEL ACTO ADMINISTRATIVO"},{"$f":"PPII_YNC!E205","v":"En el seguimiento, la Autoridad Nacional de Licencias Ambientales -ANLA- podrá  conceder, por solicitud justificada del titular, nuevos plazos para el cumplimiento de obligaciones, sin que esto implique modificación de la Licencia Ambiental. La modificación del plazo siempre deberá estar técnica y jurídicamente sustentada, previa coordinación ante el Grupo de Actuaciones Sancionatorias ambientales de la Oficina Asesora Jurídica o la dependencia que haga sus veces."},{"$f":"PPII_YNC!F205","v":" -"},{"$f":"PPII_YNC!G205","v":" -"},{"$f":"PPII_YNC!H205","v":" -"},{"$f":"PPII_YNC!I205","v":" -"},{"$f":"PPII_YNC!J205","v":" -"},{"$f":"PPII_YNC!K205","v":" -"}]
[{"$f":"PPII_YNC!D206","v":0},{"$f":"PPII_YNC!B206","v":"REQUISITOS DEL ACTO ADMINISTRATIVO"},{"$f":"PPII_YNC!E206","v":"En el evento en que el titular de la Licencia Ambiental entre en proceso de disolución o régimen de insolvencia o liquidación regulados por las normas vigentes, informará inmediatamente de esta situación a esta Autoridad, con fundamento, entre otros, en los artículos 8, 58, 79, 80, 81, 95 numeral 8 de la Constitución Política de 1991, en la Ley 43 de 1990, en la Ley 222 de 1995, en la Ley 1333 de 2009 y demás normas vigentes y la jurisprudencia aplicable. Adicionalmente, la sociedad deberá aprovisionar contablemente las obligaciones contingentes que se deriven de la existencia de un procedimiento ambiental sancionatorio conforme con el artículo 40 de la Ley 1333 de 2009 o la norma que la adicione, modifique o derogue."},{"$f":"PPII_YNC!F206","v":" -"},{"$f":"PPII_YNC!G206","v":" -"},{"$f":"PPII_YNC!H206","v":" -"},{"$f":"PPII_YNC!I206","v":" -"},{"$f":"PPII_YNC!J206","v":" -"},{"$f":"PPII_YNC!K206","v":" -"}]

{"sheet":"Asuntos radicación","index":3,"n_rows":63,"n_cols":4,"rows_kept":63,"cut":false,"hidden":false,"merged":[[0,0,0,3],[54,0,55,0],[4,0,5,0],[7,0,9,0],[7,2,9,2],[7,3,9,3],[20,0,21,0],[22,0,23,0],[25,0,27,0],[28,0,29,0],[31,0,32,0],[34,0,38,0],[39,0,47,0]]}
["Asuntos de radicación relacionados con la Obligación General \"Estrategia de recepción de información de los resultados de los monitoreos del uso y aprovechamiento de los recursos naturales\":"]
[]
["ASPECTO","TIPO","ABREVIATURA","ASUNTO"]
["OCUPACION DE CAUCE","NA","OCA",{"$f":"C4&\"-LAM/LAVXXXX-XX-XXXX\"","v":"OCA-LAM/LAVXXXX-XX-XXXX"}]
["CAPTACIÓN","SUPERFICIAL","CSP",{"$f":"C5&\"-LAM/LAVXXXX-XX-XXXX\"","v":"CSP-LAM/LAVXXXX-XX-XXXX"}]
[null,"SUBTERRANEA","CSB","CSB-LAM/LAVXXXX-XX-XXXX"]
["PERMISO EXPLORACIÓN DE AGUA SUBTERRÁNEO","NA","ESB","ESB-LAM/LAVXXXX-XX-XXXX"]
["VERTIMIENTO","CUERPO AGUA","VER","VER-LAM/LAVXXXX-XX-XXXX"]
[null,"SUELO",null,"-LAM/LAVXXXX-XX-XXXX"]
[null,"INYECCIÓN",null,"-LAM/LAVXXXX-XX-XXXX"]
["GESTION DE RESIDUOS LIQUIDOS (RIEGO, VIA, ENTREGA A TERCERO)","NA","GRL","GRL-LAM/LAVXXXX-XX-XXXX"]
["GESTIÓN DE RESIDUOS SOLIDOS","NA","GIR","GIR-LAM/LAVXXXX-XX-XXXX"]
["MATERIALES DE CONSTRUCCIÓN","NA","AMC","AMC-LAM/LAVXXXX-XX-XXXX"]
["INFRAESTRUCTURA LINEAL","NA","INL","INL-LAM/LAVXXXX-XX-XXXX"]
["INFRAESTRUCTURA PUNTUAL","NA","INP","INP-LAM/LAVXXXX-XX-XXXX"]
["INFRAESTRUCTURA TIPO POLIGONO","NA","INA","INA-LAM/LAVXXXX-XX-XXXX"]
["ZONA DE PRESTAMO LATERAL","NA","ZPL","ZPL-LAM/LAVXXXX-XX-XXXX"]
["ZODME","NA","ZOD","ZOD-LAM/LAVXXXX-XX-XXXX"]
["AREA DE APROVECHAMIENTO FORESTAL","NA","AAF","AAF-LAM/LAVXXXX-XX-XXXX"]
["APROVECHAMIENTO POR INDIVIDUOS","NA","IND","IND-LAM/LAVXXXX-XX-XXXX"]
["FUENTE DE EMISIÓN AIRE","FIJA","FAF","FAF-LAM/LAVXXXX-XX-XXXX"]
[null,"DISPERSA","FAD","FAD-LAM/LAVXXXX-XX-XXXX"]
["FUENTE DE EMISIÓN DE OLORES","FIJA","FOF","FOF-LAM/LAVXXXX-XX-XXXX"]
[null,"DISPERSA","FOD","FOD-LAM/LAVXXXX-XX-XXXX"]
["FUENTE DE EMISIÓN DE RUIDO","NA","FER","FER-LAM/LAVXXXX-XX-XXXX"]
["MONITOREO DE AGUA","SUPERFICIAL","MSP","MSP-LAM/LAVXXXX-XX-XXXX"]
[null,"SUBTERRANEA","MSB","MSB-LAM/LAVXXXX-XX-XXXX"]
[null,"MARINO","MAM","MAM-LAM/LAVXXXX-XX-XXXX"]
["MONITOREO DE CALIDAD DE AIRE","CALIDAD DE AIRE","MCA","MCA-LAM/LAVXXXX-XX-XXXX"]
[null,"EMISIONES ATMOSFERICAS","MEA","MEA-LAM/LAVXXXX-XX-XXXX"]
["MONITOREO DE OLORES","NA","MEO","MEO-LAM/LAVXXXX-XX-XXXX"]
["MONITOREO DE RUIDO","RUIDO AMBIENTAL","MRA","MRA-LAM/LAVXXXX-XX-XXXX"]
[null,"EMISION DE RUIDO","MER","MER-LAM/LAVXXXX-XX-XXXX"]
["MONITOREO DE SUELO","NA","MSU","MSU-LAM/LAVXXXX-XX-XXXX"]
["MONITOREO FAUNA","MUESTREO","MUT","MUT-LAM/LAVXXXX-XX-XXXX"]
[null,"ATROPELLADA","ATR","ATR-LAM/LAVXXXX-XX-XXXX"]
[null,"AHUYENTADA","AHU","AHU-LAM/LAVXXXX-XX-XXXX"]
[null,"PASO DE FAUNA","MPF","MPF-LAM/LAVXXXX-XX-XXXX"]
[null,"RESCATADA","REC","REC-LAM/LAVXXXX-XX-XXXX"]
["MUESTREO FLORA","MUESTREO","MVG","MVG-LAM/LAVXXXX-XX-XXXX"]
[null,"INVENTARIO FORESTAL","INV","INV-LAM/LAVXXXX-XX-XXXX"]
[null,"REGENERACIÓN","REG","REG-LAM/LAVXXXX-XX-XXXX"]
[null,"FORÓFITO","FOR","FOR-LAM/LAVXXXX-XX-XXXX"]
[null,"REUBICADO","REU","REU-LAM/LAVXXXX-XX-XXXX"]
[null,"VASCULARES","MVS","MVS-LAM/LAVXXXX-XX-XXXX"]
[null,"NO VASCULARES","NVS","NVS-LAM/LAVXXXX-XX-XXXX"]
[null,"PARCELA PERMANENTE","PPF","PPF-LAM/LAVXXXX-XX-XXXX"]
[null,"LÍQUENES","LIQ","LIQ-LAM/LAVXXXX-XX-XXXX"]
["VEDA","NA","VDA","VDA-LAM/LAVXXXX-XX-XXXX"]
["MONITOREO PARAMETRO RESISTENCIA","NA","MPR","MPR-LAM/LAVXXXX-XX-XXXX"]
["MONITOREO VIBRACIONES","NA","MVB","MVB-LAM/LAVXXXX-XX-XXXX"]
["ESTACION METEOROLOGICA","NA","MET","MET-LAM/LAVXXXX-XX-XXXX"]
["MUESTREO OCEANOGRAFICO","NA","MCN","MCN-LAM/LAVXXXX-XX-XXXX"]
["MUESTREO FLORA MARINA","NA","FLM","FLM-LAM/LAVXXXX-XX-XXXX"]
["MONITOREO DE FAUNA MARINA","MUESTREO DE FAUNA MARINA","FAM","FAM-LAM/LAVXXXX-XX-XXXX"]
[null,"PUNTO DE OBSERVACIÓN DE FAUNA MARINA","PFM","PFM-LAM/LAVXXXX-XX-XXXX"]
["DRAGADO","NA","DRA","DRA-LAM/LAVXXXX-XX-XXXX"]
["DISPOSICIÓN DRAGADO","NA","DMD","DMD-LAM/LAVXXXX-XX-XXXX"]
["CARACTERIZACIÓN DE DRAGADO","NA","CRD","CRD-LAM/LAVXXXX-XX-XXXX"]
["INVERSION 1%","NA","IUP","IUP-LAM/LAVXXXX-XX-XXXX"]
["COMPENSACION BIODIVERSIDAD","NA","CPB","CPB-LAM/LAVXXXX-XX-XXXX"]
["OTRAS COMPENSACIONES","NA","COT","COT-LAM/LAVXXXX-XX-XXXX"]
["MONITOREO CAMPO ELECTROMAGNETICO","NA","MCE","MCE-LAM/LAVXXXX-XX-XXXX"]

{"sheet":"Temp","index":4,"n_rows":170,"n_cols":4,"rows_kept":170,"cut":false,"hidden":true,"merged":[[0,0,0,3]]}
["ANEXO - OBLIGACIONES MÍNIMAS PARA [COLOCAR NOMBRE DEL PROYECTO]"]
["COMPONENTE","Fase de construcción","Fase de operación y mantenimiento","Fase de desmantelamiento y abandono"]
[{"$f":"IF(PPII_YNC!D91=\"SI\",PPII_YNC!B91,NA())","v":{"$error":"#N/A"}},{"$f":"IF(PPII_YNC!D91=\"SI\",PPII_YNC!#REF!,NA())","v":{"$error":"#N/A"}},{"$f":"IF(PPII_YNC!D91=\"SI\",PPII_YNC!#REF!,NA())","v":{"$error":"#N/A"}},{"$f":"IF(PPII_YNC!D91=\"SI\",'OBLIGACIONES APLICABLES'!#REF!,NA())","v":{"$error":"#N/A"}}]
[{"$f":"IF(PPII_YNC!D92=\"SI\",PPII_YNC!B92,NA())","v":{"$error":"#N/A"}},{"$f":"IF(PPII_YNC!D92=\"SI\",PPII_YNC!#REF!,NA())","v":{"$error":"#N/A"}},{"$f":"IF(PPII_YNC!#REF!=\"SI\",'OBLIGACIONES APLICABLES'!#REF!,NA())","v":{"$error":"#REF!"}},{"$f":"IF(PPII_YNC!#REF!=\"SI\",'OBLIGACIONES APLICABLES'!#REF!,NA())","v":{"$error":"#REF!"}}]
[{"$f":"IF(PPII_YNC!#REF!=\"SI\",PPII_YNC!#REF!,NA())","v":{"$error":"#REF!"}},{"$f":"IF(PPII_YNC!#REF!=\"SI\",PPII_YNC!#REF!,NA())","v":{"$error":"#REF!"}},{"$f":"IF(PPII_YNC!#REF!=\"SI\",'OBLIGACIONES APLICABLES'!#REF!,NA())","v":{"$error":"#REF!"}},{"$f":"IF(PPII_YNC!#REF!=\"SI\",'OBLIGACIONES APLICABLES'!#REF!,NA())","v":{"$error":"#REF!"}}]
[{"$f":"IF(PPII_YNC!#REF!=\"SI\",PPII_YNC!#REF!,NA())","v":{"$error":"#REF!"}},{"$f":"IF(PPII_YNC!#REF!=\"SI\",PPII_YNC!#REF!,NA())","v":{"$error":"#REF!"}},{"$f":"IF(PPII_YNC!#REF!=\"SI\",'OBLIGACIONES APLICABLES'!#REF!,NA())","v":{"$error":"#REF!"}},{"$f":"IF(PPII_YNC!#REF!=\"SI\",'OBLIGACIONES APLICABLES'!#REF!,NA())","v":{"$error":"#REF!"}}]
[{"$f":"IF(PPII_YNC!#REF!=\"SI\",PPII_YNC!#REF!,NA())","v":{"$error":"#REF!"}},{"$f":"IF(PPII_YNC!#REF!=\"SI\",PPII_YNC!#REF!,NA())","v":{"$error":"#REF!"}},{"$f":"IF(PPII_YNC!#REF!=\"SI\",'OBLIGACIONES APLICABLES'!#REF!,NA())","v":{"$error":"#REF!"}},{"$f":"IF(PPII_YNC!#REF!=\"SI\",'OBLIGACIONES APLICABLES'!#REF!,NA())","v":{"$error":"#REF!"}}]
[{"$f":"IF(PPII_YNC!D9=\"SI\",PPII_YNC!B9,NA())","v":{"$error":"#N/A"}},{"$f":"IF(PPII_YNC!D9=\"SI\",PPII_YNC!#REF!,NA())","v":{"$error":"#N/A"}},{"$f":"IF(PPII_YNC!#REF!=\"SI\",'OBLIGACIONES APLICABLES'!F4,NA())","v":{"$error":"#REF!"}},{"$f":"IF(PPII_YNC!#REF!=\"SI\",'OBLIGACIONES APLICABLES'!G4,NA())","v":{"$error":"#REF!"}}]
[{"$f":"IF(PPII_YNC!#REF!=\"SI\",PPII_YNC!#REF!,NA())","v":{"$error":"#REF!"}},{"$f":"IF(PPII_YNC!#REF!=\"SI\",PPII_YNC!#REF!,NA())","v":{"$error":"#REF!"}},{"$f":"IF(PPII_YNC!#REF!=\"SI\",'OBLIGACIONES APLICABLES'!F5,NA())","v":{"$error":"#REF!"}},{"$f":"IF(PPII_YNC!#REF!=\"SI\",'OBLIGACIONES APLICABLES'!G5,NA())","v":{"$error":"#REF!"}}]
[{"$f":"IF(PPII_YNC!D10=\"SI\",PPII_YNC!B10,NA())","v":{"$error":"#N/A"}},{"$f":"IF(PPII_YNC!D10=\"SI\",PPII_YNC!#REF!,NA())","v":{"$error":"#N/A"}},{"$f":"IF(PPII_YNC!#REF!=\"SI\",'OBLIGACIONES APLICABLES'!F6,NA())","v":{"$error":"#REF!"}},{"$f":"IF(PPII_YNC!#REF!=\"SI\",'OBLIGACIONES APLICABLES'!G6,NA())","v":{"$error":"#REF!"}}]
[{"$f":"IF(PPII_YNC!#REF!=\"SI\",PPII_YNC!#REF!,NA())","v":{"$error":"#REF!"}},{"$f":"IF(PPII_YNC!#REF!=\"SI\",PPII_YNC!#REF!,NA())","v":{"$error":"#REF!"}},{"$f":"IF(PPII_YNC!#REF!=\"SI\",'OBLIGACIONES APLICABLES'!#REF!,NA())","v":{"$error":"#REF!"}},{"$f":"IF(PPII_YNC!#REF!=\"SI\",'OBLIGACIONES APLICABLES'!#REF!,NA())","v":{"$error":"#REF!"}}]
[{"$f":"IF(PPII_YNC!D11=\"SI\",PPII_YNC!B11,NA())","v":{"$error":"#N/A"}},{"$f":"IF(PPII_YNC!D11=\"SI\",PPII_YNC!#REF!,NA())","v":{"$error":"#N/A"}},{"$f":"IF(PPII_YNC!#REF!=\"SI\",'OBLIGACIONES APLICABLES'!F7,NA())","v":{"$error":"#REF!"}},{"$f":"IF(PPII_YNC!#REF!=\"SI\",'OBLIGACIONES APLICABLES'!G7,NA())","v":{"$error":"#REF!"}}]
[{"$f":"IF(PPII_YNC!#REF!=\"SI\",PPII_YNC!#REF!,NA())","v":{"$error":"#REF!"}},{"$f":"IF(PPII_YNC!#REF!=\"SI\",PPII_YNC!#REF!,NA())","v":{"$error":"#REF!"}},{"$f":"IF(PPII_YNC!#REF!=\"SI\",'OBLIGACIONES APLICABLES'!#REF!,NA())","v":{"$error":"#REF!"}},{"$f":"IF(PPII_YNC!#REF!=\"SI\",'OBLIGACIONES APLICABLES'!#REF!,NA())","v":{"$error":"#REF!"}}]
[{"$f":"IF(PPII_YNC!D14=\"SI\",PPII_YNC!B14,NA())","v":{"$error":"#N/A"}},{"$f":"IF(PPII_YNC!D14=\"SI\",PPII_YNC!#REF!,NA())","v":{"$error":"#N/A"}},{"$f":"IF(PPII_YNC!#REF!=\"SI\",'OBLIGACIONES APLICABLES'!F9,NA())","v":{"$error":"#REF!"}},{"$f":"IF(PPII_YNC!#REF!=\"SI\",'OBLIGACIONES APLICABLES'!G9,NA())","v":{"$error":"#REF!"}}]
[{"$f":"IF(PPII_YNC!#REF!=\"SI\",PPII_YNC!#REF!,NA())","v":{"$error":"#REF!"}},{"$f":"IF(PPII_YNC!#REF!=\"SI\",PPII_YNC!#REF!,NA())","v":{"$error":"#REF!"}},{"$f":"IF(PPII_YNC!#REF!=\"SI\",'OBLIGACIONES APLICABLES'!F10,NA())","v":{"$error":"#REF!"}},{"$f":"IF(PPII_YNC!#REF!=\"SI\",'OBLIGACIONES APLICABLES'!G10,NA())","v":{"$error":"#REF!"}}]
[{"$f":"IF(PPII_YNC!D15=\"SI\",PPII_YNC!B15,NA())","v":{"$error":"#N/A"}},{"$f":"IF(PPII_YNC!D15=\"SI\",PPII_YNC!#REF!,NA())","v":{"$error":"#N/A"}},{"$f":"IF(PPII_YNC!#REF!=\"SI\",'OBLIGACIONES APLICABLES'!F11,NA())","v":{"$error":"#REF!"}},{"$f":"IF(PPII_YNC!#REF!=\"SI\",'OBLIGACIONES APLICABLES'!G11,NA())","v":{"$error":"#REF!"}}]
[{"$f":"IF(PPII_YNC!D16=\"SI\",PPII_YNC!B16,NA())","v":{"$error":"#N/A"}},{"$f":"IF(PPII_YNC!D16=\"SI\",PPII_YNC!#REF!,NA())","v":{"$error":"#N/A"}},{"$f":"IF(PPII_YNC!#REF!=\"SI\",'OBLIGACIONES APLICABLES'!F12,NA())","v":{"$error":"#REF!"}},{"$f":"IF(PPII_YNC!#REF!=\"SI\",'OBLIGACIONES APLICABLES'!G12,NA())","v":{"$error":"#REF!"}}]
[{"$f":"IF(PPII_YNC!#REF!=\"SI\",PPII_YNC!#REF!,NA())","v":{"$error":"#REF!"}},{"$f":"IF(PPII_YNC!#REF!=\"SI\",PPII_YNC!#REF!,NA())","v":{"$error":"#REF!"}},{"$f":"IF(PPII_YNC!#REF!=\"SI\",'OBLIGACIONES APLICABLES'!#REF!,NA())","v":{"$error":"#REF!"}},{"$f":"IF(PPII_YNC!#REF!=\"SI\",'OBLIGACIONES APLICABLES'!#REF!,NA())","v":{"$error":"#REF!"}}]
[{"$f":"IF(PPII_YNC!D17=\"SI\",PPII_YNC!B17,NA())","v":{"$error":"#N/A"}},{"$f":"IF(PPII_YNC!D17=\"SI\",PPII_YNC!#REF!,NA())","v":{"$error":"#N/A"}},{"$f":"IF(PPII_YNC!#REF!=\"SI\",'OBLIGACIONES APLICABLES'!F13,NA())","v":{"$error":"#REF!"}},{"$f":"IF(PPII_YNC!#REF!=\"SI\",'OBLIGACIONES APLICABLES'!G13,NA())","v":{"$error":"#REF!"}}]
[{"$f":"IF(PPII_YNC!#REF!=\"SI\",PPII_YNC!#REF!,NA())","v":{"$error":"#REF!"}},{"$f":"IF(PPII_YNC!#REF!=\"SI\",PPII_YNC!#REF!,NA())","v":{"$error":"#REF!"}},{"$f":"IF(PPII_YNC!#REF!=\"SI\",'OBLIGACIONES APLICABLES'!#REF!,NA())","v":{"$error":"#REF!"}},{"$f":"IF(PPII_YNC!#REF!=\"SI\",'OBLIGACIONES APLICABLES'!#REF!,NA())","v":{"$error":"#REF!"}}]
[{"$f":"IF(PPII_YNC!D97=\"SI\",PPII_YNC!B97,NA())","v":{"$error":"#N/A"}},{"$f":"IF(PPII_YNC!D97=\"SI\",PPII_YNC!#REF!,NA())","v":{"$error":"#N/A"}},{"$f":"IF(PPII_YNC!#REF!=\"SI\",'OBLIGACIONES APLICABLES'!F14,NA())","v":{"$error":"#REF!"}},{"$f":"IF(PPII_YNC!#REF!=\"SI\",'OBLIGACIONES APLICABLES'!G14,NA())","v":{"$error":"#REF!"}}]
[{"$f":"IF(PPII_YNC!#REF!=\"SI\",PPII_YNC!#REF!,NA())","v":{"$error":"#REF!"}},{"$f":"IF(PPII_YNC!#REF!=\"SI\",PPII_YNC!#REF!,NA())","v":{"$error":"#REF!"}},{"$f":"IF(PPII_YNC!#REF!=\"SI\",'OBLIGACIONES APLICABLES'!F16,NA())","v":{"$error":"#REF!"}},{"$f":"IF(PPII_YNC!#REF!=\"SI\",'OBLIGACIONES APLICABLES'!G16,NA())","v":{"$error":"#REF!"}}]
[{"$f":"IF(PPII_YNC!D73=\"SI\",PPII_YNC!B73,NA())","v":{"$error":"#N/A"}},{"$f":"IF(PPII_YNC!D73=\"SI\",PPII_YNC!#REF!,NA())","v":{"$error":"#N/A"}},{"$f":"IF(PPII_YNC!#REF!=\"SI\",'OBLIGACIONES APLICABLES'!F17,NA())","v":{"$error":"#REF!"}},{"$f":"IF(PPII_YNC!#REF!=\"SI\",'OBLIGACIONES APLICABLES'!G17,NA())","v":{"$error":"#REF!"}}]
[{"$f":"IF(PPII_YNC!D77=\"SI\",PPII_YNC!B77,NA())","v":{"$error":"#N/A"}},{"$f":"IF(PPII_YNC!D77=\"SI\",PPII_YNC!#REF!,NA())","v":{"$error":"#N/A"}},{"$f":"IF(PPII_YNC!#REF!=\"SI\",'OBLIGACIONES APLICABLES'!#REF!,NA())","v":{"$error":"#REF!"}},{"$f":"IF(PPII_YNC!#REF!=\"SI\",'OBLIGACIONES APLICABLES'!#REF!,NA())","v":{"$error":"#REF!"}}]
[{"$f":"IF(PPII_YNC!D78=\"SI\",PPII_YNC!B78,NA())","v":{"$error":"#N/A"}},{"$f":"IF(PPII_YNC!D78=\"SI\",PPII_YNC!#REF!,NA())","v":{"$error":"#N/A"}},{"$f":"IF(PPII_YNC!#REF!=\"SI\",'OBLIGACIONES APLICABLES'!F22,NA())","v":{"$error":"#REF!"}},{"$f":"IF(PPII_YNC!#REF!=\"SI\",'OBLIGACIONES APLICABLES'!G22,NA())","v":{"$error":"#REF!"}}]
[{"$f":"IF(PPII_YNC!#REF!=\"SI\",PPII_YNC!#REF!,NA())","v":{"$error":"#REF!"}},{"$f":"IF(PPII_YNC!#REF!=\"SI\",PPII_YNC!#REF!,NA())","v":{"$error":"#REF!"}},{"$f":"IF(PPII_YNC!#REF!=\"SI\",'OBLIGACIONES APLICABLES'!F23,NA())","v":{"$error":"#REF!"}},{"$f":"IF(PPII_YNC!#REF!=\"SI\",'OBLIGACIONES APLICABLES'!G23,NA())","v":{"$error":"#REF!"}}]
[{"$f":"IF(PPII_YNC!D80=\"SI\",PPII_YNC!B80,NA())","v":{"$error":"#N/A"}},{"$f":"IF(PPII_YNC!D80=\"SI\",PPII_YNC!#REF!,NA())","v":{"$error":"#N/A"}},{"$f":"IF(PPII_YNC!#REF!=\"SI\",'OBLIGACIONES APLICABLES'!#REF!,NA())","v":{"$error":"#REF!"}},{"$f":"IF(PPII_YNC!#REF!=\"SI\",'OBLIGACIONES APLICABLES'!#REF!,NA())","v":{"$error":"#REF!"}}]
[{"$f":"IF(PPII_YNC!D143=\"SI\",PPII_YNC!B143,NA())","v":{"$error":"#N/A"}},{"$f":"IF(PPII_YNC!D143=\"SI\",PPII_YNC!#REF!,NA())","v":{"$error":"#N/A"}},{"$f":"IF(PPII_YNC!#REF!=\"SI\",'OBLIGACIONES APLICABLES'!F24,NA())","v":{"$error":"#REF!"}},{"$f":"IF(PPII_YNC!#REF!=\"SI\",'OBLIGACIONES APLICABLES'!G24,NA())","v":{"$error":"#REF!"}}]
[{"$f":"IF(PPII_YNC!#REF!=\"SI\",PPII_YNC!#REF!,NA())","v":{"$error":"#REF!"}},{"$f":"IF(PPII_YNC!#REF!=\"SI\",PPII_YNC!#REF!,NA())","v":{"$error":"#REF!"}},{"$f":"IF(PPII_YNC!#REF!=\"SI\",'OBLIGACIONES APLICABLES'!F25,NA())","v":{"$error":"#REF!"}},{"$f":"IF(PPII_YNC!#REF!=\"SI\",'OBLIGACIONES APLICABLES'!G25,NA())","v":{"$error":"#REF!"}}]
[{"$f":"IF(PPII_YNC!D144=\"SI\",PPII_YNC!B144,NA())","v":{"$error":"#N/A"}},{"$f":"IF(PPII_YNC!D144=\"SI\",PPII_YNC!#REF!,NA())","v":{"$error":"#N/A"}},{"$f":"IF(PPII_YNC!#REF!=\"SI\",'OBLIGACIONES APLICABLES'!#REF!,NA())","v":{"$error":"#REF!"}},{"$f":"IF(PPII_YNC!#REF!=\"SI\",'OBLIGACIONES APLICABLES'!#REF!,NA())","v":{"$error":"#REF!"}}]
[{"$f":"IF(PPII_YNC!#REF!=\"SI\",PPII_YNC!#REF!,NA())","v":{"$error":"#REF!"}},{"$f":"IF(PPII_YNC!#REF!=\"SI\",PPII_YNC!#REF!,NA())","v":{"$error":"#REF!"}},{"$f":"IF(PPII_YNC!#REF!=\"SI\",'OBLIGACIONES APLICABLES'!F26,NA())","v":{"$error":"#REF!"}},{"$f":"IF(PPII_YNC!#REF!=\"SI\",'OBLIGACIONES APLICABLES'!G26,NA())","v":{"$error":"#REF!"}}]
[{"$f":"IF(PPII_YNC!D28=\"SI\",PPII_YNC!B28,NA())","v":{"$error":"#N/A"}},{"$f":"IF(PPII_YNC!D28=\"SI\",PPII_YNC!#REF!,NA())","v":{"$error":"#N/A"}},{"$f":"IF(PPII_YNC!#REF!=\"SI\",'OBLIGACIONES APLICABLES'!#REF!,NA())","v":{"$error":"#REF!"}},{"$f":"IF(PPII_YNC!#REF!=\"SI\",'OBLIGACIONES APLICABLES'!#REF!,NA())","v":{"$error":"#REF!"}}]
[{"$f":"IF(PPII_YNC!D29=\"SI\",PPII_YNC!B29,NA())","v":{"$error":"#N/A"}},{"$f":"IF(PPII_YNC!D29=\"SI\",PPII_YNC!#REF!,NA())","v":{"$error":"#N/A"}},{"$f":"IF(PPII_YNC!#REF!=\"SI\",'OBLIGACIONES APLICABLES'!F33,NA())","v":{"$error":"#REF!"}},{"$f":"IF(PPII_YNC!#REF!=\"SI\",'OBLIGACIONES APLICABLES'!G33,NA())","v":{"$error":"#REF!"}}]
[{"$f":"IF(PPII_YNC!D33=\"SI\",PPII_YNC!B33,NA())","v":{"$error":"#N/A"}},{"$f":"IF(PPII_YNC!D33=\"SI\",PPII_YNC!#REF!,NA())","v":{"$error":"#N/A"}},{"$f":"IF(PPII_YNC!#REF!=\"SI\",'OBLIGACIONES APLICABLES'!F34,NA())","v":{"$error":"#REF!"}},{"$f":"IF(PPII_YNC!#REF!=\"SI\",'OBLIGACIONES APLICABLES'!G34,NA())","v":{"$error":"#REF!"}}]
[{"$f":"IF(PPII_YNC!D37=\"SI\",PPII_YNC!B37,NA())","v":{"$error":"#N/A"}},{"$f":"IF(PPII_YNC!D37=\"SI\",PPII_YNC!#REF!,NA())","v":{"$error":"#N/A"}},{"$f":"IF(PPII_YNC!#REF!=\"SI\",'OBLIGACIONES APLICABLES'!F39,NA())","v":{"$error":"#REF!"}},{"$f":"IF(PPII_YNC!#REF!=\"SI\",'OBLIGACIONES APLICABLES'!G39,NA())","v":{"$error":"#REF!"}}]
[{"$f":"IF(PPII_YNC!D38=\"SI\",PPII_YNC!B38,NA())","v":{"$error":"#N/A"}},{"$f":"IF(PPII_YNC!D38=\"SI\",PPII_YNC!#REF!,NA())","v":{"$error":"#N/A"}},{"$f":"IF(PPII_YNC!#REF!=\"SI\",'OBLIGACIONES APLICABLES'!F41,NA())","v":{"$error":"#REF!"}},{"$f":"IF(PPII_YNC!#REF!=\"SI\",'OBLIGACIONES APLICABLES'!G41,NA())","v":{"$error":"#REF!"}}]
[{"$f":"IF(PPII_YNC!#REF!=\"SI\",PPII_YNC!#REF!,NA())","v":{"$error":"#REF!"}},{"$f":"IF(PPII_YNC!#REF!=\"SI\",PPII_YNC!#REF!,NA())","v":{"$error":"#REF!"}},{"$f":"IF(PPII_YNC!#REF!=\"SI\",'OBLIGACIONES APLICABLES'!F42,NA())","v":{"$error":"#REF!"}},{"$f":"IF(PPII_YNC!#REF!=\"SI\",'OBLIGACIONES APLICABLES'!G42,NA())","v":{"$error":"#REF!"}}]
[{"$f":"IF(PPII_YNC!#REF!=\"SI\",PPII_YNC!#REF!,NA())","v":{"$error":"#REF!"}},{"$f":"IF(PPII_YNC!#REF!=\"SI\",PPII_YNC!#REF!,NA())","v":{"$error":"#REF!"}},{"$f":"IF(PPII_YNC!#REF!=\"SI\",'OBLIGACIONES APLICABLES'!#REF!,NA())","v":{"$error":"#REF!"}},{"$f":"IF(PPII_YNC!#REF!=\"SI\",'OBLIGACIONES APLICABLES'!#REF!,NA())","v":{"$error":"#REF!"}}]
[{"$f":"IF(PPII_YNC!#REF!=\"SI\",PPII_YNC!#REF!,NA())","v":{"$error":"#REF!"}},{"$f":"IF(PPII_YNC!#REF!=\"SI\",PPII_YNC!#REF!,NA())","v":{"$error":"#REF!"}},{"$f":"IF(PPII_YNC!#REF!=\"SI\",'OBLIGACIONES APLICABLES'!F43,NA())","v":{"$error":"#REF!"}},{"$f":"IF(PPII_YNC!#REF!=\"SI\",'OBLIGACIONES APLICABLES'!G43,NA())","v":{"$error":"#REF!"}}]
[{"$f":"IF(PPII_YNC!D39=\"SI\",PPII_YNC!B39,NA())","v":{"$error":"#N/A"}},{"$f":"IF(PPII_YNC!D39=\"SI\",PPII_YNC!#REF!,NA())","v":{"$error":"#N/A"}},{"$f":"IF(PPII_YNC!#REF!=\"SI\",'OBLIGACIONES APLICABLES'!#REF!,NA())","v":{"$error":"#REF!"}},{"$f":"IF(PPII_YNC!#REF!=\"SI\",'OBLIGACIONES APLICABLES'!#REF!,NA())","v":{"$error":"#REF!"}}]
[{"$f":"IF(PPII_YNC!#REF!=\"SI\",PPII_YNC!#REF!,NA())","v":{"$error":"#REF!"}},{"$f":"IF(PPII_YNC!#REF!=\"SI\",PPII_YNC!#REF!,NA())","v":{"$error":"#REF!"}},{"$f":"IF(PPII_YNC!#REF!=\"SI\",'OBLIGACIONES APLICABLES'!F44,NA())","v":{"$error":"#REF!"}},{"$f":"IF(PPII_YNC!#REF!=\"SI\",'OBLIGACIONES APLICABLES'!G44,NA())","v":{"$error":"#REF!"}}]
[{"$f":"IF(PPII_YNC!D40=\"SI\",PPII_YNC!B40,NA())","v":{"$error":"#N/A"}},{"$f":"IF(PPII_YNC!D40=\"SI\",PPII_YNC!#REF!,NA())","v":{"$error":"#N/A"}},{"$f":"IF(PPII_YNC!#REF!=\"SI\",'OBLIGACIONES APLICABLES'!#REF!,NA())","v":{"$error":"#REF!"}},{"$f":"IF(PPII_YNC!#REF!=\"SI\",'OBLIGACIONES APLICABLES'!#REF!,NA())","v":{"$error":"#REF!"}}]
[{"$f":"IF(PPII_YNC!D41=\"SI\",PPII_YNC!B41,NA())","v":{"$error":"#N/A"}},{"$f":"IF(PPII_YNC!D41=\"SI\",PPII_YNC!#REF!,NA())","v":{"$error":"#N/A"}},{"$f":"IF(PPII_YNC!#REF!=\"SI\",'OBLIGACIONES APLICABLES'!F45,NA())","v":{"$error":"#REF!"}},{"$f":"IF(PPII_YNC!#REF!=\"SI\",'OBLIGACIONES APLICABLES'!G45,NA())","v":{"$error":"#REF!"}}]
[{"$f":"IF(PPII_YNC!D42=\"SI\",PPII_YNC!B42,NA())","v":{"$error":"#N/A"}},{"$f":"IF(PPII_YNC!D42=\"SI\",PPII_YNC!#REF!,NA())","v":{"$error":"#N/A"}},{"$f":"IF(PPII_YNC!#REF!=\"SI\",'OBLIGACIONES APLICABLES'!F46,NA())","v":{"$error":"#REF!"}},{"$f":"IF(PPII_YNC!#REF!=\"SI\",'OBLIGACIONES APLICABLES'!G46,NA())","v":{"$error":"#REF!"}}]
[{"$f":"IF(PPII_YNC!#REF!=\"SI\",PPII_YNC!#REF!,NA())","v":{"$error":"#REF!"}},{"$f":"IF(PPII_YNC!#REF!=\"SI\",PPII_YNC!#REF!,NA())","v":{"$error":"#REF!"}},{"$f":"IF(PPII_YNC!#REF!=\"SI\",'OBLIGACIONES APLICABLES'!F47,NA())","v":{"$error":"#REF!"}},{"$f":"IF(PPII_YNC!#REF!=\"SI\",'OBLIGACIONES APLICABLES'!G47,NA())","v":{"$error":"#REF!"}}]
[{"$f":"IF(PPII_YNC!D43=\"SI\",PPII_YNC!B43,NA())","v":{"$error":"#N/A"}},{"$f":"IF(PPII_YNC!D43=\"SI\",PPII_YNC!#REF!,NA())","v":{"$error":"#N/A"}},{"$f":"IF(PPII_YNC!#REF!=\"SI\",'OBLIGACIONES APLICABLES'!#REF!,NA())","v":{"$error":"#REF!"}},{"$f":"IF(PPII_YNC!#REF!=\"SI\",'OBLIGACIONES APLICABLES'!#REF!,NA())","v":{"$error":"#REF!"}}]
[{"$f":"IF(PPII_YNC!#REF!=\"SI\",PPII_YNC!#REF!,NA())","v":{"$error":"#REF!"}},{"$f":"IF(PPII_YNC!#REF!=\"SI\",PPII_YNC!#REF!,NA())","v":{"$error":"#REF!"}},{"$f":"IF(PPII_YNC!#REF!=\"SI\",'OBLIGACIONES APLICABLES'!F48,NA())","v":{"$error":"#REF!"}},{"$f":"IF(PPII_YNC!#REF!=\"SI\",'OBLIGACIONES APLICABLES'!G48,NA())","v":{"$error":"#REF!"}}]
[{"$f":"IF(PPII_YNC!D112=\"SI\",PPII_YNC!B112,NA())","v":{"$error":"#N/A"}},{"$f":"IF(PPII_YNC!D112=\"SI\",PPII_YNC!#REF!,NA())","v":{"$error":"#N/A"}},{"$f":"IF(PPII_YNC!#REF!=\"SI\",'OBLIGACIONES APLICABLES'!F49,NA())","v":{"$error":"#REF!"}},{"$f":"IF(PPII_YNC!#REF!=\"SI\",'OBLIGACIONES APLICABLES'!G49,NA())","v":{"$error":"#REF!"}}]
[{"$f":"IF(PPII_YNC!#REF!=\"SI\",PPII_YNC!#REF!,NA())","v":{"$error":"#REF!"}},{"$f":"IF(PPII_YNC!#REF!=\"SI\",PPII_YNC!#REF!,NA())","v":{"$error":"#REF!"}},{"$f":"IF(PPII_YNC!#REF!=\"SI\",'OBLIGACIONES APLICABLES'!F51,NA())","v":{"$error":"#REF!"}},{"$f":"IF(PPII_YNC!#REF!=\"SI\",'OBLIGACIONES APLICABLES'!G51,NA())","v":{"$error":"#REF!"}}]
[{"$f":"IF(PPII_YNC!D25=\"SI\",PPII_YNC!B25,NA())","v":{"$error":"#N/A"}},{"$f":"IF(PPII_YNC!D25=\"SI\",PPII_YNC!#REF!,NA())","v":{"$error":"#N/A"}},{"$f":"IF(PPII_YNC!#REF!=\"SI\",'OBLIGACIONES APLICABLES'!#REF!,NA())","v":{"$error":"#REF!"}},{"$f":"IF(PPII_YNC!#REF!=\"SI\",'OBLIGACIONES APLICABLES'!#REF!,NA())","v":{"$error":"#REF!"}}]
[{"$f":"IF(PPII_YNC!D26=\"SI\",PPII_YNC!B26,NA())","v":{"$error":"#N/A"}},{"$f":"IF(PPII_YNC!D26=\"SI\",PPII_YNC!#REF!,NA())","v":{"$error":"#N/A"}},{"$f":"IF(PPII_YNC!#REF!=\"SI\",'OBLIGACIONES APLICABLES'!#REF!,NA())","v":{"$error":"#REF!"}},{"$f":"IF(PPII_YNC!#REF!=\"SI\",'OBLIGACIONES APLICABLES'!#REF!,NA())","v":{"$error":"#REF!"}}]
[{"$f":"IF(PPII_YNC!D138=\"SI\",PPII_YNC!B138,NA())","v":{"$error":"#N/A"}},{"$f":"IF(PPII_YNC!D138=\"SI\",PPII_YNC!#REF!,NA())","v":{"$error":"#N/A"}},{"$f":"IF(PPII_YNC!#REF!=\"SI\",'OBLIGACIONES APLICABLES'!#REF!,NA())","v":{"$error":"#REF!"}},{"$f":"IF(PPII_YNC!#REF!=\"SI\",'OBLIGACIONES APLICABLES'!#REF!,NA())","v":{"$error":"#REF!"}}]
[{"$f":"IF(PPII_YNC!#REF!=\"SI\",PPII_YNC!#REF!,NA())","v":{"$error":"#REF!"}},{"$f":"IF(PPII_YNC!#REF!=\"SI\",PPII_YNC!#REF!,NA())","v":{"$error":"#REF!"}},{"$f":"IF(PPII_YNC!#REF!=\"SI\",'OBLIGACIONES APLICABLES'!F52,NA())","v":{"$error":"#REF!"}},{"$f":"IF(PPII_YNC!#REF!=\"SI\",'OBLIGACIONES APLICABLES'!G52,NA())","v":{"$error":"#REF!"}}]
[{"$f":"IF(PPII_YNC!#REF!=\"SI\",PPII_YNC!#REF!,NA())","v":{"$error":"#REF!"}},{"$f":"IF(PPII_YNC!#REF!=\"SI\",PPII_YNC!#REF!,NA())","v":{"$error":"#REF!"}},{"$f":"IF(PPII_YNC!#REF!=\"SI\",'OBLIGACIONES APLICABLES'!F62,NA())","v":{"$error":"#REF!"}},{"$f":"IF(PPII_YNC!#REF!=\"SI\",'OBLIGACIONES APLICABLES'!G62,NA())","v":{"$error":"#REF!"}}]
[{"$f":"IF(PPII_YNC!#REF!=\"SI\",PPII_YNC!#REF!,NA())","v":{"$error":"#REF!"}},{"$f":"IF(PPII_YNC!#REF!=\"SI\",PPII_YNC!#REF!,NA())","v":{"$error":"#REF!"}},{"$f":"IF(PPII_YNC!#REF!=\"SI\",'OBLIGACIONES APLICABLES'!#REF!,NA())","v":{"$error":"#REF!"}},{"$f":"IF(PPII_YNC!#REF!=\"SI\",'OBLIGACIONES APLICABLES'!#REF!,NA())","v":{"$error":"#REF!"}}]
[{"$f":"IF(PPII_YNC!D169=\"SI\",PPII_YNC!B169,NA())","v":{"$error":"#N/A"}},{"$f":"IF(PPII_YNC!D169=\"SI\",PPII_YNC!#REF!,NA())","v":{"$error":"#N/A"}},{"$f":"IF(PPII_YNC!#REF!=\"SI\",'OBLIGACIONES APLICABLES'!F63,NA())","v":{"$error":"#REF!"}},{"$f":"IF(PPII_YNC!#REF!=\"SI\",'OBLIGACIONES APLICABLES'!G63,NA())","v":{"$error":"#REF!"}}]
[{"$f":"IF(PPII_YNC!D154=\"SI\",PPII_YNC!B154,NA())","v":{"$error":"#N/A"}},{"$f":"IF(PPII_YNC!D154=\"SI\",PPII_YNC!#REF!,NA())","v":{"$error":"#N/A"}},{"$f":"IF(PPII_YNC!#REF!=\"SI\",'OBLIGACIONES APLICABLES'!F64,NA())","v":{"$error":"#REF!"}},{"$f":"IF(PPII_YNC!#REF!=\"SI\",'OBLIGACIONES APLICABLES'!G64,NA())","v":{"$error":"#REF!"}}]
[{"$f":"IF(PPII_YNC!#REF!=\"SI\",PPII_YNC!#REF!,NA())","v":{"$error":"#REF!"}},{"$f":"IF(PPII_YNC!#REF!=\"SI\",PPII_YNC!#REF!,NA())","v":{"$error":"#REF!"}},{"$f":"IF(PPII_YNC!#REF!=\"SI\",'OBLIGACIONES APLICABLES'!F65,NA())","v":{"$error":"#REF!"}},{"$f":"IF(PPII_YNC!#REF!=\"SI\",'OBLIGACIONES APLICABLES'!G65,NA())","v":{"$error":"#REF!"}}]
[{"$f":"IF(PPII_YNC!#REF!=\"SI\",PPII_YNC!#REF!,NA())","v":{"$error":"#REF!"}},{"$f":"IF(PPII_YNC!#REF!=\"SI\",PPII_YNC!#REF!,NA())","v":{"$error":"#REF!"}},{"$f":"IF(PPII_YNC!#REF!=\"SI\",'OBLIGACIONES APLICABLES'!#REF!,NA())","v":{"$error":"#REF!"}},{"$f":"IF(PPII_YNC!#REF!=\"SI\",'OBLIGACIONES APLICABLES'!#REF!,NA())","v":{"$error":"#REF!"}}]
[{"$f":"IF(PPII_YNC!#REF!=\"SI\",PPII_YNC!#REF!,NA())","v":{"$error":"#REF!"}},{"$f":"IF(PPII_YNC!#REF!=\"SI\",PPII_YNC!#REF!,NA())","v":{"$error":"#REF!"}},{"$f":"IF(PPII_YNC!#REF!=\"SI\",'OBLIGACIONES APLICABLES'!#REF!,NA())","v":{"$error":"#REF!"}},{"$f":"IF(PPII_YNC!#REF!=\"SI\",'OBLIGACIONES APLICABLES'!#REF!,NA())","v":{"$error":"#REF!"}}]
[{"$f":"IF(PPII_YNC!#REF!=\"SI\",PPII_YNC!#REF!,NA())","v":{"$error":"#REF!"}},{"$f":"IF(PPII_YNC!#REF!=\"SI\",PPII_YNC!#REF!,NA())","v":{"$error":"#REF!"}},{"$f":"IF(PPII_YNC!#REF!=\"SI\",'OBLIGACIONES APLICABLES'!F66,NA())","v":{"$error":"#REF!"}},{"$f":"IF(PPII_YNC!#REF!=\"SI\",'OBLIGACIONES APLICABLES'!G66,NA())","v":{"$error":"#REF!"}}]
[{"$f":"IF(PPII_YNC!D155=\"SI\",PPII_YNC!B155,NA())","v":{"$error":"#N/A"}},{"$f":"IF(PPII_YNC!D155=\"SI\",PPII_YNC!#REF!,NA())","v":{"$error":"#N/A"}},{"$f":"IF(PPII_YNC!#REF!=\"SI\",'OBLIGACIONES APLICABLES'!F67,NA())","v":{"$error":"#REF!"}},{"$f":"IF(PPII_YNC!#REF!=\"SI\",'OBLIGACIONES APLICABLES'!G67,NA())","v":{"$error":"#REF!"}}]
[{"$f":"IF(PPII_YNC!D156=\"SI\",PPII_YNC!B156,NA())","v":{"$error":"#N/A"}},{"$f":"IF(PPII_YNC!D156=\"SI\",PPII_YNC!#REF!,NA())","v":{"$error":"#N/A"}},{"$f":"IF(PPII_YNC!#REF!=\"SI\",'OBLIGACIONES APLICABLES'!F68,NA())","v":{"$error":"#REF!"}},{"$f":"IF(PPII_YNC!#REF!=\"SI\",'OBLIGACIONES APLICABLES'!G68,NA())","v":{"$error":"#REF!"}}]
[{"$f":"IF(PPII_YNC!#REF!=\"SI\",PPII_YNC!#REF!,NA())","v":{"$error":"#REF!"}},{"$f":"IF(PPII_YNC!#REF!=\"SI\",PPII_YNC!#REF!,NA())","v":{"$error":"#REF!"}},{"$f":"IF(PPII_YNC!#REF!=\"SI\",'OBLIGACIONES APLICABLES'!#REF!,NA())","v":{"$error":"#REF!"}},{"$f":"IF(PPII_YNC!#REF!=\"SI\",'OBLIGACIONES APLICABLES'!#REF!,NA())","v":{"$error":"#REF!"}}]
[{"$f":"IF(PPII_YNC!D158=\"SI\",PPII_YNC!B158,NA())","v":{"$error":"#N/A"}},{"$f":"IF(PPII_YNC!D158=\"SI\",PPII_YNC!#REF!,NA())","v":{"$error":"#N/A"}},{"$f":"IF(PPII_YNC!#REF!=\"SI\",'OBLIGACIONES APLICABLES'!#REF!,NA())","v":{"$error":"#REF!"}},{"$f":"IF(PPII_YNC!#REF!=\"SI\",'OBLIGACIONES APLICABLES'!#REF!,NA())","v":{"$error":"#REF!"}}]
[{"$f":"IF(PPII_YNC!#REF!=\"SI\",PPII_YNC!#REF!,NA())","v":{"$error":"#REF!"}},{"$f":"IF(PPII_YNC!#REF!=\"SI\",PPII_YNC!#REF!,NA())","v":{"$error":"#REF!"}},{"$f":"IF(PPII_YNC!#REF!=\"SI\",'OBLIGACIONES APLICABLES'!#REF!,NA())","v":{"$error":"#REF!"}},{"$f":"IF(PPII_YNC!#REF!=\"SI\",'OBLIGACIONES APLICABLES'!#REF!,NA())","v":{"$error":"#REF!"}}]
[{"$f":"IF(PPII_YNC!#REF!=\"SI\",PPII_YNC!#REF!,NA())","v":{"$error":"#REF!"}},{"$f":"IF(PPII_YNC!#REF!=\"SI\",PPII_YNC!#REF!,NA())","v":{"$error":"#REF!"}},{"$f":"IF(PPII_YNC!#REF!=\"SI\",'OBLIGACIONES APLICABLES'!#REF!,NA())","v":{"$error":"#REF!"}},{"$f":"IF(PPII_YNC!#REF!=\"SI\",'OBLIGACIONES APLICABLES'!#REF!,NA())","v":{"$error":"#REF!"}}]
[{"$f":"IF(PPII_YNC!D95=\"SI\",PPII_YNC!B95,NA())","v":{"$error":"#N/A"}},{"$f":"IF(PPII_YNC!D95=\"SI\",PPII_YNC!#REF!,NA())","v":{"$error":"#N/A"}},{"$f":"IF(PPII_YNC!#REF!=\"SI\",'OBLIGACIONES APLICABLES'!F69,NA())","v":{"$error":"#REF!"}},{"$f":"IF(PPII_YNC!#REF!=\"SI\",'OBLIGACIONES APLICABLES'!G69,NA())","v":{"$error":"#REF!"}}]
[{"$f":"IF(PPII_YNC!#REF!=\"SI\",PPII_YNC!#REF!,NA())","v":{"$error":"#REF!"}},{"$f":"IF(PPII_YNC!#REF!=\"SI\",PPII_YNC!#REF!,NA())","v":{"$error":"#REF!"}},{"$f":"IF(PPII_YNC!#REF!=\"SI\",'OBLIGACIONES APLICABLES'!F70,NA())","v":{"$error":"#REF!"}},{"$f":"IF(PPII_YNC!#REF!=\"SI\",'OBLIGACIONES APLICABLES'!G70,NA())","v":{"$error":"#REF!"}}]
[{"$f":"IF(PPII_YNC!#REF!=\"SI\",PPII_YNC!#REF!,NA())","v":{"$error":"#REF!"}},{"$f":"IF(PPII_YNC!#REF!=\"SI\",PPII_YNC!#REF!,NA())","v":{"$error":"#REF!"}},{"$f":"IF(PPII_YNC!#REF!=\"SI\",'OBLIGACIONES APLICABLES'!#REF!,NA())","v":{"$error":"#REF!"}},{"$f":"IF(PPII_YNC!#REF!=\"SI\",'OBLIGACIONES APLICABLES'!#REF!,NA())","v":{"$error":"#REF!"}}]
[{"$f":"IF(PPII_YNC!#REF!=\"SI\",PPII_YNC!#REF!,NA())","v":{"$error":"#REF!"}},{"$f":"IF(PPII_YNC!#REF!=\"SI\",PPII_YNC!#REF!,NA())","v":{"$error":"#REF!"}},{"$f":"IF(PPII_YNC!#REF!=\"SI\",'OBLIGACIONES APLICABLES'!F71,NA())","v":{"$error":"#REF!"}},{"$f":"IF(PPII_YNC!#REF!=\"SI\",'OBLIGACIONES APLICABLES'!G71,NA())","v":{"$error":"#REF!"}}]
[{"$f":"IF(PPII_YNC!#REF!=\"SI\",PPII_YNC!#REF!,NA())","v":{"$error":"#REF!"}},{"$f":"IF(PPII_YNC!#REF!=\"SI\",PPII_YNC!#REF!,NA())","v":{"$error":"#REF!"}},{"$f":"IF(PPII_YNC!#REF!=\"SI\",'OBLIGACIONES APLICABLES'!#REF!,NA())","v":{"$error":"#REF!"}},{"$f":"IF(PPII_YNC!#REF!=\"SI\",'OBLIGACIONES APLICABLES'!#REF!,NA())","v":{"$error":"#REF!"}}]
[{"$f":"IF(PPII_YNC!#REF!=\"SI\",PPII_YNC!#REF!,NA())","v":{"$error":"#REF!"}},{"$f":"IF(PPII_YNC!#REF!=\"SI\",PPII_YNC!#REF!,NA())","v":{"$error":"#REF!"}},{"$f":"IF(PPII_YNC!#REF!=\"SI\",'OBLIGACIONES APLICABLES'!#REF!,NA())","v":{"$error":"#REF!"}},{"$f":"IF(PPII_YNC!#REF!=\"SI\",'OBLIGACIONES APLICABLES'!#REF!,NA())","v":{"$error":"#REF!"}}]
[{"$f":"IF(PPII_YNC!#REF!=\"SI\",PPII_YNC!#REF!,NA())","v":{"$error":"#REF!"}},{"$f":"IF(PPII_YNC!#REF!=\"SI\",PPII_YNC!#REF!,NA())","v":{"$error":"#REF!"}},{"$f":"IF(PPII_YNC!#REF!=\"SI\",'OBLIGACIONES APLICABLES'!F72,NA())","v":{"$error":"#REF!"}},{"$f":"IF(PPII_YNC!#REF!=\"SI\",'OBLIGACIONES APLICABLES'!G72,NA())","v":{"$error":"#REF!"}}]
[{"$f":"IF(PPII_YNC!#REF!=\"SI\",PPII_YNC!#REF!,NA())","v":{"$error":"#REF!"}},{"$f":"IF(PPII_YNC!#REF!=\"SI\",PPII_YNC!#REF!,NA())","v":{"$error":"#REF!"}},{"$f":"IF(PPII_YNC!#REF!=\"SI\",'OBLIGACIONES APLICABLES'!#REF!,NA())","v":{"$error":"#REF!"}},{"$f":"IF(PPII_YNC!#REF!=\"SI\",'OBLIGACIONES APLICABLES'!#REF!,NA())","v":{"$error":"#REF!"}}]
[{"$f":"IF(PPII_YNC!#REF!=\"SI\",PPII_YNC!#REF!,NA())","v":{"$error":"#REF!"}},{"$f":"IF(PPII_YNC!#REF!=\"SI\",PPII_YNC!#REF!,NA())","v":{"$error":"#REF!"}},{"$f":"IF(PPII_YNC!#REF!=\"SI\",'OBLIGACIONES APLICABLES'!#REF!,NA())","v":{"$error":"#REF!"}},{"$f":"IF(PPII_YNC!#REF!=\"SI\",'OBLIGACIONES APLICABLES'!#REF!,NA())","v":{"$error":"#REF!"}}]
[{"$f":"IF(PPII_YNC!#REF!=\"SI\",PPII_YNC!#REF!,NA())","v":{"$error":"#REF!"}},{"$f":"IF(PPII_YNC!#REF!=\"SI\",PPII_YNC!#REF!,NA())","v":{"$error":"#REF!"}},{"$f":"IF(PPII_YNC!#REF!=\"SI\",'OBLIGACIONES APLICABLES'!#REF!,NA())","v":{"$error":"#REF!"}},{"$f":"IF(PPII_YNC!#REF!=\"SI\",'OBLIGACIONES APLICABLES'!#REF!,NA())","v":{"$error":"#REF!"}}]
[{"$f":"IF(PPII_YNC!#REF!=\"SI\",PPII_YNC!#REF!,NA())","v":{"$error":"#REF!"}},{"$f":"IF(PPII_YNC!#REF!=\"SI\",PPII_YNC!#REF!,NA())","v":{"$error":"#REF!"}},{"$f":"IF(PPII_YNC!#REF!=\"SI\",'OBLIGACIONES APLICABLES'!#REF!,NA())","v":{"$error":"#REF!"}},{"$f":"IF(PPII_YNC!#REF!=\"SI\",'OBLIGACIONES APLICABLES'!#REF!,NA())","v":{"$error":"#REF!"}}]
[{"$f":"IF(PPII_YNC!#REF!=\"SI\",PPII_YNC!#REF!,NA())","v":{"$error":"#REF!"}},{"$f":"IF(PPII_YNC!#REF!=\"SI\",PPII_YNC!#REF!,NA())","v":{"$error":"#REF!"}},{"$f":"IF(PPII_YNC!#REF!=\"SI\",'OBLIGACIONES APLICABLES'!#REF!,NA())","v":{"$error":"#REF!"}},{"$f":"IF(PPII_YNC!#REF!=\"SI\",'OBLIGACIONES APLICABLES'!#REF!,NA())","v":{"$error":"#REF!"}}]
[{"$f":"IF(PPII_YNC!#REF!=\"SI\",PPII_YNC!#REF!,NA())","v":{"$error":"#REF!"}},{"$f":"IF(PPII_YNC!#REF!=\"SI\",PPII_YNC!#REF!,NA())","v":{"$error":"#REF!"}},{"$f":"IF(PPII_YNC!#REF!=\"SI\",'OBLIGACIONES APLICABLES'!#REF!,NA())","v":{"$error":"#REF!"}},{"$f":"IF(PPII_YNC!#REF!=\"SI\",'OBLIGACIONES APLICABLES'!#REF!,NA())","v":{"$error":"#REF!"}}]
[{"$f":"IF(PPII_YNC!#REF!=\"SI\",PPII_YNC!#REF!,NA())","v":{"$error":"#REF!"}},{"$f":"IF(PPII_YNC!#REF!=\"SI\",PPII_YNC!#REF!,NA())","v":{"$error":"#REF!"}},{"$f":"IF(PPII_YNC!#REF!=\"SI\",'OBLIGACIONES APLICABLES'!#REF!,NA())","v":{"$error":"#REF!"}},{"$f":"IF(PPII_YNC!#REF!=\"SI\",'OBLIGACIONES APLICABLES'!#REF!,NA())","v":{"$error":"#REF!"}}]
[{"$f":"IF(PPII_YNC!#REF!=\"SI\",PPII_YNC!#REF!,NA())","v":{"$error":"#REF!"}},{"$f":"IF(PPII_YNC!#REF!=\"SI\",PPII_YNC!#REF!,NA())","v":{"$error":"#REF!"}},{"$f":"IF(PPII_YNC!#REF!=\"SI\",'OBLIGACIONES APLICABLES'!#REF!,NA())","v":{"$error":"#REF!"}},{"$f":"IF(PPII_YNC!#REF!=\"SI\",'OBLIGACIONES APLICABLES'!#REF!,NA())","v":{"$error":"#REF!"}}]
[{"$f":"IF(PPII_YNC!D48=\"SI\",PPII_YNC!B48,NA())","v":{"$error":"#N/A"}},{"$f":"IF(PPII_YNC!D48=\"SI\",PPII_YNC!#REF!,NA())","v":{"$error":"#N/A"}},{"$f":"IF(PPII_YNC!#REF!=\"SI\",'OBLIGACIONES APLICABLES'!#REF!,NA())","v":{"$error":"#REF!"}},{"$f":"IF(PPII_YNC!#REF!=\"SI\",'OBLIGACIONES APLICABLES'!#REF!,NA())","v":{"$error":"#REF!"}}]
[{"$f":"IF(PPII_YNC!D79=\"SI\",PPII_YNC!B79,NA())","v":{"$error":"#N/A"}},{"$f":"IF(PPII_YNC!D79=\"SI\",PPII_YNC!#REF!,NA())","v":{"$error":"#N/A"}},{"$f":"IF(PPII_YNC!#REF!=\"SI\",'OBLIGACIONES APLICABLES'!#REF!,NA())","v":{"$error":"#REF!"}},{"$f":"IF(PPII_YNC!#REF!=\"SI\",'OBLIGACIONES APLICABLES'!#REF!,NA())","v":{"$error":"#REF!"}}]
[{"$f":"IF(PPII_YNC!D193=\"SI\",PPII_YNC!B193,NA())","v":{"$error":"#N/A"}},{"$f":"IF(PPII_YNC!D193=\"SI\",PPII_YNC!#REF!,NA())","v":{"$error":"#N/A"}},{"$f":"IF(PPII_YNC!#REF!=\"SI\",'OBLIGACIONES APLICABLES'!#REF!,NA())","v":{"$error":"#REF!"}},{"$f":"IF(PPII_YNC!#REF!=\"SI\",'OBLIGACIONES APLICABLES'!#REF!,NA())","v":{"$error":"#REF!"}}]
[{"$f":"IF(PPII_YNC!D194=\"SI\",PPII_YNC!B194,NA())","v":{"$error":"#N/A"}},{"$f":"IF(PPII_YNC!D194=\"SI\",PPII_YNC!#REF!,NA())","v":{"$error":"#N/A"}},{"$f":"IF(PPII_YNC!#REF!=\"SI\",'OBLIGACIONES APLICABLES'!#REF!,NA())","v":{"$error":"#REF!"}},{"$f":"IF(PPII_YNC!#REF!=\"SI\",'OBLIGACIONES APLICABLES'!#REF!,NA())","v":{"$error":"#REF!"}}]
[{"$f":"IF(PPII_YNC!D195=\"SI\",PPII_YNC!B195,NA())","v":{"$error":"#N/A"}},{"$f":"IF(PPII_YNC!D195=\"SI\",PPII_YNC!#REF!,NA())","v":{"$error":"#N/A"}},{"$f":"IF(PPII_YNC!#REF!=\"SI\",'OBLIGACIONES APLICABLES'!#REF!,NA())","v":{"$error":"#REF!"}},{"$f":"IF(PPII_YNC!#REF!=\"SI\",'OBLIGACIONES APLICABLES'!#REF!,NA())","v":{"$error":"#REF!"}}]
[{"$f":"IF(PPII_YNC!D196=\"SI\",PPII_YNC!B196,NA())","v":{"$error":"#N/A"}},{"$f":"IF(PPII_YNC!D196=\"SI\",PPII_YNC!#REF!,NA())","v":{"$error":"#N/A"}},{"$f":"IF(PPII_YNC!#REF!=\"SI\",'OBLIGACIONES APLICABLES'!F82,NA())","v":{"$error":"#REF!"}},{"$f":"IF(PPII_YNC!#REF!=\"SI\",'OBLIGACIONES APLICABLES'!G82,NA())","v":{"$error":"#REF!"}}]
[{"$f":"IF(PPII_YNC!D199=\"SI\",PPII_YNC!B199,NA())","v":{"$error":"#N/A"}},{"$f":"IF(PPII_YNC!D199=\"SI\",PPII_YNC!#REF!,NA())","v":{"$error":"#N/A"}},{"$f":"IF(PPII_YNC!#REF!=\"SI\",'OBLIGACIONES APLICABLES'!F83,NA())","v":{"$error":"#REF!"}},{"$f":"IF(PPII_YNC!#REF!=\"SI\",'OBLIGACIONES APLICABLES'!G83,NA())","v":{"$error":"#REF!"}}]
[{"$f":"IF(PPII_YNC!D200=\"SI\",PPII_YNC!B200,NA())","v":{"$error":"#N/A"}},{"$f":"IF(PPII_YNC!D200=\"SI\",PPII_YNC!#REF!,NA())","v":{"$error":"#N/A"}},{"$f":"IF(PPII_YNC!#REF!=\"SI\",'OBLIGACIONES APLICABLES'!F87,NA())","v":{"$error":"#REF!"}},{"$f":"IF(PPII_YNC!#REF!=\"SI\",'OBLIGACIONES APLICABLES'!G87,NA())","v":{"$error":"#REF!"}}]
[{"$f":"IF(PPII_YNC!D115=\"SI\",PPII_YNC!B115,NA())","v":{"$error":"#N/A"}},{"$f":"IF(PPII_YNC!D115=\"SI\",PPII_YNC!#REF!,NA())","v":{"$error":"#N/A"}},{"$f":"IF(PPII_YNC!#REF!=\"SI\",'OBLIGACIONES APLICABLES'!F90,NA())","v":{"$error":"#REF!"}},{"$f":"IF(PPII_YNC!#REF!=\"SI\",'OBLIGACIONES APLICABLES'!G90,NA())","v":{"$error":"#REF!"}}]
[{"$f":"IF(PPII_YNC!#REF!=\"SI\",PPII_YNC!#REF!,NA())","v":{"$error":"#REF!"}},{"$f":"IF(PPII_YNC!#REF!=\"SI\",PPII_YNC!#REF!,NA())","v":{"$error":"#REF!"}},{"$f":"IF(PPII_YNC!#REF!=\"SI\",'OBLIGACIONES APLICABLES'!F91,NA())","v":{"$error":"#REF!"}},{"$f":"IF(PPII_YNC!#REF!=\"SI\",'OBLIGACIONES APLICABLES'!G91,NA())","v":{"$error":"#REF!"}}]
[{"$f":"IF(PPII_YNC!#REF!=\"SI\",PPII_YNC!#REF!,NA())","v":{"$error":"#REF!"}},{"$f":"IF(PPII_YNC!#REF!=\"SI\",PPII_YNC!#REF!,NA())","v":{"$error":"#REF!"}},{"$f":"IF(PPII_YNC!#REF!=\"SI\",'OBLIGACIONES APLICABLES'!F92,NA())","v":{"$error":"#REF!"}},{"$f":"IF(PPII_YNC!#REF!=\"SI\",'OBLIGACIONES APLICABLES'!G92,NA())","v":{"$error":"#REF!"}}]
[{"$f":"IF(PPII_YNC!D116=\"SI\",PPII_YNC!B116,NA())","v":{"$error":"#N/A"}},{"$f":"IF(PPII_YNC!D116=\"SI\",PPII_YNC!#REF!,NA())","v":{"$error":"#N/A"}},{"$f":"IF(PPII_YNC!#REF!=\"SI\",'OBLIGACIONES APLICABLES'!F93,NA())","v":{"$error":"#REF!"}},{"$f":"IF(PPII_YNC!#REF!=\"SI\",'OBLIGACIONES APLICABLES'!G93,NA())","v":{"$error":"#REF!"}}]
[{"$f":"IF(PPII_YNC!#REF!=\"SI\",PPII_YNC!#REF!,NA())","v":{"$error":"#REF!"}},{"$f":"IF(PPII_YNC!#REF!=\"SI\",PPII_YNC!#REF!,NA())","v":{"$error":"#REF!"}},{"$f":"IF(PPII_YNC!#REF!=\"SI\",'OBLIGACIONES APLICABLES'!F96,NA())","v":{"$error":"#REF!"}},{"$f":"IF(PPII_YNC!#REF!=\"SI\",'OBLIGACIONES APLICABLES'!G96,NA())","v":{"$error":"#REF!"}}]
[{"$f":"IF(PPII_YNC!#REF!=\"SI\",PPII_YNC!#REF!,NA())","v":{"$error":"#REF!"}},{"$f":"IF(PPII_YNC!#REF!=\"SI\",PPII_YNC!#REF!,NA())","v":{"$error":"#REF!"}},{"$f":"IF(PPII_YNC!#REF!=\"SI\",'OBLIGACIONES APLICABLES'!F97,NA())","v":{"$error":"#REF!"}},{"$f":"IF(PPII_YNC!#REF!=\"SI\",'OBLIGACIONES APLICABLES'!G97,NA())","v":{"$error":"#REF!"}}]
[{"$f":"IF(PPII_YNC!D117=\"SI\",PPII_YNC!B117,NA())","v":{"$error":"#N/A"}},{"$f":"IF(PPII_YNC!D117=\"SI\",PPII_YNC!#REF!,NA())","v":{"$error":"#N/A"}},{"$f":"IF(PPII_YNC!#REF!=\"SI\",'OBLIGACIONES APLICABLES'!F103,NA())","v":{"$error":"#REF!"}},{"$f":"IF(PPII_YNC!#REF!=\"SI\",'OBLIGACIONES APLICABLES'!G103,NA())","v":{"$error":"#REF!"}}]
[{"$f":"IF(PPII_YNC!D119=\"SI\",PPII_YNC!B119,NA())","v":{"$error":"#N/A"}},{"$f":"IF(PPII_YNC!D119=\"SI\",PPII_YNC!#REF!,NA())","v":{"$error":"#N/A"}},{"$f":"IF(PPII_YNC!#REF!=\"SI\",'OBLIGACIONES APLICABLES'!#REF!,NA())","v":{"$error":"#REF!"}},{"$f":"IF(PPII_YNC!#REF!=\"SI\",'OBLIGACIONES APLICABLES'!#REF!,NA())","v":{"$error":"#REF!"}}]
[{"$f":"IF(PPII_YNC!D122=\"SI\",PPII_YNC!B122,NA())","v":{"$error":"#N/A"}},{"$f":"IF(PPII_YNC!D122=\"SI\",PPII_YNC!#REF!,NA())","v":{"$error":"#N/A"}},{"$f":"IF(PPII_YNC!#REF!=\"SI\",'OBLIGACIONES APLICABLES'!#REF!,NA())","v":{"$error":"#REF!"}},{"$f":"IF(PPII_YNC!#REF!=\"SI\",'OBLIGACIONES APLICABLES'!#REF!,NA())","v":{"$error":"#REF!"}}]
[{"$f":"IF(PPII_YNC!D123=\"SI\",PPII_YNC!B123,NA())","v":{"$error":"#N/A"}},{"$f":"IF(PPII_YNC!D123=\"SI\",PPII_YNC!#REF!,NA())","v":{"$error":"#N/A"}},{"$f":"IF(PPII_YNC!#REF!=\"SI\",'OBLIGACIONES APLICABLES'!F104,NA())","v":{"$error":"#REF!"}},{"$f":"IF(PPII_YNC!#REF!=\"SI\",'OBLIGACIONES APLICABLES'!G104,NA())","v":{"$error":"#REF!"}}]
[{"$f":"IF(PPII_YNC!D126=\"SI\",PPII_YNC!B126,NA())","v":{"$error":"#N/A"}},{"$f":"IF(PPII_YNC!D126=\"SI\",PPII_YNC!#REF!,NA())","v":{"$error":"#N/A"}},{"$f":"IF(PPII_YNC!#REF!=\"SI\",'OBLIGACIONES APLICABLES'!F105,NA())","v":{"$error":"#REF!"}},{"$f":"IF(PPII_YNC!#REF!=\"SI\",'OBLIGACIONES APLICABLES'!G105,NA())","v":{"$error":"#REF!"}}]
[{"$f":"IF(PPII_YNC!D127=\"SI\",PPII_YNC!B127,NA())","v":{"$error":"#N/A"}},{"$f":"IF(PPII_YNC!D127=\"SI\",PPII_YNC!#REF!,NA())","v":{"$error":"#N/A"}},{"$f":"IF(PPII_YNC!#REF!=\"SI\",'OBLIGACIONES APLICABLES'!#REF!,NA())","v":{"$error":"#REF!"}},{"$f":"IF(PPII_YNC!#REF!=\"SI\",'OBLIGACIONES APLICABLES'!#REF!,NA())","v":{"$error":"#REF!"}}]
[{"$f":"IF(PPII_YNC!D128=\"SI\",PPII_YNC!B128,NA())","v":{"$error":"#N/A"}},{"$f":"IF(PPII_YNC!D128=\"SI\",PPII_YNC!#REF!,NA())","v":{"$error":"#N/A"}},{"$f":"IF(PPII_YNC!#REF!=\"SI\",'OBLIGACIONES APLICABLES'!F106,NA())","v":{"$error":"#REF!"}},{"$f":"IF(PPII_YNC!#REF!=\"SI\",'OBLIGACIONES APLICABLES'!G106,NA())","v":{"$error":"#REF!"}}]
[{"$f":"IF(PPII_YNC!#REF!=\"SI\",PPII_YNC!#REF!,NA())","v":{"$error":"#REF!"}},{"$f":"IF(PPII_YNC!#REF!=\"SI\",PPII_YNC!#REF!,NA())","v":{"$error":"#REF!"}},{"$f":"IF(PPII_YNC!#REF!=\"SI\",'OBLIGACIONES APLICABLES'!F108,NA())","v":{"$error":"#REF!"}},{"$f":"IF(PPII_YNC!#REF!=\"SI\",'OBLIGACIONES APLICABLES'!G108,NA())","v":{"$error":"#REF!"}}]
[{"$f":"IF(PPII_YNC!#REF!=\"SI\",PPII_YNC!#REF!,NA())","v":{"$error":"#REF!"}},{"$f":"IF(PPII_YNC!#REF!=\"SI\",PPII_YNC!#REF!,NA())","v":{"$error":"#REF!"}},{"$f":"IF(PPII_YNC!#REF!=\"SI\",'OBLIGACIONES APLICABLES'!F111,NA())","v":{"$error":"#REF!"}},{"$f":"IF(PPII_YNC!#REF!=\"SI\",'OBLIGACIONES APLICABLES'!G111,NA())","v":{"$error":"#REF!"}}]
[{"$f":"IF(PPII_YNC!D111=\"SI\",PPII_YNC!B111,NA())","v":{"$error":"#N/A"}},{"$f":"IF(PPII_YNC!D111=\"SI\",PPII_YNC!#REF!,NA())","v":{"$error":"#N/A"}},{"$f":"IF(PPII_YNC!#REF!=\"SI\",'OBLIGACIONES APLICABLES'!F112,NA())","v":{"$error":"#REF!"}},{"$f":"IF(PPII_YNC!#REF!=\"SI\",'OBLIGACIONES APLICABLES'!G112,NA())","v":{"$error":"#REF!"}}]
[{"$f":"IF(PPII_YNC!#REF!=\"SI\",PPII_YNC!#REF!,NA())","v":{"$error":"#REF!"}},{"$f":"IF(PPII_YNC!#REF!=\"SI\",PPII_YNC!#REF!,NA())","v":{"$error":"#REF!"}},{"$f":"IF(PPII_YNC!#REF!=\"SI\",'OBLIGACIONES APLICABLES'!F114,NA())","v":{"$error":"#REF!"}},{"$f":"IF(PPII_YNC!#REF!=\"SI\",'OBLIGACIONES APLICABLES'!G114,NA())","v":{"$error":"#REF!"}}]
[{"$f":"IF(PPII_YNC!#REF!=\"SI\",PPII_YNC!#REF!,NA())","v":{"$error":"#REF!"}},{"$f":"IF(PPII_YNC!#REF!=\"SI\",PPII_YNC!#REF!,NA())","v":{"$error":"#REF!"}},{"$f":"IF(PPII_YNC!#REF!=\"SI\",'OBLIGACIONES APLICABLES'!F115,NA())","v":{"$error":"#REF!"}},{"$f":"IF(PPII_YNC!#REF!=\"SI\",'OBLIGACIONES APLICABLES'!G115,NA())","v":{"$error":"#REF!"}}]
[{"$f":"IF(PPII_YNC!#REF!=\"SI\",PPII_YNC!#REF!,NA())","v":{"$error":"#REF!"}},{"$f":"IF(PPII_YNC!#REF!=\"SI\",PPII_YNC!#REF!,NA())","v":{"$error":"#REF!"}},{"$f":"IF(PPII_YNC!#REF!=\"SI\",'OBLIGACIONES APLICABLES'!F116,NA())","v":{"$error":"#REF!"}},{"$f":"IF(PPII_YNC!#REF!=\"SI\",'OBLIGACIONES APLICABLES'!G116,NA())","v":{"$error":"#REF!"}}]
[{"$f":"IF(PPII_YNC!#REF!=\"SI\",PPII_YNC!#REF!,NA())","v":{"$error":"#REF!"}},{"$f":"IF(PPII_YNC!#REF!=\"SI\",PPII_YNC!#REF!,NA())","v":{"$error":"#REF!"}},{"$f":"IF(PPII_YNC!#REF!=\"SI\",'OBLIGACIONES APLICABLES'!#REF!,NA())","v":{"$error":"#REF!"}},{"$f":"IF(PPII_YNC!#REF!=\"SI\",'OBLIGACIONES APLICABLES'!#REF!,NA())","v":{"$error":"#REF!"}}]
[{"$f":"IF(PPII_YNC!#REF!=\"SI\",PPII_YNC!#REF!,NA())","v":{"$error":"#REF!"}},{"$f":"IF(PPII_YNC!#REF!=\"SI\",PPII_YNC!#REF!,NA())","v":{"$error":"#REF!"}},{"$f":"IF(PPII_YNC!#REF!=\"SI\",'OBLIGACIONES APLICABLES'!#REF!,NA())","v":{"$error":"#REF!"}},{"$f":"IF(PPII_YNC!#REF!=\"SI\",'OBLIGACIONES APLICABLES'!#REF!,NA())","v":{"$error":"#REF!"}}]
[{"$f":"IF(PPII_YNC!#REF!=\"SI\",PPII_YNC!#REF!,NA())","v":{"$error":"#REF!"}},{"$f":"IF(PPII_YNC!#REF!=\"SI\",PPII_YNC!#REF!,NA())","v":{"$error":"#REF!"}},{"$f":"IF(PPII_YNC!#REF!=\"SI\",'OBLIGACIONES APLICABLES'!F117,NA())","v":{"$error":"#REF!"}},{"$f":"IF(PPII_YNC!#REF!=\"SI\",'OBLIGACIONES APLICABLES'!G117,NA())","v":{"$error":"#REF!"}}]
[{"$f":"IF(PPII_YNC!#REF!=\"SI\",PPII_YNC!#REF!,NA())","v":{"$error":"#REF!"}},{"$f":"IF(PPII_YNC!#REF!=\"SI\",PPII_YNC!#REF!,NA())","v":{"$error":"#REF!"}},{"$f":"IF(PPII_YNC!#REF!=\"SI\",'OBLIGACIONES APLICABLES'!#REF!,NA())","v":{"$error":"#REF!"}},{"$f":"IF(PPII_YNC!#REF!=\"SI\",'OBLIGACIONES APLICABLES'!#REF!,NA())","v":{"$error":"#REF!"}}]
[{"$f":"IF(PPII_YNC!#REF!=\"SI\",PPII_YNC!#REF!,NA())","v":{"$error":"#REF!"}},{"$f":"IF(PPII_YNC!#REF!=\"SI\",PPII_YNC!#REF!,NA())","v":{"$error":"#REF!"}},{"$f":"IF(PPII_YNC!#REF!=\"SI\",'OBLIGACIONES APLICABLES'!#REF!,NA())","v":{"$error":"#REF!"}},{"$f":"IF(PPII_YNC!#REF!=\"SI\",'OBLIGACIONES APLICABLES'!#REF!,NA())","v":{"$error":"#REF!"}}]
[{"$f":"IF(PPII_YNC!#REF!=\"SI\",PPII_YNC!B50,NA())","v":{"$error":"#REF!"}},{"$f":"IF(PPII_YNC!#REF!=\"SI\",PPII_YNC!#REF!,NA())","v":{"$error":"#REF!"}},{"$f":"IF(PPII_YNC!#REF!=\"SI\",'OBLIGACIONES APLICABLES'!#REF!,NA())","v":{"$error":"#REF!"}},{"$f":"IF(PPII_YNC!#REF!=\"SI\",'OBLIGACIONES APLICABLES'!#REF!,NA())","v":{"$error":"#REF!"}}]
[{"$f":"IF(PPII_YNC!D51=\"SI\",PPII_YNC!B51,NA())","v":{"$error":"#N/A"}},{"$f":"IF(PPII_YNC!D51=\"SI\",PPII_YNC!#REF!,NA())","v":{"$error":"#N/A"}},{"$f":"IF(PPII_YNC!#REF!=\"SI\",'OBLIGACIONES APLICABLES'!F120,NA())","v":{"$error":"#REF!"}},{"$f":"IF(PPII_YNC!#REF!=\"SI\",'OBLIGACIONES APLICABLES'!G120,NA())","v":{"$error":"#REF!"}}]
[{"$f":"IF(PPII_YNC!#REF!=\"SI\",PPII_YNC!#REF!,NA())","v":{"$error":"#REF!"}},{"$f":"IF(PPII_YNC!#REF!=\"SI\",PPII_YNC!#REF!,NA())","v":{"$error":"#REF!"}},{"$f":"IF(PPII_YNC!#REF!=\"SI\",'OBLIGACIONES APLICABLES'!#REF!,NA())","v":{"$error":"#REF!"}},{"$f":"IF(PPII_YNC!#REF!=\"SI\",'OBLIGACIONES APLICABLES'!#REF!,NA())","v":{"$error":"#REF!"}}]
[{"$f":"IF(PPII_YNC!#REF!=\"SI\",PPII_YNC!#REF!,NA())","v":{"$error":"#REF!"}},{"$f":"IF(PPII_YNC!#REF!=\"SI\",PPII_YNC!#REF!,NA())","v":{"$error":"#REF!"}},{"$f":"IF(PPII_YNC!#REF!=\"SI\",'OBLIGACIONES APLICABLES'!#REF!,NA())","v":{"$error":"#REF!"}},{"$f":"IF(PPII_YNC!#REF!=\"SI\",'OBLIGACIONES APLICABLES'!#REF!,NA())","v":{"$error":"#REF!"}}]
[{"$f":"IF(PPII_YNC!#REF!=\"SI\",PPII_YNC!#REF!,NA())","v":{"$error":"#REF!"}},{"$f":"IF(PPII_YNC!#REF!=\"SI\",PPII_YNC!#REF!,NA())","v":{"$error":"#REF!"}},{"$f":"IF(PPII_YNC!#REF!=\"SI\",'OBLIGACIONES APLICABLES'!F121,NA())","v":{"$error":"#REF!"}},{"$f":"IF(PPII_YNC!#REF!=\"SI\",'OBLIGACIONES APLICABLES'!G121,NA())","v":{"$error":"#REF!"}}]
[{"$f":"IF(PPII_YNC!D53=\"SI\",PPII_YNC!B53,NA())","v":{"$error":"#N/A"}},{"$f":"IF(PPII_YNC!D53=\"SI\",PPII_YNC!#REF!,NA())","v":{"$error":"#N/A"}},{"$f":"IF(PPII_YNC!#REF!=\"SI\",'OBLIGACIONES APLICABLES'!F122,NA())","v":{"$error":"#REF!"}},{"$f":"IF(PPII_YNC!#REF!=\"SI\",'OBLIGACIONES APLICABLES'!G122,NA())","v":{"$error":"#REF!"}}]
[{"$f":"IF(PPII_YNC!D54=\"SI\",PPII_YNC!B54,NA())","v":{"$error":"#N/A"}},{"$f":"IF(PPII_YNC!D54=\"SI\",PPII_YNC!#REF!,NA())","v":{"$error":"#N/A"}},{"$f":"IF(PPII_YNC!#REF!=\"SI\",'OBLIGACIONES APLICABLES'!F123,NA())","v":{"$error":"#REF!"}},{"$f":"IF(PPII_YNC!#REF!=\"SI\",'OBLIGACIONES APLICABLES'!G123,NA())","v":{"$error":"#REF!"}}]
[{"$f":"IF(PPII_YNC!#REF!=\"SI\",PPII_YNC!#REF!,NA())","v":{"$error":"#REF!"}},{"$f":"IF(PPII_YNC!#REF!=\"SI\",PPII_YNC!#REF!,NA())","v":{"$error":"#REF!"}},{"$f":"IF(PPII_YNC!#REF!=\"SI\",'OBLIGACIONES APLICABLES'!F125,NA())","v":{"$error":"#REF!"}},{"$f":"IF(PPII_YNC!#REF!=\"SI\",'OBLIGACIONES APLICABLES'!G125,NA())","v":{"$error":"#REF!"}}]
[{"$f":"IF(PPII_YNC!D55=\"SI\",PPII_YNC!B55,NA())","v":{"$error":"#N/A"}},{"$f":"IF(PPII_YNC!D55=\"SI\",PPII_YNC!#REF!,NA())","v":{"$error":"#N/A"}},{"$f":"IF(PPII_YNC!#REF!=\"SI\",'OBLIGACIONES APLICABLES'!#REF!,NA())","v":{"$error":"#REF!"}},{"$f":"IF(PPII_YNC!#REF!=\"SI\",'OBLIGACIONES APLICABLES'!#REF!,NA())","v":{"$error":"#REF!"}}]
[{"$f":"IF(PPII_YNC!#REF!=\"SI\",PPII_YNC!#REF!,NA())","v":{"$error":"#REF!"}},{"$f":"IF(PPII_YNC!#REF!=\"SI\",PPII_YNC!#REF!,NA())","v":{"$error":"#REF!"}},{"$f":"IF(PPII_YNC!#REF!=\"SI\",'OBLIGACIONES APLICABLES'!F126,NA())","v":{"$error":"#REF!"}},{"$f":"IF(PPII_YNC!#REF!=\"SI\",'OBLIGACIONES APLICABLES'!G126,NA())","v":{"$error":"#REF!"}}]
[{"$f":"IF(PPII_YNC!#REF!=\"SI\",PPII_YNC!#REF!,NA())","v":{"$error":"#REF!"}},{"$f":"IF(PPII_YNC!#REF!=\"SI\",PPII_YNC!#REF!,NA())","v":{"$error":"#REF!"}},{"$f":"IF(PPII_YNC!#REF!=\"SI\",'OBLIGACIONES APLICABLES'!#REF!,NA())","v":{"$error":"#REF!"}},{"$f":"IF(PPII_YNC!#REF!=\"SI\",'OBLIGACIONES APLICABLES'!#REF!,NA())","v":{"$error":"#REF!"}}]
[{"$f":"IF(PPII_YNC!#REF!=\"SI\",PPII_YNC!#REF!,NA())","v":{"$error":"#REF!"}},{"$f":"IF(PPII_YNC!#REF!=\"SI\",PPII_YNC!#REF!,NA())","v":{"$error":"#REF!"}},{"$f":"IF(PPII_YNC!#REF!=\"SI\",'OBLIGACIONES APLICABLES'!F127,NA())","v":{"$error":"#REF!"}},{"$f":"IF(PPII_YNC!#REF!=\"SI\",'OBLIGACIONES APLICABLES'!G127,NA())","v":{"$error":"#REF!"}}]
[{"$f":"IF(PPII_YNC!#REF!=\"SI\",PPII_YNC!#REF!,NA())","v":{"$error":"#REF!"}},{"$f":"IF(PPII_YNC!#REF!=\"SI\",PPII_YNC!#REF!,NA())","v":{"$error":"#REF!"}},{"$f":"IF(PPII_YNC!#REF!=\"SI\",'OBLIGACIONES APLICABLES'!F128,NA())","v":{"$error":"#REF!"}},{"$f":"IF(PPII_YNC!#REF!=\"SI\",'OBLIGACIONES APLICABLES'!G128,NA())","v":{"$error":"#REF!"}}]
[{"$f":"IF(PPII_YNC!#REF!=\"SI\",PPII_YNC!#REF!,NA())","v":{"$error":"#REF!"}},{"$f":"IF(PPII_YNC!#REF!=\"SI\",PPII_YNC!#REF!,NA())","v":{"$error":"#REF!"}},{"$f":"IF(PPII_YNC!#REF!=\"SI\",'OBLIGACIONES APLICABLES'!#REF!,NA())","v":{"$error":"#REF!"}},{"$f":"IF(PPII_YNC!#REF!=\"SI\",'OBLIGACIONES APLICABLES'!#REF!,NA())","v":{"$error":"#REF!"}}]
[{"$f":"IF(PPII_YNC!#REF!=\"SI\",PPII_YNC!#REF!,NA())","v":{"$error":"#REF!"}},{"$f":"IF(PPII_YNC!#REF!=\"SI\",PPII_YNC!#REF!,NA())","v":{"$error":"#REF!"}},{"$f":"IF(PPII_YNC!#REF!=\"SI\",'OBLIGACIONES APLICABLES'!F129,NA())","v":{"$error":"#REF!"}},{"$f":"IF(PPII_YNC!#REF!=\"SI\",'OBLIGACIONES APLICABLES'!G129,NA())","v":{"$error":"#REF!"}}]
[{"$f":"IF(PPII_YNC!#REF!=\"SI\",PPII_YNC!#REF!,NA())","v":{"$error":"#REF!"}},{"$f":"IF(PPII_YNC!#REF!=\"SI\",PPII_YNC!#REF!,NA())","v":{"$error":"#REF!"}},{"$f":"IF(PPII_YNC!#REF!=\"SI\",'OBLIGACIONES APLICABLES'!#REF!,NA())","v":{"$error":"#REF!"}},{"$f":"IF(PPII_YNC!#REF!=\"SI\",'OBLIGACIONES APLICABLES'!#REF!,NA())","v":{"$error":"#REF!"}}]
[{"$f":"IF(PPII_YNC!#REF!=\"SI\",PPII_YNC!#REF!,NA())","v":{"$error":"#REF!"}},{"$f":"IF(PPII_YNC!#REF!=\"SI\",PPII_YNC!#REF!,NA())","v":{"$error":"#REF!"}},{"$f":"IF(PPII_YNC!#REF!=\"SI\",'OBLIGACIONES APLICABLES'!#REF!,NA())","v":{"$error":"#REF!"}},{"$f":"IF(PPII_YNC!#REF!=\"SI\",'OBLIGACIONES APLICABLES'!#REF!,NA())","v":{"$error":"#REF!"}}]
[{"$f":"IF(PPII_YNC!#REF!=\"SI\",PPII_YNC!#REF!,NA())","v":{"$error":"#REF!"}},{"$f":"IF(PPII_YNC!#REF!=\"SI\",PPII_YNC!#REF!,NA())","v":{"$error":"#REF!"}},{"$f":"IF(PPII_YNC!#REF!=\"SI\",'OBLIGACIONES APLICABLES'!#REF!,NA())","v":{"$error":"#REF!"}},{"$f":"IF(PPII_YNC!#REF!=\"SI\",'OBLIGACIONES APLICABLES'!#REF!,NA())","v":{"$error":"#REF!"}}]
[{"$f":"IF(PPII_YNC!#REF!=\"SI\",PPII_YNC!#REF!,NA())","v":{"$error":"#REF!"}},{"$f":"IF(PPII_YNC!#REF!=\"SI\",PPII_YNC!#REF!,NA())","v":{"$error":"#REF!"}},{"$f":"IF(PPII_YNC!#REF!=\"SI\",'OBLIGACIONES APLICABLES'!#REF!,NA())","v":{"$error":"#REF!"}},{"$f":"IF(PPII_YNC!#REF!=\"SI\",'OBLIGACIONES APLICABLES'!#REF!,NA())","v":{"$error":"#REF!"}}]
[{"$f":"IF(PPII_YNC!#REF!=\"SI\",PPII_YNC!#REF!,NA())","v":{"$error":"#REF!"}},{"$f":"IF(PPII_YNC!#REF!=\"SI\",PPII_YNC!#REF!,NA())","v":{"$error":"#REF!"}},{"$f":"IF(PPII_YNC!#REF!=\"SI\",'OBLIGACIONES APLICABLES'!#REF!,NA())","v":{"$error":"#REF!"}},{"$f":"IF(PPII_YNC!#REF!=\"SI\",'OBLIGACIONES APLICABLES'!#REF!,NA())","v":{"$error":"#REF!"}}]
[{"$f":"IF(PPII_YNC!D57=\"SI\",PPII_YNC!B57,NA())","v":{"$error":"#N/A"}},{"$f":"IF(PPII_YNC!D57=\"SI\",PPII_YNC!#REF!,NA())","v":{"$error":"#N/A"}},{"$f":"IF(PPII_YNC!#REF!=\"SI\",'OBLIGACIONES APLICABLES'!#REF!,NA())","v":{"$error":"#REF!"}},{"$f":"IF(PPII_YNC!#REF!=\"SI\",'OBLIGACIONES APLICABLES'!#REF!,NA())","v":{"$error":"#REF!"}}]
[{"$f":"IF(PPII_YNC!#REF!=\"SI\",PPII_YNC!#REF!,NA())","v":{"$error":"#REF!"}},{"$f":"IF(PPII_YNC!#REF!=\"SI\",PPII_YNC!#REF!,NA())","v":{"$error":"#REF!"}},{"$f":"IF(PPII_YNC!#REF!=\"SI\",'OBLIGACIONES APLICABLES'!#REF!,NA())","v":{"$error":"#REF!"}},{"$f":"IF(PPII_YNC!#REF!=\"SI\",'OBLIGACIONES APLICABLES'!#REF!,NA())","v":{"$error":"#REF!"}}]
[{"$f":"IF(PPII_YNC!D58=\"SI\",PPII_YNC!B58,NA())","v":{"$error":"#N/A"}},{"$f":"IF(PPII_YNC!D58=\"SI\",PPII_YNC!#REF!,NA())","v":{"$error":"#N/A"}},{"$f":"IF(PPII_YNC!#REF!=\"SI\",'OBLIGACIONES APLICABLES'!#REF!,NA())","v":{"$error":"#REF!"}},{"$f":"IF(PPII_YNC!#REF!=\"SI\",'OBLIGACIONES APLICABLES'!#REF!,NA())","v":{"$error":"#REF!"}}]
[{"$f":"IF(PPII_YNC!#REF!=\"SI\",PPII_YNC!#REF!,NA())","v":{"$error":"#REF!"}},{"$f":"IF(PPII_YNC!#REF!=\"SI\",PPII_YNC!#REF!,NA())","v":{"$error":"#REF!"}},{"$f":"IF(PPII_YNC!#REF!=\"SI\",'OBLIGACIONES APLICABLES'!#REF!,NA())","v":{"$error":"#REF!"}},{"$f":"IF(PPII_YNC!#REF!=\"SI\",'OBLIGACIONES APLICABLES'!#REF!,NA())","v":{"$error":"#REF!"}}]
[{"$f":"IF(PPII_YNC!D59=\"SI\",PPII_YNC!B59,NA())","v":{"$error":"#N/A"}},{"$f":"IF(PPII_YNC!D59=\"SI\",PPII_YNC!#REF!,NA())","v":{"$error":"#N/A"}},{"$f":"IF(PPII_YNC!#REF!=\"SI\",'OBLIGACIONES APLICABLES'!#REF!,NA())","v":{"$error":"#REF!"}},{"$f":"IF(PPII_YNC!#REF!=\"SI\",'OBLIGACIONES APLICABLES'!#REF!,NA())","v":{"$error":"#REF!"}}]
[{"$f":"IF(PPII_YNC!#REF!=\"SI\",PPII_YNC!#REF!,NA())","v":{"$error":"#REF!"}},{"$f":"IF(PPII_YNC!#REF!=\"SI\",PPII_YNC!#REF!,NA())","v":{"$error":"#REF!"}},{"$f":"IF(PPII_YNC!#REF!=\"SI\",'OBLIGACIONES APLICABLES'!#REF!,NA())","v":{"$error":"#REF!"}},{"$f":"IF(PPII_YNC!#REF!=\"SI\",'OBLIGACIONES APLICABLES'!#REF!,NA())","v":{"$error":"#REF!"}}]
[{"$f":"IF(PPII_YNC!D61=\"SI\",PPII_YNC!B61,NA())","v":{"$error":"#N/A"}},{"$f":"IF(PPII_YNC!D61=\"SI\",PPII_YNC!#REF!,NA())","v":{"$error":"#N/A"}},{"$f":"IF(PPII_YNC!#REF!=\"SI\",'OBLIGACIONES APLICABLES'!F131,NA())","v":{"$error":"#REF!"}},{"$f":"IF(PPII_YNC!#REF!=\"SI\",'OBLIGACIONES APLICABLES'!G131,NA())","v":{"$error":"#REF!"}}]
[{"$f":"IF(PPII_YNC!#REF!=\"SI\",PPII_YNC!#REF!,NA())","v":{"$error":"#REF!"}},{"$f":"IF(PPII_YNC!#REF!=\"SI\",PPII_YNC!#REF!,NA())","v":{"$error":"#REF!"}},{"$f":"IF(PPII_YNC!#REF!=\"SI\",'OBLIGACIONES APLICABLES'!#REF!,NA())","v":{"$error":"#REF!"}},{"$f":"IF(PPII_YNC!#REF!=\"SI\",'OBLIGACIONES APLICABLES'!#REF!,NA())","v":{"$error":"#REF!"}}]
[{"$f":"IF(PPII_YNC!#REF!=\"SI\",PPII_YNC!#REF!,NA())","v":{"$error":"#REF!"}},{"$f":"IF(PPII_YNC!#REF!=\"SI\",PPII_YNC!#REF!,NA())","v":{"$error":"#REF!"}},{"$f":"IF(PPII_YNC!#REF!=\"SI\",'OBLIGACIONES APLICABLES'!F132,NA())","v":{"$error":"#REF!"}},{"$f":"IF(PPII_YNC!#REF!=\"SI\",'OBLIGACIONES APLICABLES'!G132,NA())","v":{"$error":"#REF!"}}]
[{"$f":"IF(PPII_YNC!D63=\"SI\",PPII_YNC!B63,NA())","v":{"$error":"#N/A"}},{"$f":"IF(PPII_YNC!D63=\"SI\",PPII_YNC!#REF!,NA())","v":{"$error":"#N/A"}},{"$f":"IF(PPII_YNC!#REF!=\"SI\",'OBLIGACIONES APLICABLES'!#REF!,NA())","v":{"$error":"#REF!"}},{"$f":"IF(PPII_YNC!#REF!=\"SI\",'OBLIGACIONES APLICABLES'!#REF!,NA())","v":{"$error":"#REF!"}}]
[{"$f":"IF(PPII_YNC!D65=\"SI\",PPII_YNC!B65,NA())","v":{"$error":"#N/A"}},{"$f":"IF(PPII_YNC!D65=\"SI\",PPII_YNC!#REF!,NA())","v":{"$error":"#N/A"}},{"$f":"IF(PPII_YNC!#REF!=\"SI\",'OBLIGACIONES APLICABLES'!F133,NA())","v":{"$error":"#REF!"}},{"$f":"IF(PPII_YNC!#REF!=\"SI\",'OBLIGACIONES APLICABLES'!G133,NA())","v":{"$error":"#REF!"}}]
[{"$f":"IF(PPII_YNC!D66=\"SI\",PPII_YNC!B66,NA())","v":{"$error":"#N/A"}},{"$f":"IF(PPII_YNC!D66=\"SI\",PPII_YNC!#REF!,NA())","v":{"$error":"#N/A"}},{"$f":"IF(PPII_YNC!#REF!=\"SI\",'OBLIGACIONES APLICABLES'!#REF!,NA())","v":{"$error":"#REF!"}},{"$f":"IF(PPII_YNC!#REF!=\"SI\",'OBLIGACIONES APLICABLES'!#REF!,NA())","v":{"$error":"#REF!"}}]
[{"$f":"IF(PPII_YNC!D67=\"SI\",PPII_YNC!B67,NA())","v":{"$error":"#N/A"}},{"$f":"IF(PPII_YNC!D67=\"SI\",PPII_YNC!#REF!,NA())","v":{"$error":"#N/A"}},{"$f":"IF(PPII_YNC!#REF!=\"SI\",'OBLIGACIONES APLICABLES'!F134,NA())","v":{"$error":"#REF!"}},{"$f":"IF(PPII_YNC!#REF!=\"SI\",'OBLIGACIONES APLICABLES'!G134,NA())","v":{"$error":"#REF!"}}]
[{"$f":"IF(PPII_YNC!#REF!=\"SI\",PPII_YNC!#REF!,NA())","v":{"$error":"#REF!"}},{"$f":"IF(PPII_YNC!#REF!=\"SI\",PPII_YNC!#REF!,NA())","v":{"$error":"#REF!"}},{"$f":"IF(PPII_YNC!#REF!=\"SI\",'OBLIGACIONES APLICABLES'!#REF!,NA())","v":{"$error":"#REF!"}},{"$f":"IF(PPII_YNC!#REF!=\"SI\",'OBLIGACIONES APLICABLES'!#REF!,NA())","v":{"$error":"#REF!"}}]
[{"$f":"IF(PPII_YNC!#REF!=\"SI\",PPII_YNC!#REF!,NA())","v":{"$error":"#REF!"}},{"$f":"IF(PPII_YNC!#REF!=\"SI\",PPII_YNC!#REF!,NA())","v":{"$error":"#REF!"}},{"$f":"IF(PPII_YNC!#REF!=\"SI\",'OBLIGACIONES APLICABLES'!#REF!,NA())","v":{"$error":"#REF!"}},{"$f":"IF(PPII_YNC!#REF!=\"SI\",'OBLIGACIONES APLICABLES'!#REF!,NA())","v":{"$error":"#REF!"}}]
[{"$f":"IF(PPII_YNC!D68=\"SI\",PPII_YNC!B68,NA())","v":{"$error":"#N/A"}},{"$f":"IF(PPII_YNC!D68=\"SI\",PPII_YNC!#REF!,NA())","v":{"$error":"#N/A"}},{"$f":"IF(PPII_YNC!#REF!=\"SI\",'OBLIGACIONES APLICABLES'!F135,NA())","v":{"$error":"#REF!"}},{"$f":"IF(PPII_YNC!#REF!=\"SI\",'OBLIGACIONES APLICABLES'!G135,NA())","v":{"$error":"#REF!"}}]
[{"$f":"IF(PPII_YNC!#REF!=\"SI\",PPII_YNC!#REF!,NA())","v":{"$error":"#REF!"}},{"$f":"IF(PPII_YNC!#REF!=\"SI\",PPII_YNC!#REF!,NA())","v":{"$error":"#REF!"}},{"$f":"IF(PPII_YNC!#REF!=\"SI\",'OBLIGACIONES APLICABLES'!F136,NA())","v":{"$error":"#REF!"}},{"$f":"IF(PPII_YNC!#REF!=\"SI\",'OBLIGACIONES APLICABLES'!G136,NA())","v":{"$error":"#REF!"}}]
[{"$f":"IF(PPII_YNC!#REF!=\"SI\",PPII_YNC!#REF!,NA())","v":{"$error":"#REF!"}},{"$f":"IF(PPII_YNC!#REF!=\"SI\",PPII_YNC!#REF!,NA())","v":{"$error":"#REF!"}},{"$f":"IF(PPII_YNC!#REF!=\"SI\",'OBLIGACIONES APLICABLES'!F137,NA())","v":{"$error":"#REF!"}},{"$f":"IF(PPII_YNC!#REF!=\"SI\",'OBLIGACIONES APLICABLES'!G137,NA())","v":{"$error":"#REF!"}}]
[{"$f":"IF(PPII_YNC!D129=\"SI\",PPII_YNC!B129,NA())","v":{"$error":"#N/A"}},{"$f":"IF(PPII_YNC!D129=\"SI\",PPII_YNC!#REF!,NA())","v":{"$error":"#N/A"}},{"$f":"IF(PPII_YNC!#REF!=\"SI\",'OBLIGACIONES APLICABLES'!F138,NA())","v":{"$error":"#REF!"}},{"$f":"IF(PPII_YNC!#REF!=\"SI\",'OBLIGACIONES APLICABLES'!G138,NA())","v":{"$error":"#REF!"}}]
[{"$f":"IF(PPII_YNC!#REF!=\"SI\",PPII_YNC!#REF!,NA())","v":{"$error":"#REF!"}},{"$f":"IF(PPII_YNC!#REF!=\"SI\",PPII_YNC!#REF!,NA())","v":{"$error":"#REF!"}},{"$f":"IF(PPII_YNC!#REF!=\"SI\",'OBLIGACIONES APLICABLES'!#REF!,NA())","v":{"$error":"#REF!"}},{"$f":"IF(PPII_YNC!#REF!=\"SI\",'OBLIGACIONES APLICABLES'!#REF!,NA())","v":{"$error":"#REF!"}}]
[{"$f":"IF(PPII_YNC!#REF!=\"SI\",PPII_YNC!#REF!,NA())","v":{"$error":"#REF!"}},{"$f":"IF(PPII_YNC!#REF!=\"SI\",PPII_YNC!#REF!,NA())","v":{"$error":"#REF!"}},{"$f":"IF(PPII_YNC!#REF!=\"SI\",'OBLIGACIONES APLICABLES'!#REF!,NA())","v":{"$error":"#REF!"}},{"$f":"IF(PPII_YNC!#REF!=\"SI\",'OBLIGACIONES APLICABLES'!#REF!,NA())","v":{"$error":"#REF!"}}]
[{"$f":"IF(PPII_YNC!#REF!=\"SI\",PPII_YNC!#REF!,NA())","v":{"$error":"#REF!"}},{"$f":"IF(PPII_YNC!#REF!=\"SI\",PPII_YNC!#REF!,NA())","v":{"$error":"#REF!"}},{"$f":"IF(PPII_YNC!#REF!=\"SI\",'OBLIGACIONES APLICABLES'!F139,NA())","v":{"$error":"#REF!"}},{"$f":"IF(PPII_YNC!#REF!=\"SI\",'OBLIGACIONES APLICABLES'!G139,NA())","v":{"$error":"#REF!"}}]
[{"$f":"IF(PPII_YNC!#REF!=\"SI\",PPII_YNC!#REF!,NA())","v":{"$error":"#REF!"}},{"$f":"IF(PPII_YNC!#REF!=\"SI\",PPII_YNC!#REF!,NA())","v":{"$error":"#REF!"}},{"$f":"IF(PPII_YNC!#REF!=\"SI\",'OBLIGACIONES APLICABLES'!#REF!,NA())","v":{"$error":"#REF!"}},{"$f":"IF(PPII_YNC!#REF!=\"SI\",'OBLIGACIONES APLICABLES'!#REF!,NA())","v":{"$error":"#REF!"}}]
[{"$f":"IF(PPII_YNC!#REF!=\"SI\",PPII_YNC!#REF!,NA())","v":{"$error":"#REF!"}},{"$f":"IF(PPII_YNC!#REF!=\"SI\",PPII_YNC!#REF!,NA())","v":{"$error":"#REF!"}},{"$f":"IF(PPII_YNC!#REF!=\"SI\",'OBLIGACIONES APLICABLES'!#REF!,NA())","v":{"$error":"#REF!"}},{"$f":"IF(PPII_YNC!#REF!=\"SI\",'OBLIGACIONES APLICABLES'!#REF!,NA())","v":{"$error":"#REF!"}}]
[{"$f":"IF(PPII_YNC!#REF!=\"SI\",PPII_YNC!#REF!,NA())","v":{"$error":"#REF!"}},{"$f":"IF(PPII_YNC!#REF!=\"SI\",PPII_YNC!#REF!,NA())","v":{"$error":"#REF!"}},{"$f":"IF(PPII_YNC!#REF!=\"SI\",'OBLIGACIONES APLICABLES'!F143,NA())","v":{"$error":"#REF!"}},{"$f":"IF(PPII_YNC!#REF!=\"SI\",'OBLIGACIONES APLICABLES'!G143,NA())","v":{"$error":"#REF!"}}]
[{"$f":"IF(PPII_YNC!#REF!=\"SI\",PPII_YNC!#REF!,NA())","v":{"$error":"#REF!"}},{"$f":"IF(PPII_YNC!#REF!=\"SI\",PPII_YNC!#REF!,NA())","v":{"$error":"#REF!"}},{"$f":"IF(PPII_YNC!#REF!=\"SI\",'OBLIGACIONES APLICABLES'!#REF!,NA())","v":{"$error":"#REF!"}},{"$f":"IF(PPII_YNC!#REF!=\"SI\",'OBLIGACIONES APLICABLES'!#REF!,NA())","v":{"$error":"#REF!"}}]
[{"$f":"IF(PPII_YNC!#REF!=\"SI\",PPII_YNC!#REF!,NA())","v":{"$error":"#REF!"}},{"$f":"IF(PPII_YNC!#REF!=\"SI\",PPII_YNC!#REF!,NA())","v":{"$error":"#REF!"}},{"$f":"IF(PPII_YNC!#REF!=\"SI\",'OBLIGACIONES APLICABLES'!#REF!,NA())","v":{"$error":"#REF!"}},{"$f":"IF(PPII_YNC!#REF!=\"SI\",'OBLIGACIONES APLICABLES'!#REF!,NA())","v":{"$error":"#REF!"}}]
[{"$f":"IF(PPII_YNC!#REF!=\"SI\",PPII_YNC!#REF!,NA())","v":{"$error":"#REF!"}},{"$f":"IF(PPII_YNC!#REF!=\"SI\",PPII_YNC!#REF!,NA())","v":{"$error":"#REF!"}},{"$f":"IF(PPII_YNC!#REF!=\"SI\",'OBLIGACIONES APLICABLES'!#REF!,NA())","v":{"$error":"#REF!"}},{"$f":"IF(PPII_YNC!#REF!=\"SI\",'OBLIGACIONES APLICABLES'!#REF!,NA())","v":{"$error":"#REF!"}}]
[{"$f":"IF(PPII_YNC!#REF!=\"SI\",PPII_YNC!#REF!,NA())","v":{"$error":"#REF!"}},{"$f":"IF(PPII_YNC!#REF!=\"SI\",PPII_YNC!#REF!,NA())","v":{"$error":"#REF!"}},{"$f":"IF(PPII_YNC!#REF!=\"SI\",'OBLIGACIONES APLICABLES'!#REF!,NA())","v":{"$error":"#REF!"}},{"$f":"IF(PPII_YNC!#REF!=\"SI\",'OBLIGACIONES APLICABLES'!#REF!,NA())","v":{"$error":"#REF!"}}]
[{"$f":"IF(PPII_YNC!#REF!=\"SI\",PPII_YNC!#REF!,NA())","v":{"$error":"#REF!"}},{"$f":"IF(PPII_YNC!#REF!=\"SI\",PPII_YNC!#REF!,NA())","v":{"$error":"#REF!"}},{"$f":"IF(PPII_YNC!#REF!=\"SI\",'OBLIGACIONES APLICABLES'!#REF!,NA())","v":{"$error":"#REF!"}},{"$f":"IF(PPII_YNC!#REF!=\"SI\",'OBLIGACIONES APLICABLES'!#REF!,NA())","v":{"$error":"#REF!"}}]
[{"$f":"IF(PPII_YNC!#REF!=\"SI\",PPII_YNC!#REF!,NA())","v":{"$error":"#REF!"}},{"$f":"IF(PPII_YNC!#REF!=\"SI\",PPII_YNC!#REF!,NA())","v":{"$error":"#REF!"}},{"$f":"IF(PPII_YNC!#REF!=\"SI\",'OBLIGACIONES APLICABLES'!#REF!,NA())","v":{"$error":"#REF!"}},{"$f":"IF(PPII_YNC!#REF!=\"SI\",'OBLIGACIONES APLICABLES'!#REF!,NA())","v":{"$error":"#REF!"}}]
[{"$f":"IF(PPII_YNC!#REF!=\"SI\",PPII_YNC!#REF!,NA())","v":{"$error":"#REF!"}},{"$f":"IF(PPII_YNC!#REF!=\"SI\",PPII_YNC!#REF!,NA())","v":{"$error":"#REF!"}},{"$f":"IF(PPII_YNC!#REF!=\"SI\",'OBLIGACIONES APLICABLES'!#REF!,NA())","v":{"$error":"#REF!"}},{"$f":"IF(PPII_YNC!#REF!=\"SI\",'OBLIGACIONES APLICABLES'!#REF!,NA())","v":{"$error":"#REF!"}}]
[{"$f":"IF(PPII_YNC!#REF!=\"SI\",PPII_YNC!#REF!,NA())","v":{"$error":"#REF!"}},{"$f":"IF(PPII_YNC!#REF!=\"SI\",PPII_YNC!#REF!,NA())","v":{"$error":"#REF!"}},{"$f":"IF(PPII_YNC!#REF!=\"SI\",'OBLIGACIONES APLICABLES'!#REF!,NA())","v":{"$error":"#REF!"}},{"$f":"IF(PPII_YNC!#REF!=\"SI\",'OBLIGACIONES APLICABLES'!#REF!,NA())","v":{"$error":"#REF!"}}]
[{"$f":"IF(PPII_YNC!#REF!=\"SI\",PPII_YNC!#REF!,NA())","v":{"$error":"#REF!"}},{"$f":"IF(PPII_YNC!#REF!=\"SI\",PPII_YNC!#REF!,NA())","v":{"$error":"#REF!"}},{"$f":"IF(PPII_YNC!#REF!=\"SI\",'OBLIGACIONES APLICABLES'!#REF!,NA())","v":{"$error":"#REF!"}},{"$f":"IF(PPII_YNC!#REF!=\"SI\",'OBLIGACIONES APLICABLES'!#REF!,NA())","v":{"$error":"#REF!"}}]
[{"$f":"IF(PPII_YNC!#REF!=\"SI\",PPII_YNC!#REF!,NA())","v":{"$error":"#REF!"}},{"$f":"IF(PPII_YNC!#REF!=\"SI\",PPII_YNC!#REF!,NA())","v":{"$error":"#REF!"}},{"$f":"IF(PPII_YNC!#REF!=\"SI\",'OBLIGACIONES APLICABLES'!#REF!,NA())","v":{"$error":"#REF!"}},{"$f":"IF(PPII_YNC!#REF!=\"SI\",'OBLIGACIONES APLICABLES'!#REF!,NA())","v":{"$error":"#REF!"}}]
[{"$f":"IF(PPII_YNC!#REF!=\"SI\",PPII_YNC!#REF!,NA())","v":{"$error":"#REF!"}},{"$f":"IF(PPII_YNC!#REF!=\"SI\",PPII_YNC!#REF!,NA())","v":{"$error":"#REF!"}},{"$f":"IF(PPII_YNC!#REF!=\"SI\",'OBLIGACIONES APLICABLES'!#REF!,NA())","v":{"$error":"#REF!"}},{"$f":"IF(PPII_YNC!#REF!=\"SI\",'OBLIGACIONES APLICABLES'!#REF!,NA())","v":{"$error":"#REF!"}}]

{"sheet":"Hoja2","index":5,"n_rows":74,"n_cols":4,"rows_kept":74,"cut":false,"hidden":true,"merged":[]}
["COMPONENTE","Fase de construcción","Fase de operación y mantenimiento","Fase de desmantelamiento y abandono"]
[{"$f":"IFERROR(INDEX(Temp!A$3:A$170, SMALL(IF(ISERROR(Temp!A$3:A$170), \"\", ROW(Temp!A$3:A$170)-MIN(ROW(Temp!A$3:A$170))+1), ROW(1:1))),\"\")","v":""},{"$f":"IFERROR(INDEX(Temp!B$3:B$170, SMALL(IF(ISERROR(Temp!B$3:B$170), \"\", ROW(Temp!B$3:B$170)-MIN(ROW(Temp!B$3:B$170))+1), ROW(1:1))),\"\")","v":""},{"$f":"IFERROR(INDEX(Temp!C$3:C$170, SMALL(IF(ISERROR(Temp!C$3:C$170), \"\", ROW(Temp!C$3:C$170)-MIN(ROW(Temp!C$3:C$170))+1), ROW(1:1))),\"\")","v":""},{"$f":"IFERROR(INDEX(Temp!D$3:D$170, SMALL(IF(ISERROR(Temp!D$3:D$170), \"\", ROW(Temp!D$3:D$170)-MIN(ROW(Temp!D$3:D$170))+1), ROW(1:1))),\"\")","v":""}]
[{"$f":"IFERROR(INDEX(Temp!A$3:A$170, SMALL(IF(ISERROR(Temp!A$3:A$170), \"\", ROW(Temp!A$3:A$170)-MIN(ROW(Temp!A$3:A$170))+1), ROW(2:2))),\"\")","v":""},{"$f":"IFERROR(INDEX(Temp!B$3:B$170, SMALL(IF(ISERROR(Temp!B$3:B$170), \"\", ROW(Temp!B$3:B$170)-MIN(ROW(Temp!B$3:B$170))+1), ROW(2:2))),\"\")","v":""},{"$f":"IFERROR(INDEX(Temp!C$3:C$170, SMALL(IF(ISERROR(Temp!C$3:C$170), \"\", ROW(Temp!C$3:C$170)-MIN(ROW(Temp!C$3:C$170))+1), ROW(2:2))),\"\")","v":""},{"$f":"IFERROR(INDEX(Temp!D$3:D$170, SMALL(IF(ISERROR(Temp!D$3:D$170), \"\", ROW(Temp!D$3:D$170)-MIN(ROW(Temp!D$3:D$170))+1), ROW(2:2))),\"\")","v":""}]
[{"$f":"IFERROR(INDEX(Temp!A$3:A$170, SMALL(IF(ISERROR(Temp!A$3:A$170), \"\", ROW(Temp!A$3:A$170)-MIN(ROW(Temp!A$3:A$170))+1), ROW(3:3))),\"\")","v":""},{"$f":"IFERROR(INDEX(Temp!B$3:B$170, SMALL(IF(ISERROR(Temp!B$3:B$170), \"\", ROW(Temp!B$3:B$170)-MIN(ROW(Temp!B$3:B$170))+1), ROW(3:3))),\"\")","v":""},{"$f":"IFERROR(INDEX(Temp!C$3:C$170, SMALL(IF(ISERROR(Temp!C$3:C$170), \"\", ROW(Temp!C$3:C$170)-MIN(ROW(Temp!C$3:C$170))+1), ROW(3:3))),\"\")","v":""},{"$f":"IFERROR(INDEX(Temp!D$3:D$170, SMALL(IF(ISERROR(Temp!D$3:D$170), \"\", ROW(Temp!D$3:D$170)-MIN(ROW(Temp!D$3:D$170))+1), ROW(3:3))),\"\")","v":""}]
[{"$f":"IFERROR(INDEX(Temp!A$3:A$170, SMALL(IF(ISERROR(Temp!A$3:A$170), \"\", ROW(Temp!A$3:A$170)-MIN(ROW(Temp!A$3:A$170))+1), ROW(4:4))),\"\")","v":""},{"$f":"IFERROR(INDEX(Temp!B$3:B$170, SMALL(IF(ISERROR(Temp!B$3:B$170), \"\", ROW(Temp!B$3:B$170)-MIN(ROW(Temp!B$3:B$170))+1), ROW(4:4))),\"\")","v":""},{"$f":"IFERROR(INDEX(Temp!C$3:C$170, SMALL(IF(ISERROR(Temp!C$3:C$170), \"\", ROW(Temp!C$3:C$170)-MIN(ROW(Temp!C$3:C$170))+1), ROW(4:4))),\"\")","v":""},{"$f":"IFERROR(INDEX(Temp!D$3:D$170, SMALL(IF(ISERROR(Temp!D$3:D$170), \"\", ROW(Temp!D$3:D$170)-MIN(ROW(Temp!D$3:D$170))+1), ROW(4:4))),\"\")","v":""}]
[{"$f":"IFERROR(INDEX(Temp!A$3:A$170, SMALL(IF(ISERROR(Temp!A$3:A$170), \"\", ROW(Temp!A$3:A$170)-MIN(ROW(Temp!A$3:A$170))+1), ROW(5:5))),\"\")","v":""},{"$f":"IFERROR(INDEX(Temp!B$3:B$170, SMALL(IF(ISERROR(Temp!B$3:B$170), \"\", ROW(Temp!B$3:B$170)-MIN(ROW(Temp!B$3:B$170))+1), ROW(5:5))),\"\")","v":""},{"$f":"IFERROR(INDEX(Temp!C$3:C$170, SMALL(IF(ISERROR(Temp!C$3:C$170), \"\", ROW(Temp!C$3:C$170)-MIN(ROW(Temp!C$3:C$170))+1), ROW(5:5))),\"\")","v":""},{"$f":"IFERROR(INDEX(Temp!D$3:D$170, SMALL(IF(ISERROR(Temp!D$3:D$170), \"\", ROW(Temp!D$3:D$170)-MIN(ROW(Temp!D$3:D$170))+1), ROW(5:5))),\"\")","v":""}]
[{"$f":"IFERROR(INDEX(Temp!A$3:A$170, SMALL(IF(ISERROR(Temp!A$3:A$170), \"\", ROW(Temp!A$3:A$170)-MIN(ROW(Temp!A$3:A$170))+1), ROW(6:6))),\"\")","v":""},{"$f":"IFERROR(INDEX(Temp!B$3:B$170, SMALL(IF(ISERROR(Temp!B$3:B$170), \"\", ROW(Temp!B$3:B$170)-MIN(ROW(Temp!B$3:B$170))+1), ROW(6:6))),\"\")","v":""},{"$f":"IFERROR(INDEX(Temp!C$3:C$170, SMALL(IF(ISERROR(Temp!C$3:C$170), \"\", ROW(Temp!C$3:C$170)-MIN(ROW(Temp!C$3:C$170))+1), ROW(6:6))),\"\")","v":""},{"$f":"IFERROR(INDEX(Temp!D$3:D$170, SMALL(IF(ISERROR(Temp!D$3:D$170), \"\", ROW(Temp!D$3:D$170)-MIN(ROW(Temp!D$3:D$170))+1), ROW(6:6))),\"\")","v":""}]
[{"$f":"IFERROR(INDEX(Temp!A$3:A$170, SMALL(IF(ISERROR(Temp!A$3:A$170), \"\", ROW(Temp!A$3:A$170)-MIN(ROW(Temp!A$3:A$170))+1), ROW(7:7))),\"\")","v":""},{"$f":"IFERROR(INDEX(Temp!B$3:B$170, SMALL(IF(ISERROR(Temp!B$3:B$170), \"\", ROW(Temp!B$3:B$170)-MIN(ROW(Temp!B$3:B$170))+1), ROW(7:7))),\"\")","v":""},{"$f":"IFERROR(INDEX(Temp!C$3:C$170, SMALL(IF(ISERROR(Temp!C$3:C$170), \"\", ROW(Temp!C$3:C$170)-MIN(ROW(Temp!C$3:C$170))+1), ROW(7:7))),\"\")","v":""},{"$f":"IFERROR(INDEX(Temp!D$3:D$170, SMALL(IF(ISERROR(Temp!D$3:D$170), \"\", ROW(Temp!D$3:D$170)-MIN(ROW(Temp!D$3:D$170))+1), ROW(7:7))),\"\")","v":""}]
[{"$f":"IFERROR(INDEX(Temp!A$3:A$170, SMALL(IF(ISERROR(Temp!A$3:A$170), \"\", ROW(Temp!A$3:A$170)-MIN(ROW(Temp!A$3:A$170))+1), ROW(8:8))),\"\")","v":""},{"$f":"IFERROR(INDEX(Temp!B$3:B$170, SMALL(IF(ISERROR(Temp!B$3:B$170), \"\", ROW(Temp!B$3:B$170)-MIN(ROW(Temp!B$3:B$170))+1), ROW(8:8))),\"\")","v":""},{"$f":"IFERROR(INDEX(Temp!C$3:C$170, SMALL(IF(ISERROR(Temp!C$3:C$170), \"\", ROW(Temp!C$3:C$170)-MIN(ROW(Temp!C$3:C$170))+1), ROW(8:8))),\"\")","v":""},{"$f":"IFERROR(INDEX(Temp!D$3:D$170, SMALL(IF(ISERROR(Temp!D$3:D$170), \"\", ROW(Temp!D$3:D$170)-MIN(ROW(Temp!D$3:D$170))+1), ROW(8:8))),\"\")","v":""}]
[{"$f":"IFERROR(INDEX(Temp!A$3:A$170, SMALL(IF(ISERROR(Temp!A$3:A$170), \"\", ROW(Temp!A$3:A$170)-MIN(ROW(Temp!A$3:A$170))+1), ROW(9:9))),\"\")","v":""},{"$f":"IFERROR(INDEX(Temp!B$3:B$170, SMALL(IF(ISERROR(Temp!B$3:B$170), \"\", ROW(Temp!B$3:B$170)-MIN(ROW(Temp!B$3:B$170))+1), ROW(9:9))),\"\")","v":""},{"$f":"IFERROR(INDEX(Temp!C$3:C$170, SMALL(IF(ISERROR(Temp!C$3:C$170), \"\", ROW(Temp!C$3:C$170)-MIN(ROW(Temp!C$3:C$170))+1), ROW(9:9))),\"\")","v":""},{"$f":"IFERROR(INDEX(Temp!D$3:D$170, SMALL(IF(ISERROR(Temp!D$3:D$170), \"\", ROW(Temp!D$3:D$170)-MIN(ROW(Temp!D$3:D$170))+1), ROW(9:9))),\"\")","v":""}]
[{"$f":"IFERROR(INDEX(Temp!A$3:A$170, SMALL(IF(ISERROR(Temp!A$3:A$170), \"\", ROW(Temp!A$3:A$170)-MIN(ROW(Temp!A$3:A$170))+1), ROW(10:10))),\"\")","v":""},{"$f":"IFERROR(INDEX(Temp!B$3:B$170, SMALL(IF(ISERROR(Temp!B$3:B$170), \"\", ROW(Temp!B$3:B$170)-MIN(ROW(Temp!B$3:B$170))+1), ROW(10:10))),\"\")","v":""},{"$f":"IFERROR(INDEX(Temp!C$3:C$170, SMALL(IF(ISERROR(Temp!C$3:C$170), \"\", ROW(Temp!C$3:C$170)-MIN(ROW(Temp!C$3:C$170))+1), ROW(10:10))),\"\")","v":""},{"$f":"IFERROR(INDEX(Temp!D$3:D$170, SMALL(IF(ISERROR(Temp!D$3:D$170), \"\", ROW(Temp!D$3:D$170)-MIN(ROW(Temp!D$3:D$170))+1), ROW(10:10))),\"\")","v":""}]
[{"$f":"IFERROR(INDEX(Temp!A$3:A$170, SMALL(IF(ISERROR(Temp!A$3:A$170), \"\", ROW(Temp!A$3:A$170)-MIN(ROW(Temp!A$3:A$170))+1), ROW(11:11))),\"\")","v":""},{"$f":"IFERROR(INDEX(Temp!B$3:B$170, SMALL(IF(ISERROR(Temp!B$3:B$170), \"\", ROW(Temp!B$3:B$170)-MIN(ROW(Temp!B$3:B$170))+1), ROW(11:11))),\"\")","v":""},{"$f":"IFERROR(INDEX(Temp!C$3:C$170, SMALL(IF(ISERROR(Temp!C$3:C$170), \"\", ROW(Temp!C$3:C$170)-MIN(ROW(Temp!C$3:C$170))+1), ROW(11:11))),\"\")","v":""},{"$f":"IFERROR(INDEX(Temp!D$3:D$170, SMALL(IF(ISERROR(Temp!D$3:D$170), \"\", ROW(Temp!D$3:D$170)-MIN(ROW(Temp!D$3:D$170))+1), ROW(11:11))),\"\")","v":""}]
[{"$f":"IFERROR(INDEX(Temp!A$3:A$170, SMALL(IF(ISERROR(Temp!A$3:A$170), \"\", ROW(Temp!A$3:A$170)-MIN(ROW(Temp!A$3:A$170))+1), ROW(12:12))),\"\")","v":""},{"$f":"IFERROR(INDEX(Temp!B$3:B$170, SMALL(IF(ISERROR(Temp!B$3:B$170), \"\", ROW(Temp!B$3:B$170)-MIN(ROW(Temp!B$3:B$170))+1), ROW(12:12))),\"\")","v":""},{"$f":"IFERROR(INDEX(Temp!C$3:C$170, SMALL(IF(ISERROR(Temp!C$3:C$170), \"\", ROW(Temp!C$3:C$170)-MIN(ROW(Temp!C$3:C$170))+1), ROW(12:12))),\"\")","v":""},{"$f":"IFERROR(INDEX(Temp!D$3:D$170, SMALL(IF(ISERROR(Temp!D$3:D$170), \"\", ROW(Temp!D$3:D$170)-MIN(ROW(Temp!D$3:D$170))+1), ROW(12:12))),\"\")","v":""}]
[{"$f":"IFERROR(INDEX(Temp!A$3:A$170, SMALL(IF(ISERROR(Temp!A$3:A$170), \"\", ROW(Temp!A$3:A$170)-MIN(ROW(Temp!A$3:A$170))+1), ROW(13:13))),\"\")","v":""},{"$f":"IFERROR(INDEX(Temp!B$3:B$170, SMALL(IF(ISERROR(Temp!B$3:B$170), \"\", ROW(Temp!B$3:B$170)-MIN(ROW(Temp!B$3:B$170))+1), ROW(13:13))),\"\")","v":""},{"$f":"IFERROR(INDEX(Temp!C$3:C$170, SMALL(IF(ISERROR(Temp!C$3:C$170), \"\", ROW(Temp!C$3:C$170)-MIN(ROW(Temp!C$3:C$170))+1), ROW(13:13))),\"\")","v":""},{"$f":"IFERROR(INDEX(Temp!D$3:D$170, SMALL(IF(ISERROR(Temp!D$3:D$170), \"\", ROW(Temp!D$3:D$170)-MIN(ROW(Temp!D$3:D$170))+1), ROW(13:13))),\"\")","v":""}]
[{"$f":"IFERROR(INDEX(Temp!A$3:A$170, SMALL(IF(ISERROR(Temp!A$3:A$170), \"\", ROW(Temp!A$3:A$170)-MIN(ROW(Temp!A$3:A$170))+1), ROW(14:14))),\"\")","v":""},{"$f":"IFERROR(INDEX(Temp!B$3:B$170, SMALL(IF(ISERROR(Temp!B$3:B$170), \"\", ROW(Temp!B$3:B$170)-MIN(ROW(Temp!B$3:B$170))+1), ROW(14:14))),\"\")","v":""},{"$f":"IFERROR(INDEX(Temp!C$3:C$170, SMALL(IF(ISERROR(Temp!C$3:C$170), \"\", ROW(Temp!C$3:C$170)-MIN(ROW(Temp!C$3:C$170))+1), ROW(14:14))),\"\")","v":""},{"$f":"IFERROR(INDEX(Temp!D$3:D$170, SMALL(IF(ISERROR(Temp!D$3:D$170), \"\", ROW(Temp!D$3:D$170)-MIN(ROW(Temp!D$3:D$170))+1), ROW(14:14))),\"\")","v":""}]
[{"$f":"IFERROR(INDEX(Temp!A$3:A$170, SMALL(IF(ISERROR(Temp!A$3:A$170), \"\", ROW(Temp!A$3:A$170)-MIN(ROW(Temp!A$3:A$170))+1), ROW(15:15))),\"\")","v":""},{"$f":"IFERROR(INDEX(Temp!B$3:B$170, SMALL(IF(ISERROR(Temp!B$3:B$170), \"\", ROW(Temp!B$3:B$170)-MIN(ROW(Temp!B$3:B$170))+1), ROW(15:15))),\"\")","v":""},{"$f":"IFERROR(INDEX(Temp!C$3:C$170, SMALL(IF(ISERROR(Temp!C$3:C$170), \"\", ROW(Temp!C$3:C$170)-MIN(ROW(Temp!C$3:C$170))+1), ROW(15:15))),\"\")","v":""},{"$f":"IFERROR(INDEX(Temp!D$3:D$170, SMALL(IF(ISERROR(Temp!D$3:D$170), \"\", ROW(Temp!D$3:D$170)-MIN(ROW(Temp!D$3:D$170))+1), ROW(15:15))),\"\")","v":""}]
[{"$f":"IFERROR(INDEX(Temp!A$3:A$170, SMALL(IF(ISERROR(Temp!A$3:A$170), \"\", ROW(Temp!A$3:A$170)-MIN(ROW(Temp!A$3:A$170))+1), ROW(16:16))),\"\")","v":""},{"$f":"IFERROR(INDEX(Temp!B$3:B$170, SMALL(IF(ISERROR(Temp!B$3:B$170), \"\", ROW(Temp!B$3:B$170)-MIN(ROW(Temp!B$3:B$170))+1), ROW(16:16))),\"\")","v":""},{"$f":"IFERROR(INDEX(Temp!C$3:C$170, SMALL(IF(ISERROR(Temp!C$3:C$170), \"\", ROW(Temp!C$3:C$170)-MIN(ROW(Temp!C$3:C$170))+1), ROW(16:16))),\"\")","v":""},{"$f":"IFERROR(INDEX(Temp!D$3:D$170, SMALL(IF(ISERROR(Temp!D$3:D$170), \"\", ROW(Temp!D$3:D$170)-MIN(ROW(Temp!D$3:D$170))+1), ROW(16:16))),\"\")","v":""}]
[{"$f":"IFERROR(INDEX(Temp!A$3:A$170, SMALL(IF(ISERROR(Temp!A$3:A$170), \"\", ROW(Temp!A$3:A$170)-MIN(ROW(Temp!A$3:A$170))+1), ROW(17:17))),\"\")","v":""},{"$f":"IFERROR(INDEX(Temp!B$3:B$170, SMALL(IF(ISERROR(Temp!B$3:B$170), \"\", ROW(Temp!B$3:B$170)-MIN(ROW(Temp!B$3:B$170))+1), ROW(17:17))),\"\")","v":""},{"$f":"IFERROR(INDEX(Temp!C$3:C$170, SMALL(IF(ISERROR(Temp!C$3:C$170), \"\", ROW(Temp!C$3:C$170)-MIN(ROW(Temp!C$3:C$170))+1), ROW(17:17))),\"\")","v":""},{"$f":"IFERROR(INDEX(Temp!D$3:D$170, SMALL(IF(ISERROR(Temp!D$3:D$170), \"\", ROW(Temp!D$3:D$170)-MIN(ROW(Temp!D$3:D$170))+1), ROW(17:17))),\"\")","v":""}]
[{"$f":"IFERROR(INDEX(Temp!A$3:A$170, SMALL(IF(ISERROR(Temp!A$3:A$170), \"\", ROW(Temp!A$3:A$170)-MIN(ROW(Temp!A$3:A$170))+1), ROW(18:18))),\"\")","v":""},{"$f":"IFERROR(INDEX(Temp!B$3:B$170, SMALL(IF(ISERROR(Temp!B$3:B$170), \"\", ROW(Temp!B$3:B$170)-MIN(ROW(Temp!B$3:B$170))+1), ROW(18:18))),\"\")","v":""},{"$f":"IFERROR(INDEX(Temp!C$3:C$170, SMALL(IF(ISERROR(Temp!C$3:C$170), \"\", ROW(Temp!C$3:C$170)-MIN(ROW(Temp!C$3:C$170))+1), ROW(18:18))),\"\")","v":""},{"$f":"IFERROR(INDEX(Temp!D$3:D$170, SMALL(IF(ISERROR(Temp!D$3:D$170), \"\", ROW(Temp!D$3:D$170)-MIN(ROW(Temp!D$3:D$170))+1), ROW(18:18))),\"\")","v":""}]
[{"$f":"IFERROR(INDEX(Temp!A$3:A$170, SMALL(IF(ISERROR(Temp!A$3:A$170), \"\", ROW(Temp!A$3:A$170)-MIN(ROW(Temp!A$3:A$170))+1), ROW(19:19))),\"\")","v":""},{"$f":"IFERROR(INDEX(Temp!B$3:B$170, SMALL(IF(ISERROR(Temp!B$3:B$170), \"\", ROW(Temp!B$3:B$170)-MIN(ROW(Temp!B$3:B$170))+1), ROW(19:19))),\"\")","v":""},{"$f":"IFERROR(INDEX(Temp!C$3:C$170, SMALL(IF(ISERROR(Temp!C$3:C$170), \"\", ROW(Temp!C$3:C$170)-MIN(ROW(Temp!C$3:C$170))+1), ROW(19:19))),\"\")","v":""},{"$f":"IFERROR(INDEX(Temp!D$3:D$170, SMALL(IF(ISERROR(Temp!D$3:D$170), \"\", ROW(Temp!D$3:D$170)-MIN(ROW(Temp!D$3:D$170))+1), ROW(19:19))),\"\")","v":""}]
[{"$f":"IFERROR(INDEX(Temp!A$3:A$170, SMALL(IF(ISERROR(Temp!A$3:A$170), \"\", ROW(Temp!A$3:A$170)-MIN(ROW(Temp!A$3:A$170))+1), ROW(20:20))),\"\")","v":""},{"$f":"IFERROR(INDEX(Temp!B$3:B$170, SMALL(IF(ISERROR(Temp!B$3:B$170), \"\", ROW(Temp!B$3:B$170)-MIN(ROW(Temp!B$3:B$170))+1), ROW(20:20))),\"\")","v":""},{"$f":"IFERROR(INDEX(Temp!C$3:C$170, SMALL(IF(ISERROR(Temp!C$3:C$170), \"\", ROW(Temp!C$3:C$170)-MIN(ROW(Temp!C$3:C$170))+1), ROW(20:20))),\"\")","v":""},{"$f":"IFERROR(INDEX(Temp!D$3:D$170, SMALL(IF(ISERROR(Temp!D$3:D$170), \"\", ROW(Temp!D$3:D$170)-MIN(ROW(Temp!D$3:D$170))+1), ROW(20:20))),\"\")","v":""}]
[{"$f":"IFERROR(INDEX(Temp!A$3:A$170, SMALL(IF(ISERROR(Temp!A$3:A$170), \"\", ROW(Temp!A$3:A$170)-MIN(ROW(Temp!A$3:A$170))+1), ROW(21:21))),\"\")","v":""},{"$f":"IFERROR(INDEX(Temp!B$3:B$170, SMALL(IF(ISERROR(Temp!B$3:B$170), \"\", ROW(Temp!B$3:B$170)-MIN(ROW(Temp!B$3:B$170))+1), ROW(21:21))),\"\")","v":""},{"$f":"IFERROR(INDEX(Temp!C$3:C$170, SMALL(IF(ISERROR(Temp!C$3:C$170), \"\", ROW(Temp!C$3:C$170)-MIN(ROW(Temp!C$3:C$170))+1), ROW(21:21))),\"\")","v":""},{"$f":"IFERROR(INDEX(Temp!D$3:D$170, SMALL(IF(ISERROR(Temp!D$3:D$170), \"\", ROW(Temp!D$3:D$170)-MIN(ROW(Temp!D$3:D$170))+1), ROW(21:21))),\"\")","v":""}]
[{"$f":"IFERROR(INDEX(Temp!A$3:A$170, SMALL(IF(ISERROR(Temp!A$3:A$170), \"\", ROW(Temp!A$3:A$170)-MIN(ROW(Temp!A$3:A$170))+1), ROW(22:22))),\"\")","v":""},{"$f":"IFERROR(INDEX(Temp!B$3:B$170, SMALL(IF(ISERROR(Temp!B$3:B$170), \"\", ROW(Temp!B$3:B$170)-MIN(ROW(Temp!B$3:B$170))+1), ROW(22:22))),\"\")","v":""},{"$f":"IFERROR(INDEX(Temp!C$3:C$170, SMALL(IF(ISERROR(Temp!C$3:C$170), \"\", ROW(Temp!C$3:C$170)-MIN(ROW(Temp!C$3:C$170))+1), ROW(22:22))),\"\")","v":""},{"$f":"IFERROR(INDEX(Temp!D$3:D$170, SMALL(IF(ISERROR(Temp!D$3:D$170), \"\", ROW(Temp!D$3:D$170)-MIN(ROW(Temp!D$3:D$170))+1), ROW(22:22))),\"\")","v":""}]
[{"$f":"IFERROR(INDEX(Temp!A$3:A$170, SMALL(IF(ISERROR(Temp!A$3:A$170), \"\", ROW(Temp!A$3:A$170)-MIN(ROW(Temp!A$3:A$170))+1), ROW(23:23))),\"\")","v":""},{"$f":"IFERROR(INDEX(Temp!B$3:B$170, SMALL(IF(ISERROR(Temp!B$3:B$170), \"\", ROW(Temp!B$3:B$170)-MIN(ROW(Temp!B$3:B$170))+1), ROW(23:23))),\"\")","v":""},{"$f":"IFERROR(INDEX(Temp!C$3:C$170, SMALL(IF(ISERROR(Temp!C$3:C$170), \"\", ROW(Temp!C$3:C$170)-MIN(ROW(Temp!C$3:C$170))+1), ROW(23:23))),\"\")","v":""},{"$f":"IFERROR(INDEX(Temp!D$3:D$170, SMALL(IF(ISERROR(Temp!D$3:D$170), \"\", ROW(Temp!D$3:D$170)-MIN(ROW(Temp!D$3:D$170))+1), ROW(23:23))),\"\")","v":""}]
[{"$f":"IFERROR(INDEX(Temp!A$3:A$170, SMALL(IF(ISERROR(Temp!A$3:A$170), \"\", ROW(Temp!A$3:A$170)-MIN(ROW(Temp!A$3:A$170))+1), ROW(24:24))),\"\")","v":""},{"$f":"IFERROR(INDEX(Temp!B$3:B$170, SMALL(IF(ISERROR(Temp!B$3:B$170), \"\", ROW(Temp!B$3:B$170)-MIN(ROW(Temp!B$3:B$170))+1), ROW(24:24))),\"\")","v":""},{"$f":"IFERROR(INDEX(Temp!C$3:C$170, SMALL(IF(ISERROR(Temp!C$3:C$170), \"\", ROW(Temp!C$3:C$170)-MIN(ROW(Temp!C$3:C$170))+1), ROW(24:24))),\"\")","v":""},{"$f":"IFERROR(INDEX(Temp!D$3:D$170, SMALL(IF(ISERROR(Temp!D$3:D$170), \"\", ROW(Temp!D$3:D$170)-MIN(ROW(Temp!D$3:D$170))+1), ROW(24:24))),\"\")","v":""}]
[{"$f":"IFERROR(INDEX(Temp!A$3:A$170, SMALL(IF(ISERROR(Temp!A$3:A$170), \"\", ROW(Temp!A$3:A$170)-MIN(ROW(Temp!A$3:A$170))+1), ROW(25:25))),\"\")","v":""},{"$f":"IFERROR(INDEX(Temp!B$3:B$170, SMALL(IF(ISERROR(Temp!B$3:B$170), \"\", ROW(Temp!B$3:B$170)-MIN(ROW(Temp!B$3:B$170))+1), ROW(25:25))),\"\")","v":""},{"$f":"IFERROR(INDEX(Temp!C$3:C$170, SMALL(IF(ISERROR(Temp!C$3:C$170), \"\", ROW(Temp!C$3:C$170)-MIN(ROW(Temp!C$3:C$170))+1), ROW(25:25))),\"\")","v":""},{"$f":"IFERROR(INDEX(Temp!D$3:D$170, SMALL(IF(ISERROR(Temp!D$3:D$170), \"\", ROW(Temp!D$3:D$170)-MIN(ROW(Temp!D$3:D$170))+1), ROW(25:25))),\"\")","v":""}]
[{"$f":"IFERROR(INDEX(Temp!A$3:A$170, SMALL(IF(ISERROR(Temp!A$3:A$170), \"\", ROW(Temp!A$3:A$170)-MIN(ROW(Temp!A$3:A$170))+1), ROW(26:26))),\"\")","v":""},{"$f":"IFERROR(INDEX(Temp!B$3:B$170, SMALL(IF(ISERROR(Temp!B$3:B$170), \"\", ROW(Temp!B$3:B$170)-MIN(ROW(Temp!B$3:B$170))+1), ROW(26:26))),\"\")","v":""},{"$f":"IFERROR(INDEX(Temp!C$3:C$170, SMALL(IF(ISERROR(Temp!C$3:C$170), \"\", ROW(Temp!C$3:C$170)-MIN(ROW(Temp!C$3:C$170))+1), ROW(26:26))),\"\")","v":""},{"$f":"IFERROR(INDEX(Temp!D$3:D$170, SMALL(IF(ISERROR(Temp!D$3:D$170), \"\", ROW(Temp!D$3:D$170)-MIN(ROW(Temp!D$3:D$170))+1), ROW(26:26))),\"\")","v":""}]
[{"$f":"IFERROR(INDEX(Temp!A$3:A$170, SMALL(IF(ISERROR(Temp!A$3:A$170), \"\", ROW(Temp!A$3:A$170)-MIN(ROW(Temp!A$3:A$170))+1), ROW(27:27))),\"\")","v":""},{"$f":"IFERROR(INDEX(Temp!B$3:B$170, SMALL(IF(ISERROR(Temp!B$3:B$170), \"\", ROW(Temp!B$3:B$170)-MIN(ROW(Temp!B$3:B$170))+1), ROW(27:27))),\"\")","v":""},{"$f":"IFERROR(INDEX(Temp!C$3:C$170, SMALL(IF(ISERROR(Temp!C$3:C$170), \"\", ROW(Temp!C$3:C$170)-MIN(ROW(Temp!C$3:C$170))+1), ROW(27:27))),\"\")","v":""},{"$f":"IFERROR(INDEX(Temp!D$3:D$170, SMALL(IF(ISERROR(Temp!D$3:D$170), \"\", ROW(Temp!D$3:D$170)-MIN(ROW(Temp!D$3:D$170))+1), ROW(27:27))),\"\")","v":""}]
[{"$f":"IFERROR(INDEX(Temp!A$3:A$170, SMALL(IF(ISERROR(Temp!A$3:A$170), \"\", ROW(Temp!A$3:A$170)-MIN(ROW(Temp!A$3:A$170))+1), ROW(28:28))),\"\")","v":""},{"$f":"IFERROR(INDEX(Temp!B$3:B$170, SMALL(IF(ISERROR(Temp!B$3:B$170), \"\", ROW(Temp!B$3:B$170)-MIN(ROW(Temp!B$3:B$170))+1), ROW(28:28))),\"\")","v":""},{"$f":"IFERROR(INDEX(Temp!C$3:C$170, SMALL(IF(ISERROR(Temp!C$3:C$170), \"\", ROW(Temp!C$3:C$170)-MIN(ROW(Temp!C$3:C$170))+1), ROW(28:28))),\"\")","v":""},{"$f":"IFERROR(INDEX(Temp!D$3:D$170, SMALL(IF(ISERROR(Temp!D$3:D$170), \"\", ROW(Temp!D$3:D$170)-MIN(ROW(Temp!D$3:D$170))+1), ROW(28:28))),\"\")","v":""}]
[{"$f":"IFERROR(INDEX(Temp!A$3:A$170, SMALL(IF(ISERROR(Temp!A$3:A$170), \"\", ROW(Temp!A$3:A$170)-MIN(ROW(Temp!A$3:A$170))+1), ROW(29:29))),\"\")","v":""},{"$f":"IFERROR(INDEX(Temp!B$3:B$170, SMALL(IF(ISERROR(Temp!B$3:B$170), \"\", ROW(Temp!B$3:B$170)-MIN(ROW(Temp!B$3:B$170))+1), ROW(29:29))),\"\")","v":""},{"$f":"IFERROR(INDEX(Temp!C$3:C$170, SMALL(IF(ISERROR(Temp!C$3:C$170), \"\", ROW(Temp!C$3:C$170)-MIN(ROW(Temp!C$3:C$170))+1), ROW(29:29))),\"\")","v":""},{"$f":"IFERROR(INDEX(Temp!D$3:D$170, SMALL(IF(ISERROR(Temp!D$3:D$170), \"\", ROW(Temp!D$3:D$170)-MIN(ROW(Temp!D$3:D$170))+1), ROW(29:29))),\"\")","v":""}]
[{"$f":"IFERROR(INDEX(Temp!A$3:A$170, SMALL(IF(ISERROR(Temp!A$3:A$170), \"\", ROW(Temp!A$3:A$170)-MIN(ROW(Temp!A$3:A$170))+1), ROW(30:30))),\"\")","v":""},{"$f":"IFERROR(INDEX(Temp!B$3:B$170, SMALL(IF(ISERROR(Temp!B$3:B$170), \"\", ROW(Temp!B$3:B$170)-MIN(ROW(Temp!B$3:B$170))+1), ROW(30:30))),\"\")","v":""},{"$f":"IFERROR(INDEX(Temp!C$3:C$170, SMALL(IF(ISERROR(Temp!C$3:C$170), \"\", ROW(Temp!C$3:C$170)-MIN(ROW(Temp!C$3:C$170))+1), ROW(30:30))),\"\")","v":""},{"$f":"IFERROR(INDEX(Temp!D$3:D$170, SMALL(IF(ISERROR(Temp!D$3:D$170), \"\", ROW(Temp!D$3:D$170)-MIN(ROW(Temp!D$3:D$170))+1), ROW(30:30))),\"\")","v":""}]
[{"$f":"IFERROR(INDEX(Temp!A$3:A$170, SMALL(IF(ISERROR(Temp!A$3:A$170), \"\", ROW(Temp!A$3:A$170)-MIN(ROW(Temp!A$3:A$170))+1), ROW(31:31))),\"\")","v":""},{"$f":"IFERROR(INDEX(Temp!B$3:B$170, SMALL(IF(ISERROR(Temp!B$3:B$170), \"\", ROW(Temp!B$3:B$170)-MIN(ROW(Temp!B$3:B$170))+1), ROW(31:31))),\"\")","v":""},{"$f":"IFERROR(INDEX(Temp!C$3:C$170, SMALL(IF(ISERROR(Temp!C$3:C$170), \"\", ROW(Temp!C$3:C$170)-MIN(ROW(Temp!C$3:C$170))+1), ROW(31:31))),\"\")","v":""},{"$f":"IFERROR(INDEX(Temp!D$3:D$170, SMALL(IF(ISERROR(Temp!D$3:D$170), \"\", ROW(Temp!D$3:D$170)-MIN(ROW(Temp!D$3:D$170))+1), ROW(31:31))),\"\")","v":""}]
[{"$f":"IFERROR(INDEX(Temp!A$3:A$170, SMALL(IF(ISERROR(Temp!A$3:A$170), \"\", ROW(Temp!A$3:A$170)-MIN(ROW(Temp!A$3:A$170))+1), ROW(32:32))),\"\")","v":""},{"$f":"IFERROR(INDEX(Temp!B$3:B$170, SMALL(IF(ISERROR(Temp!B$3:B$170), \"\", ROW(Temp!B$3:B$170)-MIN(ROW(Temp!B$3:B$170))+1), ROW(32:32))),\"\")","v":""},{"$f":"IFERROR(INDEX(Temp!C$3:C$170, SMALL(IF(ISERROR(Temp!C$3:C$170), \"\", ROW(Temp!C$3:C$170)-MIN(ROW(Temp!C$3:C$170))+1), ROW(32:32))),\"\")","v":""},{"$f":"IFERROR(INDEX(Temp!D$3:D$170, SMALL(IF(ISERROR(Temp!D$3:D$170), \"\", ROW(Temp!D$3:D$170)-MIN(ROW(Temp!D$3:D$170))+1), ROW(32:32))),\"\")","v":""}]
[{"$f":"IFERROR(INDEX(Temp!A$3:A$170, SMALL(IF(ISERROR(Temp!A$3:A$170), \"\", ROW(Temp!A$3:A$170)-MIN(ROW(Temp!A$3:A$170))+1), ROW(33:33))),\"\")","v":""},{"$f":"IFERROR(INDEX(Temp!B$3:B$170, SMALL(IF(ISERROR(Temp!B$3:B$170), \"\", ROW(Temp!B$3:B$170)-MIN(ROW(Temp!B$3:B$170))+1), ROW(33:33))),\"\")","v":""},{"$f":"IFERROR(INDEX(Temp!C$3:C$170, SMALL(IF(ISERROR(Temp!C$3:C$170), \"\", ROW(Temp!C$3:C$170)-MIN(ROW(Temp!C$3:C$170))+1), ROW(33:33))),\"\")","v":""},{"$f":"IFERROR(INDEX(Temp!D$3:D$170, SMALL(IF(ISERROR(Temp!D$3:D$170), \"\", ROW(Temp!D$3:D$170)-MIN(ROW(Temp!D$3:D$170))+1), ROW(33:33))),\"\")","v":""}]
[{"$f":"IFERROR(INDEX(Temp!A$3:A$170, SMALL(IF(ISERROR(Temp!A$3:A$170), \"\", ROW(Temp!A$3:A$170)-MIN(ROW(Temp!A$3:A$170))+1), ROW(34:34))),\"\")","v":""},{"$f":"IFERROR(INDEX(Temp!B$3:B$170, SMALL(IF(ISERROR(Temp!B$3:B$170), \"\", ROW(Temp!B$3:B$170)-MIN(ROW(Temp!B$3:B$170))+1), ROW(34:34))),\"\")","v":""},{"$f":"IFERROR(INDEX(Temp!C$3:C$170, SMALL(IF(ISERROR(Temp!C$3:C$170), \"\", ROW(Temp!C$3:C$170)-MIN(ROW(Temp!C$3:C$170))+1), ROW(34:34))),\"\")","v":""},{"$f":"IFERROR(INDEX(Temp!D$3:D$170, SMALL(IF(ISERROR(Temp!D$3:D$170), \"\", ROW(Temp!D$3:D$170)-MIN(ROW(Temp!D$3:D$170))+1), ROW(34:34))),\"\")","v":""}]
[{"$f":"IFERROR(INDEX(Temp!A$3:A$170, SMALL(IF(ISERROR(Temp!A$3:A$170), \"\", ROW(Temp!A$3:A$170)-MIN(ROW(Temp!A$3:A$170))+1), ROW(35:35))),\"\")","v":""},{"$f":"IFERROR(INDEX(Temp!B$3:B$170, SMALL(IF(ISERROR(Temp!B$3:B$170), \"\", ROW(Temp!B$3:B$170)-MIN(ROW(Temp!B$3:B$170))+1), ROW(35:35))),\"\")","v":""},{"$f":"IFERROR(INDEX(Temp!C$3:C$170, SMALL(IF(ISERROR(Temp!C$3:C$170), \"\", ROW(Temp!C$3:C$170)-MIN(ROW(Temp!C$3:C$170))+1), ROW(35:35))),\"\")","v":""},{"$f":"IFERROR(INDEX(Temp!D$3:D$170, SMALL(IF(ISERROR(Temp!D$3:D$170), \"\", ROW(Temp!D$3:D$170)-MIN(ROW(Temp!D$3:D$170))+1), ROW(35:35))),\"\")","v":""}]
[{"$f":"IFERROR(INDEX(Temp!A$3:A$170, SMALL(IF(ISERROR(Temp!A$3:A$170), \"\", ROW(Temp!A$3:A$170)-MIN(ROW(Temp!A$3:A$170))+1), ROW(36:36))),\"\")","v":""},{"$f":"IFERROR(INDEX(Temp!B$3:B$170, SMALL(IF(ISERROR(Temp!B$3:B$170), \"\", ROW(Temp!B$3:B$170)-MIN(ROW(Temp!B$3:B$170))+1), ROW(36:36))),\"\")","v":""},{"$f":"IFERROR(INDEX(Temp!C$3:C$170, SMALL(IF(ISERROR(Temp!C$3:C$170), \"\", ROW(Temp!C$3:C$170)-MIN(ROW(Temp!C$3:C$170))+1), ROW(36:36))),\"\")","v":""},{"$f":"IFERROR(INDEX(Temp!D$3:D$170, SMALL(IF(ISERROR(Temp!D$3:D$170), \"\", ROW(Temp!D$3:D$170)-MIN(ROW(Temp!D$3:D$170))+1), ROW(36:36))),\"\")","v":""}]
[{"$f":"IFERROR(INDEX(Temp!A$3:A$170, SMALL(IF(ISERROR(Temp!A$3:A$170), \"\", ROW(Temp!A$3:A$170)-MIN(ROW(Temp!A$3:A$170))+1), ROW(37:37))),\"\")","v":""},{"$f":"IFERROR(INDEX(Temp!B$3:B$170, SMALL(IF(ISERROR(Temp!B$3:B$170), \"\", ROW(Temp!B$3:B$170)-MIN(ROW(Temp!B$3:B$170))+1), ROW(37:37))),\"\")","v":""},{"$f":"IFERROR(INDEX(Temp!C$3:C$170, SMALL(IF(ISERROR(Temp!C$3:C$170), \"\", ROW(Temp!C$3:C$170)-MIN(ROW(Temp!C$3:C$170))+1), ROW(37:37))),\"\")","v":""},{"$f":"IFERROR(INDEX(Temp!D$3:D$170, SMALL(IF(ISERROR(Temp!D$3:D$170), \"\", ROW(Temp!D$3:D$170)-MIN(ROW(Temp!D$3:D$170))+1), ROW(37:37))),\"\")","v":""}]
[{"$f":"IFERROR(INDEX(Temp!A$3:A$170, SMALL(IF(ISERROR(Temp!A$3:A$170), \"\", ROW(Temp!A$3:A$170)-MIN(ROW(Temp!A$3:A$170))+1), ROW(38:38))),\"\")","v":""},{"$f":"IFERROR(INDEX(Temp!B$3:B$170, SMALL(IF(ISERROR(Temp!B$3:B$170), \"\", ROW(Temp!B$3:B$170)-MIN(ROW(Temp!B$3:B$170))+1), ROW(38:38))),\"\")","v":""},{"$f":"IFERROR(INDEX(Temp!C$3:C$170, SMALL(IF(ISERROR(Temp!C$3:C$170), \"\", ROW(Temp!C$3:C$170)-MIN(ROW(Temp!C$3:C$170))+1), ROW(38:38))),\"\")","v":""},{"$f":"IFERROR(INDEX(Temp!D$3:D$170, SMALL(IF(ISERROR(Temp!D$3:D$170), \"\", ROW(Temp!D$3:D$170)-MIN(ROW(Temp!D$3:D$170))+1), ROW(38:38))),\"\")","v":""}]
[{"$f":"IFERROR(INDEX(Temp!A$3:A$170, SMALL(IF(ISERROR(Temp!A$3:A$170), \"\", ROW(Temp!A$3:A$170)-MIN(ROW(Temp!A$3:A$170))+1), ROW(39:39))),\"\")","v":""},{"$f":"IFERROR(INDEX(Temp!B$3:B$170, SMALL(IF(ISERROR(Temp!B$3:B$170), \"\", ROW(Temp!B$3:B$170)-MIN(ROW(Temp!B$3:B$170))+1), ROW(39:39))),\"\")","v":""},{"$f":"IFERROR(INDEX(Temp!C$3:C$170, SMALL(IF(ISERROR(Temp!C$3:C$170), \"\", ROW(Temp!C$3:C$170)-MIN(ROW(Temp!C$3:C$170))+1), ROW(39:39))),\"\")","v":""},{"$f":"IFERROR(INDEX(Temp!D$3:D$170, SMALL(IF(ISERROR(Temp!D$3:D$170), \"\", ROW(Temp!D$3:D$170)-MIN(ROW(Temp!D$3:D$170))+1), ROW(39:39))),\"\")","v":""}]
[{"$f":"IFERROR(INDEX(Temp!A$3:A$170, SMALL(IF(ISERROR(Temp!A$3:A$170), \"\", ROW(Temp!A$3:A$170)-MIN(ROW(Temp!A$3:A$170))+1), ROW(40:40))),\"\")","v":""},{"$f":"IFERROR(INDEX(Temp!B$3:B$170, SMALL(IF(ISERROR(Temp!B$3:B$170), \"\", ROW(Temp!B$3:B$170)-MIN(ROW(Temp!B$3:B$170))+1), ROW(40:40))),\"\")","v":""},{"$f":"IFERROR(INDEX(Temp!C$3:C$170, SMALL(IF(ISERROR(Temp!C$3:C$170), \"\", ROW(Temp!C$3:C$170)-MIN(ROW(Temp!C$3:C$170))+1), ROW(40:40))),\"\")","v":""},{"$f":"IFERROR(INDEX(Temp!D$3:D$170, SMALL(IF(ISERROR(Temp!D$3:D$170), \"\", ROW(Temp!D$3:D$170)-MIN(ROW(Temp!D$3:D$170))+1), ROW(40:40))),\"\")","v":""}]
[{"$f":"IFERROR(INDEX(Temp!A$3:A$170, SMALL(IF(ISERROR(Temp!A$3:A$170), \"\", ROW(Temp!A$3:A$170)-MIN(ROW(Temp!A$3:A$170))+1), ROW(41:41))),\"\")","v":""},{"$f":"IFERROR(INDEX(Temp!B$3:B$170, SMALL(IF(ISERROR(Temp!B$3:B$170), \"\", ROW(Temp!B$3:B$170)-MIN(ROW(Temp!B$3:B$170))+1), ROW(41:41))),\"\")","v":""},{"$f":"IFERROR(INDEX(Temp!C$3:C$170, SMALL(IF(ISERROR(Temp!C$3:C$170), \"\", ROW(Temp!C$3:C$170)-MIN(ROW(Temp!C$3:C$170))+1), ROW(41:41))),\"\")","v":""},{"$f":"IFERROR(INDEX(Temp!D$3:D$170, SMALL(IF(ISERROR(Temp!D$3:D$170), \"\", ROW(Temp!D$3:D$170)-MIN(ROW(Temp!D$3:D$170))+1), ROW(41:41))),\"\")","v":""}]
[{"$f":"IFERROR(INDEX(Temp!A$3:A$170, SMALL(IF(ISERROR(Temp!A$3:A$170), \"\", ROW(Temp!A$3:A$170)-MIN(ROW(Temp!A$3:A$170))+1), ROW(42:42))),\"\")","v":""},{"$f":"IFERROR(INDEX(Temp!B$3:B$170, SMALL(IF(ISERROR(Temp!B$3:B$170), \"\", ROW(Temp!B$3:B$170)-MIN(ROW(Temp!B$3:B$170))+1), ROW(42:42))),\"\")","v":""},{"$f":"IFERROR(INDEX(Temp!C$3:C$170, SMALL(IF(ISERROR(Temp!C$3:C$170), \"\", ROW(Temp!C$3:C$170)-MIN(ROW(Temp!C$3:C$170))+1), ROW(42:42))),\"\")","v":""},{"$f":"IFERROR(INDEX(Temp!D$3:D$170, SMALL(IF(ISERROR(Temp!D$3:D$170), \"\", ROW(Temp!D$3:D$170)-MIN(ROW(Temp!D$3:D$170))+1), ROW(42:42))),\"\")","v":""}]
[{"$f":"IFERROR(INDEX(Temp!A$3:A$170, SMALL(IF(ISERROR(Temp!A$3:A$170), \"\", ROW(Temp!A$3:A$170)-MIN(ROW(Temp!A$3:A$170))+1), ROW(43:43))),\"\")","v":""},{"$f":"IFERROR(INDEX(Temp!B$3:B$170, SMALL(IF(ISERROR(Temp!B$3:B$170), \"\", ROW(Temp!B$3:B$170)-MIN(ROW(Temp!B$3:B$170))+1), ROW(43:43))),\"\")","v":""},{"$f":"IFERROR(INDEX(Temp!C$3:C$170, SMALL(IF(ISERROR(Temp!C$3:C$170), \"\", ROW(Temp!C$3:C$170)-MIN(ROW(Temp!C$3:C$170))+1), ROW(43:43))),\"\")","v":""},{"$f":"IFERROR(INDEX(Temp!D$3:D$170, SMALL(IF(ISERROR(Temp!D$3:D$170), \"\", ROW(Temp!D$3:D$170)-MIN(ROW(Temp!D$3:D$170))+1), ROW(43:43))),\"\")","v":""}]
[{"$f":"IFERROR(INDEX(Temp!A$3:A$170, SMALL(IF(ISERROR(Temp!A$3:A$170), \"\", ROW(Temp!A$3:A$170)-MIN(ROW(Temp!A$3:A$170))+1), ROW(44:44))),\"\")","v":""},{"$f":"IFERROR(INDEX(Temp!B$3:B$170, SMALL(IF(ISERROR(Temp!B$3:B$170), \"\", ROW(Temp!B$3:B$170)-MIN(ROW(Temp!B$3:B$170))+1), ROW(44:44))),\"\")","v":""},{"$f":"IFERROR(INDEX(Temp!C$3:C$170, SMALL(IF(ISERROR(Temp!C$3:C$170), \"\", ROW(Temp!C$3:C$170)-MIN(ROW(Temp!C$3:C$170))+1), ROW(44:44))),\"\")","v":""},{"$f":"IFERROR(INDEX(Temp!D$3:D$170, SMALL(IF(ISERROR(Temp!D$3:D$170), \"\", ROW(Temp!D$3:D$170)-MIN(ROW(Temp!D$3:D$170))+1), ROW(44:44))),\"\")","v":""}]
[{"$f":"IFERROR(INDEX(Temp!A$3:A$170, SMALL(IF(ISERROR(Temp!A$3:A$170), \"\", ROW(Temp!A$3:A$170)-MIN(ROW(Temp!A$3:A$170))+1), ROW(45:45))),\"\")","v":""},{"$f":"IFERROR(INDEX(Temp!B$3:B$170, SMALL(IF(ISERROR(Temp!B$3:B$170), \"\", ROW(Temp!B$3:B$170)-MIN(ROW(Temp!B$3:B$170))+1), ROW(45:45))),\"\")","v":""},{"$f":"IFERROR(INDEX(Temp!C$3:C$170, SMALL(IF(ISERROR(Temp!C$3:C$170), \"\", ROW(Temp!C$3:C$170)-MIN(ROW(Temp!C$3:C$170))+1), ROW(45:45))),\"\")","v":""},{"$f":"IFERROR(INDEX(Temp!D$3:D$170, SMALL(IF(ISERROR(Temp!D$3:D$170), \"\", ROW(Temp!D$3:D$170)-MIN(ROW(Temp!D$3:D$170))+1), ROW(45:45))),\"\")","v":""}]
[{"$f":"IFERROR(INDEX(Temp!A$3:A$170, SMALL(IF(ISERROR(Temp!A$3:A$170), \"\", ROW(Temp!A$3:A$170)-MIN(ROW(Temp!A$3:A$170))+1), ROW(46:46))),\"\")","v":""},{"$f":"IFERROR(INDEX(Temp!B$3:B$170, SMALL(IF(ISERROR(Temp!B$3:B$170), \"\", ROW(Temp!B$3:B$170)-MIN(ROW(Temp!B$3:B$170))+1), ROW(46:46))),\"\")","v":""},{"$f":"IFERROR(INDEX(Temp!C$3:C$170, SMALL(IF(ISERROR(Temp!C$3:C$170), \"\", ROW(Temp!C$3:C$170)-MIN(ROW(Temp!C$3:C$170))+1), ROW(46:46))),\"\")","v":""},{"$f":"IFERROR(INDEX(Temp!D$3:D$170, SMALL(IF(ISERROR(Temp!D$3:D$170), \"\", ROW(Temp!D$3:D$170)-MIN(ROW(Temp!D$3:D$170))+1), ROW(46:46))),\"\")","v":""}]
[{"$f":"IFERROR(INDEX(Temp!A$3:A$170, SMALL(IF(ISERROR(Temp!A$3:A$170), \"\", ROW(Temp!A$3:A$170)-MIN(ROW(Temp!A$3:A$170))+1), ROW(47:47))),\"\")","v":""},{"$f":"IFERROR(INDEX(Temp!B$3:B$170, SMALL(IF(ISERROR(Temp!B$3:B$170), \"\", ROW(Temp!B$3:B$170)-MIN(ROW(Temp!B$3:B$170))+1), ROW(47:47))),\"\")","v":""},{"$f":"IFERROR(INDEX(Temp!C$3:C$170, SMALL(IF(ISERROR(Temp!C$3:C$170), \"\", ROW(Temp!C$3:C$170)-MIN(ROW(Temp!C$3:C$170))+1), ROW(47:47))),\"\")","v":""},{"$f":"IFERROR(INDEX(Temp!D$3:D$170, SMALL(IF(ISERROR(Temp!D$3:D$170), \"\", ROW(Temp!D$3:D$170)-MIN(ROW(Temp!D$3:D$170))+1), ROW(47:47))),\"\")","v":""}]
[{"$f":"IFERROR(INDEX(Temp!A$3:A$170, SMALL(IF(ISERROR(Temp!A$3:A$170), \"\", ROW(Temp!A$3:A$170)-MIN(ROW(Temp!A$3:A$170))+1), ROW(48:48))),\"\")","v":""},{"$f":"IFERROR(INDEX(Temp!B$3:B$170, SMALL(IF(ISERROR(Temp!B$3:B$170), \"\", ROW(Temp!B$3:B$170)-MIN(ROW(Temp!B$3:B$170))+1), ROW(48:48))),\"\")","v":""},{"$f":"IFERROR(INDEX(Temp!C$3:C$170, SMALL(IF(ISERROR(Temp!C$3:C$170), \"\", ROW(Temp!C$3:C$170)-MIN(ROW(Temp!C$3:C$170))+1), ROW(48:48))),\"\")","v":""},{"$f":"IFERROR(INDEX(Temp!D$3:D$170, SMALL(IF(ISERROR(Temp!D$3:D$170), \"\", ROW(Temp!D$3:D$170)-MIN(ROW(Temp!D$3:D$170))+1), ROW(48:48))),\"\")","v":""}]
[{"$f":"IFERROR(INDEX(Temp!A$3:A$170, SMALL(IF(ISERROR(Temp!A$3:A$170), \"\", ROW(Temp!A$3:A$170)-MIN(ROW(Temp!A$3:A$170))+1), ROW(49:49))),\"\")","v":""},{"$f":"IFERROR(INDEX(Temp!B$3:B$170, SMALL(IF(ISERROR(Temp!B$3:B$170), \"\", ROW(Temp!B$3:B$170)-MIN(ROW(Temp!B$3:B$170))+1), ROW(49:49))),\"\")","v":""},{"$f":"IFERROR(INDEX(Temp!C$3:C$170, SMALL(IF(ISERROR(Temp!C$3:C$170), \"\", ROW(Temp!C$3:C$170)-MIN(ROW(Temp!C$3:C$170))+1), ROW(49:49))),\"\")","v":""},{"$f":"IFERROR(INDEX(Temp!D$3:D$170, SMALL(IF(ISERROR(Temp!D$3:D$170), \"\", ROW(Temp!D$3:D$170)-MIN(ROW(Temp!D$3:D$170))+1), ROW(49:49))),\"\")","v":""}]
[{"$f":"IFERROR(INDEX(Temp!A$3:A$170, SMALL(IF(ISERROR(Temp!A$3:A$170), \"\", ROW(Temp!A$3:A$170)-MIN(ROW(Temp!A$3:A$170))+1), ROW(50:50))),\"\")","v":""},{"$f":"IFERROR(INDEX(Temp!B$3:B$170, SMALL(IF(ISERROR(Temp!B$3:B$170), \"\", ROW(Temp!B$3:B$170)-MIN(ROW(Temp!B$3:B$170))+1), ROW(50:50))),\"\")","v":""},{"$f":"IFERROR(INDEX(Temp!C$3:C$170, SMALL(IF(ISERROR(Temp!C$3:C$170), \"\", ROW(Temp!C$3:C$170)-MIN(ROW(Temp!C$3:C$170))+1), ROW(50:50))),\"\")","v":""},{"$f":"IFERROR(INDEX(Temp!D$3:D$170, SMALL(IF(ISERROR(Temp!D$3:D$170), \"\", ROW(Temp!D$3:D$170)-MIN(ROW(Temp!D$3:D$170))+1), ROW(50:50))),\"\")","v":""}]
[{"$f":"IFERROR(INDEX(Temp!A$3:A$170, SMALL(IF(ISERROR(Temp!A$3:A$170), \"\", ROW(Temp!A$3:A$170)-MIN(ROW(Temp!A$3:A$170))+1), ROW(51:51))),\"\")","v":""},{"$f":"IFERROR(INDEX(Temp!B$3:B$170, SMALL(IF(ISERROR(Temp!B$3:B$170), \"\", ROW(Temp!B$3:B$170)-MIN(ROW(Temp!B$3:B$170))+1), ROW(51:51))),\"\")","v":""},{"$f":"IFERROR(INDEX(Temp!C$3:C$170, SMALL(IF(ISERROR(Temp!C$3:C$170), \"\", ROW(Temp!C$3:C$170)-MIN(ROW(Temp!C$3:C$170))+1), ROW(51:51))),\"\")","v":""},{"$f":"IFERROR(INDEX(Temp!D$3:D$170, SMALL(IF(ISERROR(Temp!D$3:D$170), \"\", ROW(Temp!D$3:D$170)-MIN(ROW(Temp!D$3:D$170))+1), ROW(51:51))),\"\")","v":""}]
[{"$f":"IFERROR(INDEX(Temp!A$3:A$170, SMALL(IF(ISERROR(Temp!A$3:A$170), \"\", ROW(Temp!A$3:A$170)-MIN(ROW(Temp!A$3:A$170))+1), ROW(52:52))),\"\")","v":""},{"$f":"IFERROR(INDEX(Temp!B$3:B$170, SMALL(IF(ISERROR(Temp!B$3:B$170), \"\", ROW(Temp!B$3:B$170)-MIN(ROW(Temp!B$3:B$170))+1), ROW(52:52))),\"\")","v":""},{"$f":"IFERROR(INDEX(Temp!C$3:C$170, SMALL(IF(ISERROR(Temp!C$3:C$170), \"\", ROW(Temp!C$3:C$170)-MIN(ROW(Temp!C$3:C$170))+1), ROW(52:52))),\"\")","v":""},{"$f":"IFERROR(INDEX(Temp!D$3:D$170, SMALL(IF(ISERROR(Temp!D$3:D$170), \"\", ROW(Temp!D$3:D$170)-MIN(ROW(Temp!D$3:D$170))+1), ROW(52:52))),\"\")","v":""}]
[{"$f":"IFERROR(INDEX(Temp!A$3:A$170, SMALL(IF(ISERROR(Temp!A$3:A$170), \"\", ROW(Temp!A$3:A$170)-MIN(ROW(Temp!A$3:A$170))+1), ROW(53:53))),\"\")","v":""},{"$f":"IFERROR(INDEX(Temp!B$3:B$170, SMALL(IF(ISERROR(Temp!B$3:B$170), \"\", ROW(Temp!B$3:B$170)-MIN(ROW(Temp!B$3:B$170))+1), ROW(53:53))),\"\")","v":""},{"$f":"IFERROR(INDEX(Temp!C$3:C$170, SMALL(IF(ISERROR(Temp!C$3:C$170), \"\", ROW(Temp!C$3:C$170)-MIN(ROW(Temp!C$3:C$170))+1), ROW(53:53))),\"\")","v":""},{"$f":"IFERROR(INDEX(Temp!D$3:D$170, SMALL(IF(ISERROR(Temp!D$3:D$170), \"\", ROW(Temp!D$3:D$170)-MIN(ROW(Temp!D$3:D$170))+1), ROW(53:53))),\"\")","v":""}]
[{"$f":"IFERROR(INDEX(Temp!A$3:A$170, SMALL(IF(ISERROR(Temp!A$3:A$170), \"\", ROW(Temp!A$3:A$170)-MIN(ROW(Temp!A$3:A$170))+1), ROW(54:54))),\"\")","v":""},{"$f":"IFERROR(INDEX(Temp!B$3:B$170, SMALL(IF(ISERROR(Temp!B$3:B$170), \"\", ROW(Temp!B$3:B$170)-MIN(ROW(Temp!B$3:B$170))+1), ROW(54:54))),\"\")","v":""},{"$f":"IFERROR(INDEX(Temp!C$3:C$170, SMALL(IF(ISERROR(Temp!C$3:C$170), \"\", ROW(Temp!C$3:C$170)-MIN(ROW(Temp!C$3:C$170))+1), ROW(54:54))),\"\")","v":""},{"$f":"IFERROR(INDEX(Temp!D$3:D$170, SMALL(IF(ISERROR(Temp!D$3:D$170), \"\", ROW(Temp!D$3:D$170)-MIN(ROW(Temp!D$3:D$170))+1), ROW(54:54))),\"\")","v":""}]
[{"$f":"IFERROR(INDEX(Temp!A$3:A$170, SMALL(IF(ISERROR(Temp!A$3:A$170), \"\", ROW(Temp!A$3:A$170)-MIN(ROW(Temp!A$3:A$170))+1), ROW(55:55))),\"\")","v":""},{"$f":"IFERROR(INDEX(Temp!B$3:B$170, SMALL(IF(ISERROR(Temp!B$3:B$170), \"\", ROW(Temp!B$3:B$170)-MIN(ROW(Temp!B$3:B$170))+1), ROW(55:55))),\"\")","v":""},{"$f":"IFERROR(INDEX(Temp!C$3:C$170, SMALL(IF(ISERROR(Temp!C$3:C$170), \"\", ROW(Temp!C$3:C$170)-MIN(ROW(Temp!C$3:C$170))+1), ROW(55:55))),\"\")","v":""},{"$f":"IFERROR(INDEX(Temp!D$3:D$170, SMALL(IF(ISERROR(Temp!D$3:D$170), \"\", ROW(Temp!D$3:D$170)-MIN(ROW(Temp!D$3:D$170))+1), ROW(55:55))),\"\")","v":""}]
[{"$f":"IFERROR(INDEX(Temp!A$3:A$170, SMALL(IF(ISERROR(Temp!A$3:A$170), \"\", ROW(Temp!A$3:A$170)-MIN(ROW(Temp!A$3:A$170))+1), ROW(56:56))),\"\")","v":""},{"$f":"IFERROR(INDEX(Temp!B$3:B$170, SMALL(IF(ISERROR(Temp!B$3:B$170), \"\", ROW(Temp!B$3:B$170)-MIN(ROW(Temp!B$3:B$170))+1), ROW(56:56))),\"\")","v":""},{"$f":"IFERROR(INDEX(Temp!C$3:C$170, SMALL(IF(ISERROR(Temp!C$3:C$170), \"\", ROW(Temp!C$3:C$170)-MIN(ROW(Temp!C$3:C$170))+1), ROW(56:56))),\"\")","v":""},{"$f":"IFERROR(INDEX(Temp!D$3:D$170, SMALL(IF(ISERROR(Temp!D$3:D$170), \"\", ROW(Temp!D$3:D$170)-MIN(ROW(Temp!D$3:D$170))+1), ROW(56:56))),\"\")","v":""}]
[{"$f":"IFERROR(INDEX(Temp!A$3:A$170, SMALL(IF(ISERROR(Temp!A$3:A$170), \"\", ROW(Temp!A$3:A$170)-MIN(ROW(Temp!A$3:A$170))+1), ROW(57:57))),\"\")","v":""},{"$f":"IFERROR(INDEX(Temp!B$3:B$170, SMALL(IF(ISERROR(Temp!B$3:B$170), \"\", ROW(Temp!B$3:B$170)-MIN(ROW(Temp!B$3:B$170))+1), ROW(57:57))),\"\")","v":""},{"$f":"IFERROR(INDEX(Temp!C$3:C$170, SMALL(IF(ISERROR(Temp!C$3:C$170), \"\", ROW(Temp!C$3:C$170)-MIN(ROW(Temp!C$3:C$170))+1), ROW(57:57))),\"\")","v":""},{"$f":"IFERROR(INDEX(Temp!D$3:D$170, SMALL(IF(ISERROR(Temp!D$3:D$170), \"\", ROW(Temp!D$3:D$170)-MIN(ROW(Temp!D$3:D$170))+1), ROW(57:57))),\"\")","v":""}]
[{"$f":"IFERROR(INDEX(Temp!A$3:A$170, SMALL(IF(ISERROR(Temp!A$3:A$170), \"\", ROW(Temp!A$3:A$170)-MIN(ROW(Temp!A$3:A$170))+1), ROW(58:58))),\"\")","v":""},{"$f":"IFERROR(INDEX(Temp!B$3:B$170, SMALL(IF(ISERROR(Temp!B$3:B$170), \"\", ROW(Temp!B$3:B$170)-MIN(ROW(Temp!B$3:B$170))+1), ROW(58:58))),\"\")","v":""},{"$f":"IFERROR(INDEX(Temp!C$3:C$170, SMALL(IF(ISERROR(Temp!C$3:C$170), \"\", ROW(Temp!C$3:C$170)-MIN(ROW(Temp!C$3:C$170))+1), ROW(58:58))),\"\")","v":""},{"$f":"IFERROR(INDEX(Temp!D$3:D$170, SMALL(IF(ISERROR(Temp!D$3:D$170), \"\", ROW(Temp!D$3:D$170)-MIN(ROW(Temp!D$3:D$170))+1), ROW(58:58))),\"\")","v":""}]
[{"$f":"IFERROR(INDEX(Temp!A$3:A$170, SMALL(IF(ISERROR(Temp!A$3:A$170), \"\", ROW(Temp!A$3:A$170)-MIN(ROW(Temp!A$3:A$170))+1), ROW(59:59))),\"\")","v":""},{"$f":"IFERROR(INDEX(Temp!B$3:B$170, SMALL(IF(ISERROR(Temp!B$3:B$170), \"\", ROW(Temp!B$3:B$170)-MIN(ROW(Temp!B$3:B$170))+1), ROW(59:59))),\"\")","v":""},{"$f":"IFERROR(INDEX(Temp!C$3:C$170, SMALL(IF(ISERROR(Temp!C$3:C$170), \"\", ROW(Temp!C$3:C$170)-MIN(ROW(Temp!C$3:C$170))+1), ROW(59:59))),\"\")","v":""},{"$f":"IFERROR(INDEX(Temp!D$3:D$170, SMALL(IF(ISERROR(Temp!D$3:D$170), \"\", ROW(Temp!D$3:D$170)-MIN(ROW(Temp!D$3:D$170))+1), ROW(59:59))),\"\")","v":""}]
[{"$f":"IFERROR(INDEX(Temp!A$3:A$170, SMALL(IF(ISERROR(Temp!A$3:A$170), \"\", ROW(Temp!A$3:A$170)-MIN(ROW(Temp!A$3:A$170))+1), ROW(60:60))),\"\")","v":""},{"$f":"IFERROR(INDEX(Temp!B$3:B$170, SMALL(IF(ISERROR(Temp!B$3:B$170), \"\", ROW(Temp!B$3:B$170)-MIN(ROW(Temp!B$3:B$170))+1), ROW(60:60))),\"\")","v":""},{"$f":"IFERROR(INDEX(Temp!C$3:C$170, SMALL(IF(ISERROR(Temp!C$3:C$170), \"\", ROW(Temp!C$3:C$170)-MIN(ROW(Temp!C$3:C$170))+1), ROW(60:60))),\"\")","v":""},{"$f":"IFERROR(INDEX(Temp!D$3:D$170, SMALL(IF(ISERROR(Temp!D$3:D$170), \"\", ROW(Temp!D$3:D$170)-MIN(ROW(Temp!D$3:D$170))+1), ROW(60:60))),\"\")","v":""}]
[{"$f":"IFERROR(INDEX(Temp!A$3:A$170, SMALL(IF(ISERROR(Temp!A$3:A$170), \"\", ROW(Temp!A$3:A$170)-MIN(ROW(Temp!A$3:A$170))+1), ROW(61:61))),\"\")","v":""},{"$f":"IFERROR(INDEX(Temp!B$3:B$170, SMALL(IF(ISERROR(Temp!B$3:B$170), \"\", ROW(Temp!B$3:B$170)-MIN(ROW(Temp!B$3:B$170))+1), ROW(61:61))),\"\")","v":""},{"$f":"IFERROR(INDEX(Temp!C$3:C$170, SMALL(IF(ISERROR(Temp!C$3:C$170), \"\", ROW(Temp!C$3:C$170)-MIN(ROW(Temp!C$3:C$170))+1), ROW(61:61))),\"\")","v":""},{"$f":"IFERROR(INDEX(Temp!D$3:D$170, SMALL(IF(ISERROR(Temp!D$3:D$170), \"\", ROW(Temp!D$3:D$170)-MIN(ROW(Temp!D$3:D$170))+1), ROW(61:61))),\"\")","v":""}]
[{"$f":"IFERROR(INDEX(Temp!A$3:A$170, SMALL(IF(ISERROR(Temp!A$3:A$170), \"\", ROW(Temp!A$3:A$170)-MIN(ROW(Temp!A$3:A$170))+1), ROW(62:62))),\"\")","v":""},{"$f":"IFERROR(INDEX(Temp!B$3:B$170, SMALL(IF(ISERROR(Temp!B$3:B$170), \"\", ROW(Temp!B$3:B$170)-MIN(ROW(Temp!B$3:B$170))+1), ROW(62:62))),\"\")","v":""},{"$f":"IFERROR(INDEX(Temp!C$3:C$170, SMALL(IF(ISERROR(Temp!C$3:C$170), \"\", ROW(Temp!C$3:C$170)-MIN(ROW(Temp!C$3:C$170))+1), ROW(62:62))),\"\")","v":""},{"$f":"IFERROR(INDEX(Temp!D$3:D$170, SMALL(IF(ISERROR(Temp!D$3:D$170), \"\", ROW(Temp!D$3:D$170)-MIN(ROW(Temp!D$3:D$170))+1), ROW(62:62))),\"\")","v":""}]
[{"$f":"IFERROR(INDEX(Temp!A$3:A$170, SMALL(IF(ISERROR(Temp!A$3:A$170), \"\", ROW(Temp!A$3:A$170)-MIN(ROW(Temp!A$3:A$170))+1), ROW(63:63))),\"\")","v":""},{"$f":"IFERROR(INDEX(Temp!B$3:B$170, SMALL(IF(ISERROR(Temp!B$3:B$170), \"\", ROW(Temp!B$3:B$170)-MIN(ROW(Temp!B$3:B$170))+1), ROW(63:63))),\"\")","v":""},{"$f":"IFERROR(INDEX(Temp!C$3:C$170, SMALL(IF(ISERROR(Temp!C$3:C$170), \"\", ROW(Temp!C$3:C$170)-MIN(ROW(Temp!C$3:C$170))+1), ROW(63:63))),\"\")","v":""},{"$f":"IFERROR(INDEX(Temp!D$3:D$170, SMALL(IF(ISERROR(Temp!D$3:D$170), \"\", ROW(Temp!D$3:D$170)-MIN(ROW(Temp!D$3:D$170))+1), ROW(63:63))),\"\")","v":""}]
[{"$f":"IFERROR(INDEX(Temp!A$3:A$170, SMALL(IF(ISERROR(Temp!A$3:A$170), \"\", ROW(Temp!A$3:A$170)-MIN(ROW(Temp!A$3:A$170))+1), ROW(64:64))),\"\")","v":""},{"$f":"IFERROR(INDEX(Temp!B$3:B$170, SMALL(IF(ISERROR(Temp!B$3:B$170), \"\", ROW(Temp!B$3:B$170)-MIN(ROW(Temp!B$3:B$170))+1), ROW(64:64))),\"\")","v":""},{"$f":"IFERROR(INDEX(Temp!C$3:C$170, SMALL(IF(ISERROR(Temp!C$3:C$170), \"\", ROW(Temp!C$3:C$170)-MIN(ROW(Temp!C$3:C$170))+1), ROW(64:64))),\"\")","v":""},{"$f":"IFERROR(INDEX(Temp!D$3:D$170, SMALL(IF(ISERROR(Temp!D$3:D$170), \"\", ROW(Temp!D$3:D$170)-MIN(ROW(Temp!D$3:D$170))+1), ROW(64:64))),\"\")","v":""}]
[{"$f":"IFERROR(INDEX(Temp!A$3:A$170, SMALL(IF(ISERROR(Temp!A$3:A$170), \"\", ROW(Temp!A$3:A$170)-MIN(ROW(Temp!A$3:A$170))+1), ROW(65:65))),\"\")","v":""},{"$f":"IFERROR(INDEX(Temp!B$3:B$170, SMALL(IF(ISERROR(Temp!B$3:B$170), \"\", ROW(Temp!B$3:B$170)-MIN(ROW(Temp!B$3:B$170))+1), ROW(65:65))),\"\")","v":""},{"$f":"IFERROR(INDEX(Temp!C$3:C$170, SMALL(IF(ISERROR(Temp!C$3:C$170), \"\", ROW(Temp!C$3:C$170)-MIN(ROW(Temp!C$3:C$170))+1), ROW(65:65))),\"\")","v":""},{"$f":"IFERROR(INDEX(Temp!D$3:D$170, SMALL(IF(ISERROR(Temp!D$3:D$170), \"\", ROW(Temp!D$3:D$170)-MIN(ROW(Temp!D$3:D$170))+1), ROW(65:65))),\"\")","v":""}]
[{"$f":"IFERROR(INDEX(Temp!A$3:A$170, SMALL(IF(ISERROR(Temp!A$3:A$170), \"\", ROW(Temp!A$3:A$170)-MIN(ROW(Temp!A$3:A$170))+1), ROW(66:66))),\"\")","v":""},{"$f":"IFERROR(INDEX(Temp!B$3:B$170, SMALL(IF(ISERROR(Temp!B$3:B$170), \"\", ROW(Temp!B$3:B$170)-MIN(ROW(Temp!B$3:B$170))+1), ROW(66:66))),\"\")","v":""},{"$f":"IFERROR(INDEX(Temp!C$3:C$170, SMALL(IF(ISERROR(Temp!C$3:C$170), \"\", ROW(Temp!C$3:C$170)-MIN(ROW(Temp!C$3:C$170))+1), ROW(66:66))),\"\")","v":""},{"$f":"IFERROR(INDEX(Temp!D$3:D$170, SMALL(IF(ISERROR(Temp!D$3:D$170), \"\", ROW(Temp!D$3:D$170)-MIN(ROW(Temp!D$3:D$170))+1), ROW(66:66))),\"\")","v":""}]
[{"$f":"IFERROR(INDEX(Temp!A$3:A$170, SMALL(IF(ISERROR(Temp!A$3:A$170), \"\", ROW(Temp!A$3:A$170)-MIN(ROW(Temp!A$3:A$170))+1), ROW(67:67))),\"\")","v":""},{"$f":"IFERROR(INDEX(Temp!B$3:B$170, SMALL(IF(ISERROR(Temp!B$3:B$170), \"\", ROW(Temp!B$3:B$170)-MIN(ROW(Temp!B$3:B$170))+1), ROW(67:67))),\"\")","v":""},{"$f":"IFERROR(INDEX(Temp!C$3:C$170, SMALL(IF(ISERROR(Temp!C$3:C$170), \"\", ROW(Temp!C$3:C$170)-MIN(ROW(Temp!C$3:C$170))+1), ROW(67:67))),\"\")","v":""},{"$f":"IFERROR(INDEX(Temp!D$3:D$170, SMALL(IF(ISERROR(Temp!D$3:D$170), \"\", ROW(Temp!D$3:D$170)-MIN(ROW(Temp!D$3:D$170))+1), ROW(67:67))),\"\")","v":""}]
[{"$f":"IFERROR(INDEX(Temp!A$3:A$170, SMALL(IF(ISERROR(Temp!A$3:A$170), \"\", ROW(Temp!A$3:A$170)-MIN(ROW(Temp!A$3:A$170))+1), ROW(68:68))),\"\")","v":""},{"$f":"IFERROR(INDEX(Temp!B$3:B$170, SMALL(IF(ISERROR(Temp!B$3:B$170), \"\", ROW(Temp!B$3:B$170)-MIN(ROW(Temp!B$3:B$170))+1), ROW(68:68))),\"\")","v":""},{"$f":"IFERROR(INDEX(Temp!C$3:C$170, SMALL(IF(ISERROR(Temp!C$3:C$170), \"\", ROW(Temp!C$3:C$170)-MIN(ROW(Temp!C$3:C$170))+1), ROW(68:68))),\"\")","v":""},{"$f":"IFERROR(INDEX(Temp!D$3:D$170, SMALL(IF(ISERROR(Temp!D$3:D$170), \"\", ROW(Temp!D$3:D$170)-MIN(ROW(Temp!D$3:D$170))+1), ROW(68:68))),\"\")","v":""}]
[{"$f":"IFERROR(INDEX(Temp!A$3:A$170, SMALL(IF(ISERROR(Temp!A$3:A$170), \"\", ROW(Temp!A$3:A$170)-MIN(ROW(Temp!A$3:A$170))+1), ROW(69:69))),\"\")","v":""},{"$f":"IFERROR(INDEX(Temp!B$3:B$170, SMALL(IF(ISERROR(Temp!B$3:B$170), \"\", ROW(Temp!B$3:B$170)-MIN(ROW(Temp!B$3:B$170))+1), ROW(69:69))),\"\")","v":""},{"$f":"IFERROR(INDEX(Temp!C$3:C$170, SMALL(IF(ISERROR(Temp!C$3:C$170), \"\", ROW(Temp!C$3:C$170)-MIN(ROW(Temp!C$3:C$170))+1), ROW(69:69))),\"\")","v":""},{"$f":"IFERROR(INDEX(Temp!D$3:D$170, SMALL(IF(ISERROR(Temp!D$3:D$170), \"\", ROW(Temp!D$3:D$170)-MIN(ROW(Temp!D$3:D$170))+1), ROW(69:69))),\"\")","v":""}]
[{"$f":"IFERROR(INDEX(Temp!A$3:A$170, SMALL(IF(ISERROR(Temp!A$3:A$170), \"\", ROW(Temp!A$3:A$170)-MIN(ROW(Temp!A$3:A$170))+1), ROW(70:70))),\"\")","v":""},{"$f":"IFERROR(INDEX(Temp!B$3:B$170, SMALL(IF(ISERROR(Temp!B$3:B$170), \"\", ROW(Temp!B$3:B$170)-MIN(ROW(Temp!B$3:B$170))+1), ROW(70:70))),\"\")","v":""},{"$f":"IFERROR(INDEX(Temp!C$3:C$170, SMALL(IF(ISERROR(Temp!C$3:C$170), \"\", ROW(Temp!C$3:C$170)-MIN(ROW(Temp!C$3:C$170))+1), ROW(70:70))),\"\")","v":""},{"$f":"IFERROR(INDEX(Temp!D$3:D$170, SMALL(IF(ISERROR(Temp!D$3:D$170), \"\", ROW(Temp!D$3:D$170)-MIN(ROW(Temp!D$3:D$170))+1), ROW(70:70))),\"\")","v":""}]
[{"$f":"IFERROR(INDEX(Temp!A$3:A$170, SMALL(IF(ISERROR(Temp!A$3:A$170), \"\", ROW(Temp!A$3:A$170)-MIN(ROW(Temp!A$3:A$170))+1), ROW(71:71))),\"\")","v":""},{"$f":"IFERROR(INDEX(Temp!B$3:B$170, SMALL(IF(ISERROR(Temp!B$3:B$170), \"\", ROW(Temp!B$3:B$170)-MIN(ROW(Temp!B$3:B$170))+1), ROW(71:71))),\"\")","v":""},{"$f":"IFERROR(INDEX(Temp!C$3:C$170, SMALL(IF(ISERROR(Temp!C$3:C$170), \"\", ROW(Temp!C$3:C$170)-MIN(ROW(Temp!C$3:C$170))+1), ROW(71:71))),\"\")","v":""},{"$f":"IFERROR(INDEX(Temp!D$3:D$170, SMALL(IF(ISERROR(Temp!D$3:D$170), \"\", ROW(Temp!D$3:D$170)-MIN(ROW(Temp!D$3:D$170))+1), ROW(71:71))),\"\")","v":""}]
[{"$f":"IFERROR(INDEX(Temp!A$3:A$170, SMALL(IF(ISERROR(Temp!A$3:A$170), \"\", ROW(Temp!A$3:A$170)-MIN(ROW(Temp!A$3:A$170))+1), ROW(72:72))),\"\")","v":""},{"$f":"IFERROR(INDEX(Temp!B$3:B$170, SMALL(IF(ISERROR(Temp!B$3:B$170), \"\", ROW(Temp!B$3:B$170)-MIN(ROW(Temp!B$3:B$170))+1), ROW(72:72))),\"\")","v":""},{"$f":"IFERROR(INDEX(Temp!C$3:C$170, SMALL(IF(ISERROR(Temp!C$3:C$170), \"\", ROW(Temp!C$3:C$170)-MIN(ROW(Temp!C$3:C$170))+1), ROW(72:72))),\"\")","v":""},{"$f":"IFERROR(INDEX(Temp!D$3:D$170, SMALL(IF(ISERROR(Temp!D$3:D$170), \"\", ROW(Temp!D$3:D$170)-MIN(ROW(Temp!D$3:D$170))+1), ROW(72:72))),\"\")","v":""}]
[{"$f":"IFERROR(INDEX(Temp!A$3:A$170, SMALL(IF(ISERROR(Temp!A$3:A$170), \"\", ROW(Temp!A$3:A$170)-MIN(ROW(Temp!A$3:A$170))+1), ROW(73:73))),\"\")","v":""},{"$f":"IFERROR(INDEX(Temp!B$3:B$170, SMALL(IF(ISERROR(Temp!B$3:B$170), \"\", ROW(Temp!B$3:B$170)-MIN(ROW(Temp!B$3:B$170))+1), ROW(73:73))),\"\")","v":""},{"$f":"IFERROR(INDEX(Temp!C$3:C$170, SMALL(IF(ISERROR(Temp!C$3:C$170), \"\", ROW(Temp!C$3:C$170)-MIN(ROW(Temp!C$3:C$170))+1), ROW(73:73))),\"\")","v":""},{"$f":"IFERROR(INDEX(Temp!D$3:D$170, SMALL(IF(ISERROR(Temp!D$3:D$170), \"\", ROW(Temp!D$3:D$170)-MIN(ROW(Temp!D$3:D$170))+1), ROW(73:73))),\"\")","v":""}]